BEGIN:VCALENDAR
VERSION:2.0
PRODID:-//Race CONNECTIONS - ECPv6.15.20//NONSGML v1.0//EN
CALSCALE:GREGORIAN
METHOD:PUBLISH
X-ORIGINAL-URL:https://raceconnections.com
X-WR-CALDESC:Events for Race CONNECTIONS
REFRESH-INTERVAL;VALUE=DURATION:PT1H
X-Robots-Tag:noindex
X-PUBLISHED-TTL:PT1H
BEGIN:VTIMEZONE
TZID:Europe/London
BEGIN:DAYLIGHT
TZOFFSETFROM:+0000
TZOFFSETTO:+0100
TZNAME:BST
DTSTART:20200329T010000
END:DAYLIGHT
BEGIN:STANDARD
TZOFFSETFROM:+0100
TZOFFSETTO:+0000
TZNAME:GMT
DTSTART:20201025T010000
END:STANDARD
BEGIN:DAYLIGHT
TZOFFSETFROM:+0000
TZOFFSETTO:+0100
TZNAME:BST
DTSTART:20210328T010000
END:DAYLIGHT
BEGIN:STANDARD
TZOFFSETFROM:+0100
TZOFFSETTO:+0000
TZNAME:GMT
DTSTART:20211031T010000
END:STANDARD
BEGIN:DAYLIGHT
TZOFFSETFROM:+0000
TZOFFSETTO:+0100
TZNAME:BST
DTSTART:20220327T010000
END:DAYLIGHT
BEGIN:STANDARD
TZOFFSETFROM:+0100
TZOFFSETTO:+0000
TZNAME:GMT
DTSTART:20221030T010000
END:STANDARD
END:VTIMEZONE
BEGIN:VEVENT
DTSTART;TZID=Europe/London:20211205T080000
DTEND;TZID=Europe/London:20211205T170000
DTSTAMP:20260425T180000
CREATED:20211001T145945Z
LAST-MODIFIED:20211001T145945Z
UID:10005454-1638691200-1638723600@raceconnections.com
SUMMARY:Shropshire Santa 5k Run
DESCRIPTION:Come along for Shropshire’s largest Santa Run and be part of the Santa invasion. With a closed-road\, flat run\, the Oswestry Santa 5k sees thousands of runners come out. So come to burn off those mince pies and run with family and friends this December. \nWhere and when\nLocation\nSmithfield St\, Oswestry SY11 2EG\, UK\nStart times\n5k:\n9:00 am \nRoute information\nThe Shropshire Santa Run takes place on Shropshire’s fully-closed roads. Starting and finishing on Church Street\, runners will be taken around the town and show their Santa costumes to the locals. \nWhat’s included\n– 5-piece Santa suit\n– Christmas themed Finisher’s Medal\n– Fully closed roads\n– Festive atmosphere\n– Winter Buff\n– Donation to Lingen Davies \nHow to get there\nSmithfield St\, Oswestry SY11 2EG\, UK \nParking\nThere are two car parks which are close to the event site:\nBailey Head car park SY11 1PZ\nSalop Rd Central Car Park SY11 2NR\nThe organisers advise entrants to park on the outskirts of town and walk to the event. \nEvent day logistics\n08:00 Arrive in Oswestry\n08:45 Warm-up starts\n09:00 Race start\n10:10 Cut-off time \nAge Requirements\nAll entrants must be 11 and older to enter the event. \nRace Packs\nRace packs will be posted to participants the week before the event. For those entering who live outside of the UK and those who enter close to the event date\, race packs will be collected on the day from Race HQ. \nCut-off Time\nThere will be a 70-minute cut-off in place at the event. Roads will reopen in line with this\, and runners falling behind this time will be asked to stop.\nToilets \nThere will be toilets available in the public park\, and extra toilets will be placed in the walkway next to the start.\nPara-Athletes\nParticipants with disabilities should contact the event organiser at hello@adrenalinesportingevents.co.uk to discuss their needs.\nThere is no dedicated wheelchair race at the event\, but accompanied wheelchairs\, visually impaired and learning disabled athletes are welcome. Entrants are asked to choose their start position with care; typically\, the back of the race is the safest.\nWheelchair users are advised that there are some speed bumps on the course. \nSpectator Info\nSpectators are encouraged to watch the event from the start and finish on Church Street. \n \nRace Organiser: Adrenaline Sporting Events
URL:https://raceconnections.com/event/shropshire-santa-5k-run/
LOCATION:Smithfield Street\, Smithfield St\, Oswestry SY11 2EG\, UK\, Oswestry\, England\, SY11 2E\, United Kingdom
CATEGORIES:5K Run,Junior (13-19),Running
ATTACH;FMTTYPE=image/png:https://raceconnections.com/wp-content/uploads/2021/10/Screenshot-2021-10-01-at-10.54.20-PM.png
GEO:52.8576491;-3.0556249
X-APPLE-STRUCTURED-LOCATION;VALUE=URI;X-ADDRESS=Smithfield Street Smithfield St Oswestry SY11 2EG UK Oswestry England SY11 2E United Kingdom;X-APPLE-RADIUS=500;X-TITLE=Smithfield St\, Oswestry SY11 2EG\, UK:geo:-3.0556249,52.8576491
END:VEVENT
END:VCALENDAR