BEGIN:VCALENDAR
VERSION:2.0
PRODID:-//Race CONNECTIONS - ECPv6.15.20//NONSGML v1.0//EN
CALSCALE:GREGORIAN
METHOD:PUBLISH
X-ORIGINAL-URL:https://raceconnections.com
X-WR-CALDESC:Events for Race CONNECTIONS
REFRESH-INTERVAL;VALUE=DURATION:PT1H
X-Robots-Tag:noindex
X-PUBLISHED-TTL:PT1H
BEGIN:VTIMEZONE
TZID:Europe/London
BEGIN:DAYLIGHT
TZOFFSETFROM:+0000
TZOFFSETTO:+0100
TZNAME:BST
DTSTART:20210328T010000
END:DAYLIGHT
BEGIN:STANDARD
TZOFFSETFROM:+0100
TZOFFSETTO:+0000
TZNAME:GMT
DTSTART:20211031T010000
END:STANDARD
BEGIN:DAYLIGHT
TZOFFSETFROM:+0000
TZOFFSETTO:+0100
TZNAME:BST
DTSTART:20220327T010000
END:DAYLIGHT
BEGIN:STANDARD
TZOFFSETFROM:+0100
TZOFFSETTO:+0000
TZNAME:GMT
DTSTART:20221030T010000
END:STANDARD
BEGIN:DAYLIGHT
TZOFFSETFROM:+0000
TZOFFSETTO:+0100
TZNAME:BST
DTSTART:20230326T010000
END:DAYLIGHT
BEGIN:STANDARD
TZOFFSETFROM:+0100
TZOFFSETTO:+0000
TZNAME:GMT
DTSTART:20231029T010000
END:STANDARD
END:VTIMEZONE
BEGIN:VEVENT
DTSTART;VALUE=DATE:20221105
DTEND;VALUE=DATE:20221113
DTSTAMP:20260425T004233
CREATED:20211216T184155Z
LAST-MODIFIED:20211216T184214Z
UID:10005469-1667606400-1668297599@raceconnections.com
SUMMARY:ULTRA X MEXICO
DESCRIPTION:Ultra X Mexico takes participants to the Sierra Madre mountains\, in the southwest of the state of Chihuahua. The spectacular mountain trails of the Copper Canyons found here are the home of the original ultra runners\, an indigenous tribe called the Tarahumara Indians\, famously featured in the book Born to Run. \n \nThe Tarahumara are otherwise known as the Ráramuri\, meaning “those who run fast”. Competitors will have a rare chance to find out the truth of this for themselves.
URL:https://raceconnections.com/event/ultra-x-mexico-2/
LOCATION:Chihuahua\, Blvd. Juan Pablo II 14\, Chihuahua\, Chih\, 31390\, Mexico
CATEGORIES:Ultra Marathon
ATTACH;FMTTYPE=image/jpeg:https://raceconnections.com/wp-content/uploads/2021/12/Ultra-Marathon-Routes.jpg
ORGANIZER;CN="Ultra X":MAILTO:contact@ultra-x.co
GEO:28.704153;-105.9691673
X-APPLE-STRUCTURED-LOCATION;VALUE=URI;X-ADDRESS=Chihuahua Blvd. Juan Pablo II 14 Chihuahua Chih 31390 Mexico;X-APPLE-RADIUS=500;X-TITLE=Blvd. Juan Pablo II 14:geo:-105.9691673,28.704153
END:VEVENT
END:VCALENDAR