BEGIN:VCALENDAR
VERSION:2.0
PRODID:-//Race CONNECTIONS - ECPv6.15.20//NONSGML v1.0//EN
CALSCALE:GREGORIAN
METHOD:PUBLISH
X-WR-CALNAME:Race CONNECTIONS
X-ORIGINAL-URL:https://raceconnections.com
X-WR-CALDESC:Events for Race CONNECTIONS
REFRESH-INTERVAL;VALUE=DURATION:PT1H
X-Robots-Tag:noindex
X-PUBLISHED-TTL:PT1H
BEGIN:VTIMEZONE
TZID:Europe/London
BEGIN:DAYLIGHT
TZOFFSETFROM:+0000
TZOFFSETTO:+0100
TZNAME:BST
DTSTART:20240331T010000
END:DAYLIGHT
BEGIN:STANDARD
TZOFFSETFROM:+0100
TZOFFSETTO:+0000
TZNAME:GMT
DTSTART:20241027T010000
END:STANDARD
BEGIN:DAYLIGHT
TZOFFSETFROM:+0000
TZOFFSETTO:+0100
TZNAME:BST
DTSTART:20250330T010000
END:DAYLIGHT
BEGIN:STANDARD
TZOFFSETFROM:+0100
TZOFFSETTO:+0000
TZNAME:GMT
DTSTART:20251026T010000
END:STANDARD
BEGIN:DAYLIGHT
TZOFFSETFROM:+0000
TZOFFSETTO:+0100
TZNAME:BST
DTSTART:20260329T010000
END:DAYLIGHT
BEGIN:STANDARD
TZOFFSETFROM:+0100
TZOFFSETTO:+0000
TZNAME:GMT
DTSTART:20261025T010000
END:STANDARD
END:VTIMEZONE
BEGIN:VEVENT
DTSTART;TZID=Europe/London:20250913T000000
DTEND;TZID=Europe/London:20250914T235959
DTSTAMP:20260420T045842
CREATED:20250814T135959Z
LAST-MODIFIED:20250814T140002Z
UID:10006890-1757721600-1757894399@raceconnections.com
SUMMARY:Ultra X England by HYSTRIDE
DESCRIPTION:Last remaining places available\nUltra X England by HYSTRIDE takes place in the Peak District National Park in September each year. The event offers six race distances: 110km\, 110km in two days\, 60km\, 50km\, 25km and The Dash (12km).\n\nUnder 23’s can participate for free across all race distances.\n\nUltra X England by HYSTRIDE races are UTMB® Index Races\, in the 100k\, 50k and 25k categories respectively.\n\n\n\n 
URL:https://raceconnections.com/event/ultra-x-england-by-hystride/
CATEGORIES:Ultra Marathon
ATTACH;FMTTYPE=image/jpeg:https://raceconnections.com/wp-content/uploads/2025/08/Ultra-X-England-8-1.jpeg
ORGANIZER;CN="Ultra X":MAILTO:contact@ultra-x.co
END:VEVENT
END:VCALENDAR