BEGIN:VCALENDAR
VERSION:2.0
PRODID:-//Race CONNECTIONS - ECPv6.15.20//NONSGML v1.0//EN
CALSCALE:GREGORIAN
METHOD:PUBLISH
X-WR-CALNAME:Race CONNECTIONS
X-ORIGINAL-URL:https://raceconnections.com
X-WR-CALDESC:Events for Race CONNECTIONS
REFRESH-INTERVAL;VALUE=DURATION:PT1H
X-Robots-Tag:noindex
X-PUBLISHED-TTL:PT1H
BEGIN:VTIMEZONE
TZID:Asia/Kuala_Lumpur
BEGIN:STANDARD
TZOFFSETFROM:+0800
TZOFFSETTO:+0800
TZNAME:+08
DTSTART:20160101T000000
END:STANDARD
END:VTIMEZONE
BEGIN:VTIMEZONE
TZID:Asia/Kuching
BEGIN:STANDARD
TZOFFSETFROM:+0800
TZOFFSETTO:+0800
TZNAME:+08
DTSTART:20160101T000000
END:STANDARD
END:VTIMEZONE
BEGIN:VEVENT
DTSTART;TZID=Asia/Kuala_Lumpur:20170729T200000
DTEND;TZID=Asia/Kuala_Lumpur:20170729T200000
DTSTAMP:20260422T123725
CREATED:20170609T043739Z
LAST-MODIFIED:20171011T090157Z
UID:10002812-1501358400-1501358400@raceconnections.com
SUMMARY:Electric Run Malaysia 2017
DESCRIPTION:Electric Run Malaysia Event\nAmMetLife Electric Run Recharged is one of the world’s most colourful and musical 5km night fun runs. Our 2017 RECHARGED World Tour will be amping up healthy living by taking you on a 5km journey through our seven unique course lands\, with all of them featuring a variety of lights and sounds.  \nBecome a part of the show with the ELECTROBAND\, our exclusive LED-powered bracelet that will connect you to thousands of your new best friends. Feel the beat as the pulsating light from your bracelet guides you to themed dance party zones\, accompanied by music every kilometer of your run. \nGo back in time at DISCO\, celebrate the marriage of lights and sounds at EDM\, enjoy the beats at HIP HOP\, and sing-a-long to the most current pop music you and your friends love at POLYPHONICS.  \nEnd your night on a high note as you experience the excitement\, energy\, and soundscape at the Finish Line before dancing your night away at our celebration concert. \nThis is your nightlife\, RECHARGED!
URL:https://raceconnections.com/event/electric-run-malaysia-2017/
LOCATION:Anjung Floria\,\, Anjung Floria\, Presint 4\,\, Putrajaya\, 62000\, Malaysia
CATEGORIES:Running
ATTACH;FMTTYPE=image/jpeg:https://raceconnections.com/wp-content/uploads/2017/06/Electric-Run-Malaysia-2017.jpg
ORGANIZER;CN="The Livescape Group":MAILTO:ask@livescape.asia
GEO:2.9128341;101.6789124
X-APPLE-STRUCTURED-LOCATION;VALUE=URI;X-ADDRESS=Anjung Floria Anjung Floria Presint 4 Putrajaya 62000 Malaysia;X-APPLE-RADIUS=500;X-TITLE=Anjung Floria\, Presint 4\,:geo:101.6789124,2.9128341
END:VEVENT
BEGIN:VEVENT
DTSTART;VALUE=DATE:20170730
DTEND;VALUE=DATE:20170731
DTSTAMP:20260422T123725
CREATED:20170628T052958Z
LAST-MODIFIED:20171010T034428Z
UID:10002823-1501372800-1501459199@raceconnections.com
SUMMARY:The Wonder Women Run 2017
DESCRIPTION:Wonder Women Run Event\n \nAre you someone that can juggle few task at a time? a mum\, a care giver\, a staff and weekend warrior that run? Come and join us for our Wonder Women road run on 30th July 2017. \nThis run which is organised by Sarawak Federation of Women’s Institute in conjunction of their 55 years anniversary will promise fun and an enjoyable run for all families. \nThis charity run is to raise Breast Cancer awareness via 2 charity body which is Pink Ribbon Support Group and Sarawak Breast Cancer Support Group will take place at Old Dun at Petra Jaya. \nIts open for man too so sign up today!  \nWonder Women Run 2017 is organised in collaboration with Sarawak Breast Cancer Group & Pink Ribbon Support Group Sarawak. The race features 3.5km run and  run. \nLimited spots are available so be sure to reserve yours now while there is still time and be a part of a good cause.
URL:https://raceconnections.com/event/wonder-women-run-2017/
LOCATION:OLD DUN\, Petra Jaya\, OLD DUN\, Petra Jaya\, Kuching\, Sarawak\, Malaysia
CATEGORIES:Running
ATTACH;FMTTYPE=image/jpeg:https://raceconnections.com/wp-content/uploads/2017/06/The-Wonder-Women-Run-2017-Race-Connections-.jpg
ORGANIZER;CN="Grit Events":MAILTO:gritevent@gmail.com
GEO:1.5693278;110.3505352
X-APPLE-STRUCTURED-LOCATION;VALUE=URI;X-ADDRESS=OLD DUN Petra Jaya OLD DUN Petra Jaya Kuching Sarawak Malaysia;X-APPLE-RADIUS=500;X-TITLE=OLD DUN\, Petra Jaya:geo:110.3505352,1.5693278
END:VEVENT
BEGIN:VEVENT
DTSTART;TZID=Asia/Kuala_Lumpur:20170730T080000
DTEND;TZID=Asia/Kuala_Lumpur:20170730T170000
DTSTAMP:20260422T123725
CREATED:20170411T135507Z
LAST-MODIFIED:20170411T141047Z
UID:10002777-1501401600-1501434000@raceconnections.com
SUMMARY:IJM Duo Highway Challenge 2017 - BESRAYA Highway Challenge
DESCRIPTION:Details for the upcoming IJM Duo Highway Challenge 2017 – BESRAYA Highway Challenge are as listed below. \nBESRAYA HIGHWAY CHALLENGE [E9] \nDate : 30 July 2017 \nStart/Finish Venue : Besraya Highway (Loke Yew Toll) \n13km Challenge Run \n6km Run \nRegistration opens on 13 April 2017
URL:https://raceconnections.com/event/ijm-duo-highway-challenge-2017-besraya-highway-challenge/
LOCATION:Besraya Highway (Loke Yew Toll)\, Plaza Tol Loke Yew\, Lebuhraya Sungai Besi\, Kuala Lumpur\, 56100 \, Malaysia
CATEGORIES:Running
ATTACH;FMTTYPE=image/jpeg:https://raceconnections.com/wp-content/uploads/2017/04/IJM-Duo-Highway-Challenge-2017.jpg
ORGANIZER;CN="Besraya%2C NPE & EC Pixels":MAILTO:info@twoz26.com
GEO:3.120818;101.7246669
X-APPLE-STRUCTURED-LOCATION;VALUE=URI;X-ADDRESS=Besraya Highway (Loke Yew Toll) Plaza Tol Loke Yew Lebuhraya Sungai Besi Kuala Lumpur 56100  Malaysia;X-APPLE-RADIUS=500;X-TITLE=Plaza Tol Loke Yew\, Lebuhraya Sungai Besi:geo:101.7246669,3.120818
END:VEVENT
END:VCALENDAR