BEGIN:VCALENDAR
VERSION:2.0
PRODID:-//Race CONNECTIONS - ECPv6.15.20//NONSGML v1.0//EN
CALSCALE:GREGORIAN
METHOD:PUBLISH
X-WR-CALNAME:Race CONNECTIONS
X-ORIGINAL-URL:https://raceconnections.com
X-WR-CALDESC:Events for Race CONNECTIONS
REFRESH-INTERVAL;VALUE=DURATION:PT1H
X-Robots-Tag:noindex
X-PUBLISHED-TTL:PT1H
BEGIN:VTIMEZONE
TZID:Europe/London
BEGIN:DAYLIGHT
TZOFFSETFROM:+0000
TZOFFSETTO:+0100
TZNAME:BST
DTSTART:20190331T010000
END:DAYLIGHT
BEGIN:STANDARD
TZOFFSETFROM:+0100
TZOFFSETTO:+0000
TZNAME:GMT
DTSTART:20191027T010000
END:STANDARD
BEGIN:DAYLIGHT
TZOFFSETFROM:+0000
TZOFFSETTO:+0100
TZNAME:BST
DTSTART:20200329T010000
END:DAYLIGHT
BEGIN:STANDARD
TZOFFSETFROM:+0100
TZOFFSETTO:+0000
TZNAME:GMT
DTSTART:20201025T010000
END:STANDARD
BEGIN:DAYLIGHT
TZOFFSETFROM:+0000
TZOFFSETTO:+0100
TZNAME:BST
DTSTART:20210328T010000
END:DAYLIGHT
BEGIN:STANDARD
TZOFFSETFROM:+0100
TZOFFSETTO:+0000
TZNAME:GMT
DTSTART:20211031T010000
END:STANDARD
END:VTIMEZONE
BEGIN:VEVENT
DTSTART;VALUE=DATE:20200629
DTEND;VALUE=DATE:20200630
DTSTAMP:20260422T090127
CREATED:20200309T062449Z
LAST-MODIFIED:20200309T062449Z
UID:10005316-1593388800-1593475199@raceconnections.com
SUMMARY:2020 Deva Aquathlon 2
DESCRIPTION:The standard swim course consists of 2 laps of approx 375Mtrs. With an Australian exit at the end of the first lap. \nThe athletes then transition within the Rowing Club grounds before exiting along the riverside path for a two lap run totalling 5km round the Chester Meadows finishing back within the rowing club complex. \nA shorter option is also available as a single lap 375mtr swim and one lap run of 2.5km. \nEnter a single race or the series at 4 for the price of 3. \nSprint Aquathlon \n\n\n\nSWIM\n750m / 2 Laps\n\n\nRUN\n5000m\n\n\n\n  \nSuper Sprint Aquathlon \n\n\n\nSWIM\n375m / 1 Lap\n\n\nRUN\n2500m\n\n\n\nEnter a single race or the series at 4 for the price of 3. \n[fusion_button link=”https://chestertri.niftyentries.com/Deva-Aquathlon-2-2020&#8243; text_transform=”” title=”” target=”_blank” link_attributes=”” alignment=”center” modal=”” hide_on_mobile=”small-visibility\,medium-visibility\,large-visibility” class=”” id=”” s2id_autogen16=”” s2id_autogen16_search=”” color=”default” button_gradient_top_color=”” button_gradient_bottom_color=”” button_gradient_top_color_hover=”” button_gradient_bottom_color_hover=”” accent_color=”” accent_hover_color=”” type=”” bevel_color=”” border_width=”” border_radius=”” border_color=”” border_hover_color=”” size=”” stretch=”default” icon=”” icon_position=”left” icon_divider=”no” s2id_autogen17=”” s2id_autogen17_search=”” animation_type=”” animation_direction=”left” animation_speed=”0.3″ s2id_autogen18=”” s2id_autogen18_search=”” animation_offset=””]Register Here[/fusion_button]
URL:https://raceconnections.com/event/2020-deva-aquathlon-2/
LOCATION:Lower Park Road\, CH4 7BB Chester\, Cheshire\, United Kingdom
CATEGORIES:Aquathlon
ATTACH;FMTTYPE=image/jpeg:https://raceconnections.com/wp-content/uploads/2020/03/Deva-Aqualthon-2.jpg
GEO:53.1890856;-2.8781718
X-APPLE-STRUCTURED-LOCATION;VALUE=URI;X-ADDRESS=Lower Park Road CH4 7BB Chester Cheshire United Kingdom;X-APPLE-RADIUS=500;X-TITLE=CH4 7BB Chester:geo:-2.8781718,53.1890856
END:VEVENT
BEGIN:VEVENT
DTSTART;VALUE=DATE:20200704
DTEND;VALUE=DATE:20200705
DTSTAMP:20260422T090127
CREATED:20191213T075042Z
LAST-MODIFIED:20191213T075437Z
UID:10005157-1593820800-1593907199@raceconnections.com
SUMMARY:Windermere Triathlon
DESCRIPTION:A fun and picturesque triathlon next to Lake Windermere. \nOlympic distance triathlon into its 5th year taking in the most iconic lake and scenery in Cumbria. This Triathlon event in the magnificent Lake District which includes the excitement of racing next to Lake Windermere\, with transition at Cockshott Point in Bowness\, a cycle around the shores of the lake into Ambleside and back. The run takes you on a number of loops depending on the distance\, towards\, around\, then turning back towards the Cockshott point. \n \nSPRINT DISTANCE \nSPRINT DISTANCE \nRELAY \n[fusion_button link=”http://www.getsetnorth.org/?fbclid=IwAR2LCh84ArE_q6sRhwZOtC1g3Et742KkO0P_Rf0b-vBTf1S7o0CviXRYe4Y&#8221; text_transform=”” title=”” target=”_self” link_attributes=”” alignment=”” modal=”” hide_on_mobile=”small-visibility\,medium-visibility\,large-visibility” class=”” id=”” s2id_autogen3828=”” s2id_autogen3828_search=”” color=”default” button_gradient_top_color=”” button_gradient_bottom_color=”” button_gradient_top_color_hover=”” button_gradient_bottom_color_hover=”” accent_color=”” accent_hover_color=”” type=”” bevel_color=”” border_width=”” border_radius=”” border_color=”” border_hover_color=”” size=”” stretch=”default” icon=”” icon_position=”left” icon_divider=”no” s2id_autogen3829=”” s2id_autogen3829_search=”” animation_type=”” animation_direction=”left” animation_speed=”0.3″ s2id_autogen3830=”” s2id_autogen3830_search=”” animation_offset=””]Register Here[/fusion_button]
URL:https://raceconnections.com/event/windermere-triathlon/
LOCATION:Cockshott Point\, Glebe Road Bowness -on-Windermere\, Windermere\, United Kingdom
CATEGORIES:Triathlon
ATTACH;FMTTYPE=image/jpeg:https://raceconnections.com/wp-content/uploads/2019/12/73010020_2620080831393187_3402499815177715712_n.jpg
GEO:54.3591967;-2.9260513
X-APPLE-STRUCTURED-LOCATION;VALUE=URI;X-ADDRESS=Cockshott Point Glebe Road Bowness -on-Windermere Windermere United Kingdom;X-APPLE-RADIUS=500;X-TITLE=Glebe Road Bowness -on-Windermere:geo:-2.9260513,54.3591967
END:VEVENT
BEGIN:VEVENT
DTSTART;VALUE=DATE:20200704
DTEND;VALUE=DATE:20200705
DTSTAMP:20260422T090127
CREATED:20200120T124613Z
LAST-MODIFIED:20200120T124613Z
UID:10005253-1593820800-1593907199@raceconnections.com
SUMMARY:Ironman 703 Lombok\, Bali
DESCRIPTION:Bask in the pristine turquoise Bali sea\n\nLocated on the East of Bali\, Indonesia\, Lombok is part of the Indonesian Archipelago. Lombok offers many dreamy beaches – ideal for a getaway. This race features clear ocean waters\, a smooth\, undulating bike course\, and scenic run. \nThis race offers 60 qualifying slots to the 2020 IRONMAN 70.3 World Championship in Taupo\, New Zealand. \n1.9km Swim\n\nA swim in the immaculate\, pristine turquoise waters of the Bali sea await the athletes. The one-loop 1.9km clockwise swim  starts and finishes at the Holiday Resort Lombok\, with stunning views of the mountains for a backdrop. \n90km Bike\n\nA magnificent 1 Lap 90.1km Bike Course that will take athletes through a picturesque journey with amazing views of the Lombok coastline and the dense nature surrounding the famous Mount Rinjani. Athletes will exit T1 at Holiday Resort Lombok and head along Raya Senggigi Road towards the City of Mataram taking in views of the Bali Sea through the winding and undulating course. Athletes will then continue South East along the flatter roads before making a U Turn prior to Lombok International Airport. Athletes will then head directly back to T2 along the same course and dismounting within Holiday Resort Lombok. \n21.1km Run\n\nThe 2 Lap 21.1km course will see athletes exit T2 at Holiday Resort Lombok and run South towards the area of Senggigi. Athletes will run an undulating winding course with surreal views overlooking the Bali Sea. A U Turn will be made within Senggigi before athletes run back towards Holiday Resort Lombok to complete their first lap. Upon completion of the 2nd Lap athletes will enter the resort ground and finish directly alongside the beach in the lush and tropical gardens of the resort. \n \n\n\n\nRegistration Includes \n\n\nTimed race results\nPost-race refreshments\nOn-course nutrition\nPost-race massage\nFinisher t-shirt\, medal\, e-certificate\, towel\nMedical support\nWelcome Function ticket\nRace kit & gear bag\nAge group awards\nAll onsite entertainment\nWelcome Bag\nAll site access\, evening entertainment\, Senggigi\n\n[fusion_button link=”https://www.ironman.com/im703-lombok-register&#8221; text_transform=”” title=”” target=”_self” link_attributes=”” alignment=”” modal=”” hide_on_mobile=”small-visibility\,medium-visibility\,large-visibility” class=”” id=”” s2id_autogen16=”” s2id_autogen16_search=”” color=”default” button_gradient_top_color=”” button_gradient_bottom_color=”” button_gradient_top_color_hover=”” button_gradient_bottom_color_hover=”” accent_color=”” accent_hover_color=”” type=”” bevel_color=”” border_width=”” border_radius=”” border_color=”” border_hover_color=”” size=”” stretch=”default” icon=”” icon_position=”left” icon_divider=”no” s2id_autogen17=”” s2id_autogen17_search=”” animation_type=”” animation_direction=”left” animation_speed=”0.3″ s2id_autogen18=”” s2id_autogen18_search=”” animation_offset=””]Register Here[/fusion_button]
URL:https://raceconnections.com/event/ironman-703-lombok-bali/
LOCATION:Lombak\, Bali\, West Nusa Tenggara\, Bali\, Indonesia
CATEGORIES:Triathlon
ATTACH;FMTTYPE=image/png:https://raceconnections.com/wp-content/uploads/2020/01/Ironman-Lombok.png
GEO:-8.351844;116.0561632
X-APPLE-STRUCTURED-LOCATION;VALUE=URI;X-ADDRESS=Lombak Bali West Nusa Tenggara Bali Indonesia;X-APPLE-RADIUS=500;X-TITLE=West Nusa Tenggara:geo:116.0561632,-8.351844
END:VEVENT
BEGIN:VEVENT
DTSTART;VALUE=DATE:20200705
DTEND;VALUE=DATE:20200706
DTSTAMP:20260422T090127
CREATED:20200306T034652Z
LAST-MODIFIED:20200306T034652Z
UID:10005315-1593907200-1593993599@raceconnections.com
SUMMARY:Boundary Breeze Triathlon
DESCRIPTION:Boundary Breeze Sprint Triathlon is a well-established and friendly event which always welcomes a good mix of new and experienced triathletes. \nThis year we’re delighted to be celebrating the 20th edition of the race. \nIt’s a great event for novices and an annual favourite with those who’ve been competing in the sport for many years. \nThe event is brilliantly organised by our race directors and volunteers and competitors love the lake swim and the flat bike course on good roads. \nSet in the beautiful Cheshire countryside just outside Holmes Chapel and Knutsford\, there’s easy access to the event from the major motorways. \nThe race takes place mid-season which tends to mean good weather and one of the warmest open water swims on the circuit. \nWith the first wave at 10am there’s even a civilised start time. We hope you’ll join us for a great race! \n[fusion_button link=”https://mantri.niftyentries.com/boundarybreeze&#8221; text_transform=”” title=”” target=”_blank” link_attributes=”” alignment=”center” modal=”” hide_on_mobile=”small-visibility\,medium-visibility\,large-visibility” class=”” id=”” s2id_autogen16=”” s2id_autogen16_search=”” color=”default” button_gradient_top_color=”” button_gradient_bottom_color=”” button_gradient_top_color_hover=”” button_gradient_bottom_color_hover=”” accent_color=”” accent_hover_color=”” type=”” bevel_color=”” border_width=”” border_radius=”” border_color=”” border_hover_color=”” size=”” stretch=”default” icon=”” icon_position=”left” icon_divider=”no” s2id_autogen17=”” s2id_autogen17_search=”” animation_type=”” animation_direction=”left” animation_speed=”0.3″ s2id_autogen18=”” s2id_autogen18_search=”” animation_offset=””]Register Here[/fusion_button]
URL:https://raceconnections.com/event/boundary-breeze-triathlon/
LOCATION:Boundary Breeze Triathlon\, WA16 9 Crewe
CATEGORIES:Triathlon
ATTACH;FMTTYPE=image/jpeg:https://raceconnections.com/wp-content/uploads/2020/03/triathlon.jpg
GEO:53.100405;-2.4438209
END:VEVENT
END:VCALENDAR