BEGIN:VCALENDAR
VERSION:2.0
PRODID:-//Race CONNECTIONS - ECPv6.15.20//NONSGML v1.0//EN
CALSCALE:GREGORIAN
METHOD:PUBLISH
X-ORIGINAL-URL:https://raceconnections.com
X-WR-CALDESC:Events for Race CONNECTIONS
REFRESH-INTERVAL;VALUE=DURATION:PT1H
X-Robots-Tag:noindex
X-PUBLISHED-TTL:PT1H
BEGIN:VTIMEZONE
TZID:Europe/London
BEGIN:DAYLIGHT
TZOFFSETFROM:+0000
TZOFFSETTO:+0100
TZNAME:BST
DTSTART:20190331T010000
END:DAYLIGHT
BEGIN:STANDARD
TZOFFSETFROM:+0100
TZOFFSETTO:+0000
TZNAME:GMT
DTSTART:20191027T010000
END:STANDARD
BEGIN:DAYLIGHT
TZOFFSETFROM:+0000
TZOFFSETTO:+0100
TZNAME:BST
DTSTART:20200329T010000
END:DAYLIGHT
BEGIN:STANDARD
TZOFFSETFROM:+0100
TZOFFSETTO:+0000
TZNAME:GMT
DTSTART:20201025T010000
END:STANDARD
BEGIN:DAYLIGHT
TZOFFSETFROM:+0000
TZOFFSETTO:+0100
TZNAME:BST
DTSTART:20210328T010000
END:DAYLIGHT
BEGIN:STANDARD
TZOFFSETFROM:+0100
TZOFFSETTO:+0000
TZNAME:GMT
DTSTART:20211031T010000
END:STANDARD
END:VTIMEZONE
BEGIN:VEVENT
DTSTART;VALUE=DATE:20200711
DTEND;VALUE=DATE:20200712
DTSTAMP:20260423T080507
CREATED:20191029T063721Z
LAST-MODIFIED:20191029T064043Z
UID:10005086-1594425600-1594511999@raceconnections.com
SUMMARY:Henley Kids FUN Triathlon
DESCRIPTION:The UK Kids Fun Triathlon Henley is now in its tenth year and held within the grounds of Henley Leisure Centre & Gillotts School\, located just outside the pretty riverside market town on the River Thames. \nThe Kids event has been over-subscribed for the last few years resulting in entries closing early\, so be sure to avoid disappointment and book early. \n\nAchievable distances for all abilities of 5-16 yr olds\nSafe environment with event course contained within the grounds of Henley Leisure Centre & Gillotts School\nIndoor pool swim\nGrass cycle & run course on Gillotts School playing fields\nUK Kids Fun Triathlon 2020 finishers medal for everyone\nOfficial UK Kids Fun Event T-shirt available to purchase on the day\n\nThe Kids Fun Triathlons are no exception and leave everyone with a special sense of achievement at the end of an event when hundreds of smiling kids faces\, parents words of appreciation and promises to return next year confirm that the end result was worth every bit of hard work all round. \n \n  \nDistance\n\n\n\nAge Guideline   \n\n\n\n5-7:\nTin Fun Triathlon: 10m swim – 750m cycle – 300m run\n\n\n6-9:\nZinc Fun Triathlon: 25m swim – 1km cycle – 500m run\n\n\n8-11:\nSteel Fun Triathlon: 50m swim – 2km cycle – 1000m run\n\n\n10-13:\nBronze Fun Triathlon: 75m swim – 3k cycle – 1500m run\n\n\n12-15:\nSilver Fun Triathlon: 100m swim – 4km cycle – 2000m run\n\n\n13-16:\nGold Fun Triathlon: 150m swim – 4km cycle – 2500m run\n\n\nAll Ages:\nTriathlon Relay Team: 150m swim – 4km cycle – 2500m run\n\n\n\n  \nPlease take some time to read all the event information\, it will make it far more enjoyable for you and reduce the need to ask questions on the day. Good luck and have a great day! \nRace Day Information 2019 – Please click here \nYou can use this information as a guide for your 2019 event. Full and up to date 2019 competitor race day information with your race number and start time will be emailed to you 7-10 days before the event. WE DO NOT POST ANYTHING OUT – you will collect your race numbers\, tattoos\, stickers etc. at registration on the day. \nAll finishers will be awarded a medal at the finish line. \nEntries will close on Sunday 28th June or when the event becomes full\, whichever is sooner. \n[fusion_button link=”https://uktriathlon.co.uk/uk-kids/uk-kids-fun-triathlon-henley-thames?fbclid=IwAR02HMu4sb0UKg6kPYn6QAgJn-kZDPZmVHPpo0cEN4QNTX-QsX1J_-weLkM&#8221; text_transform=”” title=”” target=”_self” link_attributes=”” alignment=”center” modal=”” hide_on_mobile=”small-visibility\,medium-visibility\,large-visibility” class=”” id=”” s2id_autogen16=”” color=”default” button_gradient_top_color=”” button_gradient_bottom_color=”” button_gradient_top_color_hover=”” button_gradient_bottom_color_hover=”” accent_color=”” accent_hover_color=”” type=”flat” bevel_color=”” border_width=”” border_radius=”” border_color=”” border_hover_color=”” size=”” stretch=”default” icon=”” icon_position=”left” icon_divider=”no” s2id_autogen17=”” s2id_autogen17_search=”” animation_type=”” animation_direction=”left” animation_speed=”0.3″ s2id_autogen18=”” s2id_autogen18_search=”” animation_offset=””]Register Here[/fusion_button] \n  \n 
URL:https://raceconnections.com/event/henley-kids-fun-triathlon/
LOCATION:Henley on Thames\, Henley Leisure Centre and Gillots School\, Oxfordshire\, United Kingdom
CATEGORIES:Children (up to 12),Junior (13-19),Triathlon
ATTACH;FMTTYPE=image/jpeg:https://raceconnections.com/wp-content/uploads/2019/10/Henley-Kids-UK-Triathlon.jpg
ORGANIZER;CN="UK Triathlon Events":MAILTO:customercare@uktriathlon.co.uk
GEO:51.5257456;-0.9225016
X-APPLE-STRUCTURED-LOCATION;VALUE=URI;X-ADDRESS=Henley on Thames Henley Leisure Centre and Gillots School Oxfordshire United Kingdom;X-APPLE-RADIUS=500;X-TITLE=Henley Leisure Centre and Gillots School:geo:-0.9225016,51.5257456
END:VEVENT
BEGIN:VEVENT
DTSTART;VALUE=DATE:20200711
DTEND;VALUE=DATE:20200712
DTSTAMP:20260423T080507
CREATED:20191115T073055Z
LAST-MODIFIED:20191115T075145Z
UID:10005114-1594425600-1594511999@raceconnections.com
SUMMARY:Pembrokeshire Coast Triathlon 2020
DESCRIPTION:The Pembrokeshire Coast Triathlon is based at Broad Haven in St. Bride’s Bay\, a stunning beach setting in the heart of the Pembrokeshire Coast National Park. The event has the support of the local community\, Pembrokeshire County Council\, Pembrokeshire Coast National Park\, along with numerous sponsors and supporters. \nThe course has been designed to be challenging\, but enjoyable\, with superb scenery. The event is suitable for everyone\, from novices to seasoned triathletes.  Relay teams have become a special part of the event\, with up to 40 (!) teams competing for top honours\, but mainly just enjoying being part of a team. \n \nDISTANCE : Broad Haven: 1.5k swim – 43k bike – 10.6k run \nThe swim never ventures further than 200m from shore\, with experienced kayakers and a RIB at hand to make you feel extra safe. The bike is best described as challenging\, with some descent climbs and fast descents\, but always great scenery. The run takes the award for the best scenery\, however – the first 3km are on the beach and coast path\, with superb views across St. Bride’s Bay to St. David’s and RSPB Ramsey Island. The beach finish is renowned! \n[fusion_button link=”http://www.pembstri.org.uk/events/pembrokeshire-coast-triathlon/&#8221; text_transform=”” title=”” target=”_self” link_attributes=”” alignment=”” modal=”” hide_on_mobile=”small-visibility\,medium-visibility\,large-visibility” class=”” id=”” s2id_autogen3545=”” s2id_autogen3545_search=”” color=”default” button_gradient_top_color=”” button_gradient_bottom_color=”” button_gradient_top_color_hover=”” button_gradient_bottom_color_hover=”” accent_color=”” accent_hover_color=”” type=”” bevel_color=”” border_width=”” border_radius=”” border_color=”” border_hover_color=”” size=”” stretch=”default” icon=”” icon_position=”left” icon_divider=”no” s2id_autogen3546=”” s2id_autogen3546_search=”” animation_type=”” animation_direction=”left” animation_speed=”0.3″ s2id_autogen3547=”” s2id_autogen3547_search=”” animation_offset=””]Register Here[/fusion_button]
URL:https://raceconnections.com/event/pembrokeshire-coast-triathlon-2020/
LOCATION:Broad Haven Beach\, Enfield Road\,\, Broad Haven\, SA62 3\, United Kingdom
CATEGORIES:Triathlon
ATTACH;FMTTYPE=image/jpeg:https://raceconnections.com/wp-content/uploads/2019/11/UK-Triathlon-Pembrokeshire-Coast-Triathlon-1.jpg
ORGANIZER;CN="Pembrokeshire Triathlon Club":MAILTO:events@pembrokeshire-tri.org.uk
GEO:51.781041;-5.1022022
X-APPLE-STRUCTURED-LOCATION;VALUE=URI;X-ADDRESS=Broad Haven Beach Enfield Road Broad Haven SA62 3 United Kingdom;X-APPLE-RADIUS=500;X-TITLE=Enfield Road\,:geo:-5.1022022,51.781041
END:VEVENT
BEGIN:VEVENT
DTSTART;VALUE=DATE:20200711
DTEND;VALUE=DATE:20200713
DTSTAMP:20260423T080507
CREATED:20200220T030405Z
LAST-MODIFIED:20200220T031340Z
UID:10005294-1594425600-1594598399@raceconnections.com
SUMMARY:TRI-Factor Triathlon & Duathlon Festival Belitung
DESCRIPTION:TRI-Factor Asian Championships Series – Indonesia \nOne of the fastest growing multisport markets in South-East Asia\, Indonesia is simply an amazing country with wonderful islands of pristine waters and white sand beaches! \nThe TRI-Factor Asian Championship Series returns to Indonesia with the TRIFACTOR Triathlon / Duathlon National Championships in Belitung Island on the 11th – 12th of July 2020! \n﻿ \nJust an hour flight from both Jakarta and Kuala Lumpur\, this beautiful island is the next sports tourist destination to be! \n[fusion_button link=”https://trifactor.asia/tri-factor-beltung-indonesia-2020/&#8221; text_transform=”” title=”” target=”_blank” link_attributes=”” alignment=”” modal=”” hide_on_mobile=”small-visibility\,medium-visibility\,large-visibility” class=”” id=”” s2id_autogen16=”” s2id_autogen16_search=”” color=”default” button_gradient_top_color=”” button_gradient_bottom_color=”” button_gradient_top_color_hover=”” button_gradient_bottom_color_hover=”” accent_color=”” accent_hover_color=”” type=”” bevel_color=”” border_width=”” border_radius=”” border_color=”” border_hover_color=”” size=”” stretch=”default” icon=”” icon_position=”left” icon_divider=”no” s2id_autogen17=”” s2id_autogen17_search=”” animation_type=”” animation_direction=”left” animation_speed=”0.3″ s2id_autogen18=”” s2id_autogen18_search=”” animation_offset=””]Register Here[/fusion_button]
URL:https://raceconnections.com/event/tri-factor-triathlon-duathlon-festival-belitung/
LOCATION:Belitung\, Indonesia
CATEGORIES:Triathlon
ATTACH;FMTTYPE=image/jpeg:https://raceconnections.com/wp-content/uploads/2020/02/20819438_1644451402246250_8904129272449153821_o.jpg
ORGANIZER;CN="Tri-Factor":MAILTO:ENQUIRY@TRIFACTOR.ASIA
GEO:-0.789275;113.921327
END:VEVENT
BEGIN:VEVENT
DTSTART;VALUE=DATE:20200712
DTEND;VALUE=DATE:20200713
DTSTAMP:20260423T080507
CREATED:20191101T080510Z
LAST-MODIFIED:20191102T053530Z
UID:10005093-1594512000-1594598399@raceconnections.com
SUMMARY:Deva Divas
DESCRIPTION:Ladies get your Triathlon on with Deva Divas. \nThe Deva Divas Triathlon is a short distance ladies only race. It’s now a well-known\, popular event which\, in 2016\, won the coveted British Triathlon “Event of the Year”\, Triathlon England Club Event of the Year and also North West Regional Race of the Year!! \n﻿ \nDeva Divas is the only race to have ever won the British Triathlon award twice – the first time in 2009! \nChester Tri are pleased to announce that Deva Divas 2020 will again be held on the Chester Meadows within the City of Chester. \nRace information : https://www.chestertri.org.uk/our-races/deva-divas/deva-divas-race-information/ \n\n\n\nDistance          \nSwim 750m – Bike 25km – Run 5km – Triathlon\nSwim 750m – Kayak 4km – Bike 25km – Run 5km – Quadrathlon\n\n\n\n 
URL:https://raceconnections.com/event/deva-divas/
LOCATION:The Meadows\, Chester\, England\, United Kingdom
CATEGORIES:Triathlon
ATTACH;FMTTYPE=image/jpeg:https://raceconnections.com/wp-content/uploads/2019/11/diva-uk-triathlon.jpg
ORGANIZER;CN="British Triathlon":MAILTO:info@britishtriathlon.org
GEO:52.3555177;-1.1743197
END:VEVENT
BEGIN:VEVENT
DTSTART;VALUE=DATE:20200712
DTEND;VALUE=DATE:20200713
DTSTAMP:20260423T080507
CREATED:20200103T103404Z
LAST-MODIFIED:20200103T103404Z
UID:10005232-1594512000-1594598399@raceconnections.com
SUMMARY:Henley Pink Wave Triathlon
DESCRIPTION:UK Triathlon have dedicated a section of all their pool based triathlons solely for women wishing to join The Pink Wave.\nWe want to encourage more women to have a go! Any age\, any ability\, just get together for the camaraderie and challenge\, whilst raising vital funds for research into beating cancer.\nWorking in partnership with Cancer Research UK\, to fundraise for research into all 200 types of cancer\, UK Triathlon will be donating £10 from every Pink Wave entry back to Cancer Research UK. \n[fusion_button link=”https://uktriathlon.co.uk/pink-wave&#8221; text_transform=”” title=”” target=”_self” link_attributes=”” alignment=”” modal=”” hide_on_mobile=”small-visibility\,medium-visibility\,large-visibility” class=”” id=”” s2id_autogen1257=”” s2id_autogen1257_search=”” color=”default” button_gradient_top_color=”” button_gradient_bottom_color=”” button_gradient_top_color_hover=”” button_gradient_bottom_color_hover=”” accent_color=”” accent_hover_color=”” type=”” bevel_color=”” border_width=”” border_radius=”” border_color=”” border_hover_color=”” size=”” stretch=”default” icon=”” icon_position=”left” icon_divider=”no” s2id_autogen1258=”” s2id_autogen1258_search=”” animation_type=”” animation_direction=”left” animation_speed=”0.3″ s2id_autogen1259=”” s2id_autogen1259_search=”” animation_offset=””]Register Here[/fusion_button] \n 
URL:https://raceconnections.com/event/henley-pink-wave-triathlon/
LOCATION:Henley on Thames\, Henley Leisure Centre and Gillots School\, Oxfordshire\, United Kingdom
CATEGORIES:Triathlon
ATTACH;FMTTYPE=image/jpeg:https://raceconnections.com/wp-content/uploads/2020/01/PINK_WAVE_5.jpg
ORGANIZER;CN="UK Triathlon Events":MAILTO:customercare@uktriathlon.co.uk
GEO:51.5257456;-0.9225016
X-APPLE-STRUCTURED-LOCATION;VALUE=URI;X-ADDRESS=Henley on Thames Henley Leisure Centre and Gillots School Oxfordshire United Kingdom;X-APPLE-RADIUS=500;X-TITLE=Henley Leisure Centre and Gillots School:geo:-0.9225016,51.5257456
END:VEVENT
BEGIN:VEVENT
DTSTART;VALUE=DATE:20200712
DTEND;VALUE=DATE:20200713
DTSTAMP:20260423T080507
CREATED:20200218T055705Z
LAST-MODIFIED:20200218T055705Z
UID:10005289-1594512000-1594598399@raceconnections.com
SUMMARY:IRONMAN UK
DESCRIPTION:Dubbed one of the UK’s friendliest towns\, Bolton is the home of England’s only full-distance IRONMAN. This race is known for its iconic spectator support\, incredible North West English bike course scenery\, and impressive finish line in the heart of the town centre. \nThis race offers 40 qualifying slots to the 2020 IRONMAN World Championship in Kailua-Kona\, Hawai’i \n \nThe two-loop 2.4 mile (3.8 km) swim course takes place at Pennington Flash Country Park\, opened in 1981. The swim course has a triangle layout and athletes will head out before turning left twice and making their way back to the start. \nThe three-loop 112 mile (180.2 km) bike course runs in an anti-clockwise direction. Athletes will travel from Pennington Flash to Bolton for the first few miles\, before taking on the three-loop bike course. The course continues through the northern countryside\, past Black Dog Pub before reaching the famous Sheephouse Lane. \nThe four-loop 26.2 mile (42.2 km) run course laps around Bolton town centre before ascending through the scenic Queen’s Park to Chorley New Road. Athletes will then pass numerous spectator hotspots before finishing at Victoria Square. \n[fusion_button link=”https://www.ironman.com/im-uk-register&#8221; text_transform=”” title=”” target=”_self” link_attributes=”” alignment=”” modal=”” hide_on_mobile=”small-visibility\,medium-visibility\,large-visibility” class=”” id=”” s2id_autogen16=”” s2id_autogen16_search=”” color=”default” button_gradient_top_color=”” button_gradient_bottom_color=”” button_gradient_top_color_hover=”” button_gradient_bottom_color_hover=”” accent_color=”” accent_hover_color=”” type=”” bevel_color=”” border_width=”” border_radius=”” border_color=”” border_hover_color=”” size=”” stretch=”default” icon=”” icon_position=”left” icon_divider=”no” s2id_autogen17=”” s2id_autogen17_search=”” animation_type=”” animation_direction=”left” animation_speed=”0.3″ s2id_autogen18=”” s2id_autogen18_search=”” animation_offset=””]Register Here[/fusion_button]
URL:https://raceconnections.com/event/ironman-uk/
LOCATION:Pennington Flash Country Park\, Lowton and Leigh\, Greater Manchester\, Bolton\, England\, WN7 3UG\, United Kingdom
CATEGORIES:Triathlon
ATTACH;FMTTYPE=image/png:https://raceconnections.com/wp-content/uploads/2020/02/IM-UK.png
GEO:53.48929;-2.5406185
X-APPLE-STRUCTURED-LOCATION;VALUE=URI;X-ADDRESS=Pennington Flash Country Park Lowton and Leigh Greater Manchester Bolton England WN7 3UG United Kingdom;X-APPLE-RADIUS=500;X-TITLE=Lowton and Leigh\, Greater Manchester:geo:-2.5406185,53.48929
END:VEVENT
END:VCALENDAR