BEGIN:VCALENDAR
VERSION:2.0
PRODID:-//Race CONNECTIONS - ECPv6.15.20//NONSGML v1.0//EN
CALSCALE:GREGORIAN
METHOD:PUBLISH
X-WR-CALNAME:Race CONNECTIONS
X-ORIGINAL-URL:https://raceconnections.com
X-WR-CALDESC:Events for Race CONNECTIONS
REFRESH-INTERVAL;VALUE=DURATION:PT1H
X-Robots-Tag:noindex
X-PUBLISHED-TTL:PT1H
BEGIN:VTIMEZONE
TZID:Europe/London
BEGIN:DAYLIGHT
TZOFFSETFROM:+0000
TZOFFSETTO:+0100
TZNAME:BST
DTSTART:20250330T010000
END:DAYLIGHT
BEGIN:STANDARD
TZOFFSETFROM:+0100
TZOFFSETTO:+0000
TZNAME:GMT
DTSTART:20251026T010000
END:STANDARD
BEGIN:DAYLIGHT
TZOFFSETFROM:+0000
TZOFFSETTO:+0100
TZNAME:BST
DTSTART:20260329T010000
END:DAYLIGHT
BEGIN:STANDARD
TZOFFSETFROM:+0100
TZOFFSETTO:+0000
TZNAME:GMT
DTSTART:20261025T010000
END:STANDARD
BEGIN:DAYLIGHT
TZOFFSETFROM:+0000
TZOFFSETTO:+0100
TZNAME:BST
DTSTART:20270328T010000
END:DAYLIGHT
BEGIN:STANDARD
TZOFFSETFROM:+0100
TZOFFSETTO:+0000
TZNAME:GMT
DTSTART:20271031T010000
END:STANDARD
END:VTIMEZONE
BEGIN:VEVENT
DTSTART;VALUE=DATE:20260124
DTEND;VALUE=DATE:20260126
DTSTAMP:20260423T111653
CREATED:20250815T165404Z
LAST-MODIFIED:20250815T165404Z
UID:10006888-1769212800-1769385599@raceconnections.com
SUMMARY:LONDON WINTER WALK 2026
DESCRIPTION:Saturday 24 or Sunday 25 January 2026\n\n\n\n\n\nFull or Half Marathon & 10K\nSunday Family Fun 5K \nOval Cricket Ground Start/Finish\nRest Stops & Hot Food\nFull Support\nMedal & Certificate\nAs a Team or an Individual…\n\n\n\nStart the New Year on the right foot!\n\n\n\n\nA great event to walk off the Christmas & New Year celebrations\, and maybe kick start a new fitness regime! There’s a Full Marathon\, Half Marathon\, 10K + a Family Fun 5K on Sunday (accessible). All routes start & finish at The Oval Cricket Ground\, and take in highlights of the Thames\, its historic bridges\, and many of the Capital’s landmarks. Sign up as a team\, or as an individual\, and families are welcome. There are rest stops with snacks\, a special medal\, and hot food at the finish! \n\n\nYour Walk\, Your Way!\n\n\n\n\nWhether it’s to enjoy an active day out with friends & family\, or to maintain a New Year fitness regime – there’s a London Winter Walk for you! Join as an individual or as a team\, and do it for yourself & self-fund\, OR support one of our Charity Partners with much-needed fundraising. \n\n\n\n\nThis event is walking only! \n\n\nRoute Options\n\n\n\n\nThere are 4 options for the London Winter Walk – Full Marathon\, Half Marathon\, 10km & the NEW Family Fun 5k. All start & finish at The Oval Cricket Ground near Vauxhall and are available on Saturday 24 or Sunday 25 January 2026. This event is strictly walking only\, so no jogging or running is allowed. \nCLICK HERE TO VIEW THE ROUTE MAP \n\n\n\n\n\n\n\n\nThe Marathon\n\n\n\n\nThe Oval Loop\n\n\n\n\n26 miles (42 km) looped walk\, starting & finishing at The Oval Cricket Ground in Vauxhall. The route heads east along the Thames with a Rest Stop in Surrey Quays for a welcome hot drink & snacks. Then it’s back along the north bank of the Thames for lunch at the Oval. The 2nd loop heads west with a Rest Stop in Parsons Green\, and back to The Oval for a loud finish line welcome. \n\n\n\n\n\nStart & Finish: The Oval\nGood train & tube links\nStart times: 8 – 10am Sat & Sun\nRest Stops at ~7\, 13\, 19 miles\nBig range of snacks & drinks\nLunch at halfway (The Oval)\nWinter Walk Medal & certificate\nHot food & drink at the finish\n\n\n\n\nHalf Marathon | EAST LOOP OR WEST LOOP\n \n\n\n\n\n13 miles (21 km) starting & finishing at The Oval Cricket Ground in Vauxhall. We’ve two Half Marathon options – either heading East\, or West. Which way will you go? \n\n\n\n\n\nStart / Finish: Oval Cricket Ground\nGood train & tube links.\nStart times:10am – 12pm Sat & Sun\nRest Stop with snacks & drinks\nWinter Walk Medal & certificate\nHot food & drink at finish\n\n\n\n10 km Walk | THAMES LOOP\n \n\n\n\n\n10k Walk\, starting & finishing at The Oval Cricket Ground in Vauxhall. The looped route heads along the Thames through the heart of the Capital. \n\n\n\n\n\nStart & Finish: The Oval\nGood train & tube links\nStart times: Sat & Sun TBC\nBig range of snacks & drinks\nWinter Walk Medal & certificate\nHot food & drink at the finish\n\n\n\nFAMILY FUN 5K | LOOPED ROUTE (Sun 25 Jan)\n\n\n\n\n5 km walk starting & finishing at The Oval Cricket Ground in Vauxhall. The looped route heads along the Thames through the heart of the Capital\, past Big Ben and Parliament. Perfect for families with young children (it’s also wheelchair accessible). \n\n\n\n\n\nStart / Finish: Oval Cricket Ground\nGood train & tube links.\nStart times: midday Sunday\nSnacks\, drinks\, toilets & medics\nWinter Walk Medal & certificate\nHot food & drink at the finish
URL:https://raceconnections.com/event/london-winter-walk-2026/
LOCATION:The Oval Cricket Ground\, London
CATEGORIES:Half Marathon,Junior (13-19),Marathon,Walk
ATTACH;FMTTYPE=image/jpeg:https://raceconnections.com/wp-content/uploads/2025/08/Winter-Walk-2026.jpg
END:VEVENT
BEGIN:VEVENT
DTSTART;VALUE=DATE:20260404
DTEND;VALUE=DATE:20260405
DTSTAMP:20260423T111653
CREATED:20251119T184202Z
LAST-MODIFIED:20251119T184202Z
UID:10006910-1775260800-1775347199@raceconnections.com
SUMMARY:THE SAMARITANS WAY TRAIL RUN & WALK
DESCRIPTION:Once again we have partnered with Teesside Samaritans to support their cause and celebrate their birthday. On April 1st 2026 Teesside Samaritans branch turns 58 years old. Join us at this amazing event to help raise funds to support the work they do to support people of Teesside. \nTake on the trails on the Official Samaritans Way created by Teesside Samaritans many years ago. Run or walk\, alone or in a relay there are different options and different distances to get your shoes muddy. \n  \nProfits from this event will be donated to the Teesside Samaritans branch directly. \nIt starts with you. With your support\, Samaritans can answer more calls for help from people who are ready to break their silence. One donation\, endless possibilities. \n£10 can help answer a life-saving call for help \n£25 could help make sure there is a Samaritan there to answer a life-saving call for help \n£44 could help towards running the online chat service \n  \nHow Samaritans spend your money\nFor every £1 raised\, 80p goes on our services and just 20p is invested in raising the next £1. \n  \nWhy your support is needed\nEvery 10 seconds\, Samaritans answers a call for help. \nIn 2023\, Samaritans volunteers responded to more than 3.3 million calls for help. \nEvery minute\, Samaritans volunteers respond to more than six calls for help. \nIn 2023\, the average length of a phone call for emotional support to Samaritans was about 23 minutes. \nWhat Races are available?\n10km Walk \n10km Run \n20km Walk \n20km Run \nFor more information on the route and the prices of this event\, please click here.
URL:https://raceconnections.com/event/the-samaritans-way-trail-run-walk/
LOCATION:Guisborough Rugby Club\, Rugby Club\, Belmangate\, Guisborough\, TS14 7BB\, United Kingdom
CATEGORIES:Running,Walk
ATTACH;FMTTYPE=image/jpeg:https://raceconnections.com/wp-content/uploads/2025/11/6dde4d9b-b267-4e78-9f3b-84fae84a80b1.jpg
ORGANIZER;CN="U Prevail Events":MAILTO:info@uprevail.events
END:VEVENT
BEGIN:VEVENT
DTSTART;TZID=Europe/London:20260705T110000
DTEND;TZID=Europe/London:20260705T160000
DTSTAMP:20260423T111653
CREATED:20260227T064943Z
LAST-MODIFIED:20260227T064943Z
UID:10006900-1783249200-1783267200@raceconnections.com
SUMMARY:Parallel Windsor
DESCRIPTION:Parallel Windsor is a Festival of Inclusivity with Challenge Events for all ages\, health conditions and abilities. Held in the grounds of the majestic Windsor Great Park. Choose from the: 100m\, 1km\, 5km\, 10km or our innovative SuperSensory. ‘Start together\, finish whenever!’ is our motto. Everyone who starts receives a medal\, t-shirt and goody bag. Assistance animals and mobility aids are welcome. Parallel Windsor is bursting with accessible family-friendly activities and entertainment. Expect to find: live music\, inclusive sport\, comedy\, dance\, accessible climbing wall\, cookery\, animal kingdom\, storytelling\, sensory sport\, food trucks and a picnic area. There is something for everyone. As a fully-accessible event\, we have: accessible toilets including RevoLoos\, onsite parking\, quiet and sensory areas\, medical support\, accessible shuttles to/from the stations\, plus a wonderful team of volunteers on-hand to help. \nFestival only tickets\, Challenge event tickets\, and Carer tickets are all available to purchase from our website: parallellifestyle.com
URL:https://raceconnections.com/event/parallel-windsor-3/
LOCATION:Windsor Great Park\, Windsor\, SL4 2HT\, United Kingdom
CATEGORIES:10K Run,5K Run,Children (up to 12),Half Marathon,Junior (13-19),Walk,Youth
ATTACH;FMTTYPE=image/jpeg:https://raceconnections.com/wp-content/uploads/2025/10/Parallel-Banner-Image.jpg
ORGANIZER;CN="Parallel Lifestyle":MAILTO:contact@parallellifestyle.com
GEO:51.4443604;-0.6308131
END:VEVENT
BEGIN:VEVENT
DTSTART;TZID=Europe/London:20260705T110000
DTEND;TZID=Europe/London:20260705T170000
DTSTAMP:20260423T111653
CREATED:20260114T081354Z
LAST-MODIFIED:20260114T081354Z
UID:10006923-1783249200-1783270800@raceconnections.com
SUMMARY:Parallel Windsor 2026
DESCRIPTION:Parallel Windsor is a Festival of Inclusivity with Challenge Events for all ages\, health conditions & abilities. Held in the grounds of the majestic Windsor Great Park & staged on the iconic Long Walk. \nAs a fully-accessible event\, we have: accessible toilets including RevoLoos\, on-site parking\, quiet and sensory areas\, medical support\, accessible shuttles to/from the stations\, plus a wonderful team of volunteers on hand to help. \n📍 Where & When\nDate: 5 July 2026 \nLocation: Windsor Great Park \nThe format of the event is a fully accessible Festival of Inclusivity with Challenge Events\nfor everybody. \n🎉 Festival Activities\nBeyond the physical challenge\, Parallel Windsor offers a wide range of festival zones and experiences\, such as: \n\nLive music and entertainment\nArts & crafts\, storytelling and play areas\nInclusive sports activities and adaptive sports zones\nWellbeing & mindfulness sessions\nFood\, picnics and community areas\nQuiet and sensory spaces for attendees who need them\n\n💪 Challenge Events: \nChoose from: 100m\, 1K\, 5K\, 10K or the SuperSensory. Walk\, push or run – there are no\ncut-off times. Mobility aids and assistance animals are welcome\, where everybody can\n‘Start Together\, Finish Whenever’. Everybody who starts receives a medal\, goody bag\nand t-shirts. \nOur innovative SuperSensory supports neurodiversity and participants with profound\nand multiple learning disabilities to exercise their senses over a series of challenges\nsuch as engaging with sound\, taste\, touch\, & smell. \nThis year will also see the return of the Greatest Dancer Challenge\, a mass-participation dance event for everyone to showcase their best moves. \nJoin the movement\, celebrate inclusion\, and be part of something bigger than a run. 🏃‍♀️💜 \nDon’t miss your chance to get involved –> Buy Your Tickets NOW! Festival-only tickets\, Challenge event tickets\, and Carer tickets are all available for purchase on our website. \n#ParallelWindsor #Disability #Inclusion 🦌🌳
URL:https://raceconnections.com/event/parallel-windsor-2026/
LOCATION:windsor park\, Windsor Great Park\, Berkshire\, Select a State or Province:\, SL4 2BD\, United Kingdom
CATEGORIES:Running,Walk
ATTACH;FMTTYPE=image/jpeg:https://raceconnections.com/wp-content/uploads/2026/01/ParallelWindsor_250706_229_LTarren-e1768378301409.jpg
ORGANIZER;CN="Parallel Lifestyle":MAILTO:contact@parallellifestyle.com
END:VEVENT
END:VCALENDAR