BEGIN:VCALENDAR
VERSION:2.0
PRODID:-//Race CONNECTIONS - ECPv6.15.20//NONSGML v1.0//EN
CALSCALE:GREGORIAN
METHOD:PUBLISH
X-ORIGINAL-URL:https://raceconnections.com
X-WR-CALDESC:Events for Race CONNECTIONS
REFRESH-INTERVAL;VALUE=DURATION:PT1H
X-Robots-Tag:noindex
X-PUBLISHED-TTL:PT1H
BEGIN:VTIMEZONE
TZID:Europe/London
BEGIN:DAYLIGHT
TZOFFSETFROM:+0000
TZOFFSETTO:+0100
TZNAME:BST
DTSTART:20190331T010000
END:DAYLIGHT
BEGIN:STANDARD
TZOFFSETFROM:+0100
TZOFFSETTO:+0000
TZNAME:GMT
DTSTART:20191027T010000
END:STANDARD
BEGIN:DAYLIGHT
TZOFFSETFROM:+0000
TZOFFSETTO:+0100
TZNAME:BST
DTSTART:20200329T010000
END:DAYLIGHT
BEGIN:STANDARD
TZOFFSETFROM:+0100
TZOFFSETTO:+0000
TZNAME:GMT
DTSTART:20201025T010000
END:STANDARD
BEGIN:DAYLIGHT
TZOFFSETFROM:+0000
TZOFFSETTO:+0100
TZNAME:BST
DTSTART:20210328T010000
END:DAYLIGHT
BEGIN:STANDARD
TZOFFSETFROM:+0100
TZOFFSETTO:+0000
TZNAME:GMT
DTSTART:20211031T010000
END:STANDARD
BEGIN:DAYLIGHT
TZOFFSETFROM:+0000
TZOFFSETTO:+0100
TZNAME:BST
DTSTART:20220327T010000
END:DAYLIGHT
BEGIN:STANDARD
TZOFFSETFROM:+0100
TZOFFSETTO:+0000
TZNAME:GMT
DTSTART:20221030T010000
END:STANDARD
BEGIN:DAYLIGHT
TZOFFSETFROM:+0000
TZOFFSETTO:+0100
TZNAME:BST
DTSTART:20230326T010000
END:DAYLIGHT
BEGIN:STANDARD
TZOFFSETFROM:+0100
TZOFFSETTO:+0000
TZNAME:GMT
DTSTART:20231029T010000
END:STANDARD
BEGIN:DAYLIGHT
TZOFFSETFROM:+0000
TZOFFSETTO:+0100
TZNAME:BST
DTSTART:20240331T010000
END:DAYLIGHT
BEGIN:STANDARD
TZOFFSETFROM:+0100
TZOFFSETTO:+0000
TZNAME:GMT
DTSTART:20241027T010000
END:STANDARD
END:VTIMEZONE
BEGIN:VTIMEZONE
TZID:Australia/Sydney
BEGIN:STANDARD
TZOFFSETFROM:+1100
TZOFFSETTO:+1000
TZNAME:AEST
DTSTART:20210403T160000
END:STANDARD
BEGIN:DAYLIGHT
TZOFFSETFROM:+1000
TZOFFSETTO:+1100
TZNAME:AEDT
DTSTART:20211002T160000
END:DAYLIGHT
BEGIN:STANDARD
TZOFFSETFROM:+1100
TZOFFSETTO:+1000
TZNAME:AEST
DTSTART:20220402T160000
END:STANDARD
BEGIN:DAYLIGHT
TZOFFSETFROM:+1000
TZOFFSETTO:+1100
TZNAME:AEDT
DTSTART:20221001T160000
END:DAYLIGHT
BEGIN:STANDARD
TZOFFSETFROM:+1100
TZOFFSETTO:+1000
TZNAME:AEST
DTSTART:20230401T160000
END:STANDARD
BEGIN:DAYLIGHT
TZOFFSETFROM:+1000
TZOFFSETTO:+1100
TZNAME:AEDT
DTSTART:20230930T160000
END:DAYLIGHT
BEGIN:STANDARD
TZOFFSETFROM:+1100
TZOFFSETTO:+1000
TZNAME:AEST
DTSTART:20240406T160000
END:STANDARD
BEGIN:DAYLIGHT
TZOFFSETFROM:+1000
TZOFFSETTO:+1100
TZNAME:AEDT
DTSTART:20241005T160000
END:DAYLIGHT
END:VTIMEZONE
BEGIN:VTIMEZONE
TZID:Australia/Adelaide
BEGIN:STANDARD
TZOFFSETFROM:+1030
TZOFFSETTO:+0930
TZNAME:ACST
DTSTART:20190406T163000
END:STANDARD
BEGIN:DAYLIGHT
TZOFFSETFROM:+0930
TZOFFSETTO:+1030
TZNAME:ACDT
DTSTART:20191005T163000
END:DAYLIGHT
BEGIN:STANDARD
TZOFFSETFROM:+1030
TZOFFSETTO:+0930
TZNAME:ACST
DTSTART:20200404T163000
END:STANDARD
BEGIN:DAYLIGHT
TZOFFSETFROM:+0930
TZOFFSETTO:+1030
TZNAME:ACDT
DTSTART:20201003T163000
END:DAYLIGHT
BEGIN:STANDARD
TZOFFSETFROM:+1030
TZOFFSETTO:+0930
TZNAME:ACST
DTSTART:20210403T163000
END:STANDARD
BEGIN:DAYLIGHT
TZOFFSETFROM:+0930
TZOFFSETTO:+1030
TZNAME:ACDT
DTSTART:20211002T163000
END:DAYLIGHT
END:VTIMEZONE
BEGIN:VEVENT
DTSTART;TZID=Europe/London:20231112T000000
DTEND;TZID=Europe/London:20231112T235959
DTSTAMP:20260419T172654
CREATED:20231013T202406Z
LAST-MODIFIED:20231013T202446Z
UID:10006796-1699747200-1699833599@raceconnections.com
SUMMARY:Sparkle Helmore Triathlon | 2023 November 12
DESCRIPTION:ON 12 NOV FOR SPRINT AND ENTICER\, PLUS NEW JUNIOR/SCHOOL AGE TRIATHLON EVENTS.\n\n\n\nThe 30th annual Sparke Helmore Newcastle City Triathlon is again on Sunday\, 12 Nov 2023. The event will be staged from Camp Shortland near the Nobbys Beach area on Newcastle Harbour and is one of the most picturesque courses in Australia. Take part as an individual or member of a 2-3 person relay team. We are also offering a new Junior/Schools Triathlon. The atmosphere is electric\, with spectators close to the action on the Foreshore of Newcastle Harbour. \n\n\n\nCORPORATE/ENTICER TRIATHLON\n\n\n\n\nSTART: 9:00am\n\n\n\nDISTANCE: 375m swim\, 10km cycle\, 2.5km run\n\n\n\n\nA short course triathlon for short course specialists or novice triathletes\, including businesses. The cycle leg is a 3 loop course from Foreshore Park to Newcastle Baths\, including part of Wharf Rd and Fort Drive. The cycle and run course is flat except for Fort Drive. \n\n\n\nWHO’S IT FOR?\n\n\n\nCompetitors 12+ years of age who can complete a short course triathlon. You can choose to complete all 3 legs OR form a relay team and complete 1 or 2 legs. \n\n\n\nSPRINT DISTANCE TRIATHLON\n\n\n\n\nSTART: 7:00am\n\n\n\nDISTANCE: 750m swim – 20km cycle – 5km run\n\n\n\n\nA short distance Triathlon for those trained for the event or relay participants looking for a solid leg hit out. \n\n\n\nWHO’S IT FOR?\n\n\n\nIndividuals over 14 years or Relay Team members over 13 years. (Age at 31 Dec 2023) \n\n\n\nJUNIOR/SCHOOL AGE TRIATHLON\n\n\n\n\nSTART: 10:00am\n\n\n\nDISTANCE: Various see Race Information\n\n\n\n\nThis event will be separate distances and events for ages 7-11y\, ages 12-13y and 14-17. See schedule. \n\n\n\nWHO’S IT FOR?\n\n\n\nChildren aged 7-17y (ages as of 31 Dec 2023)
URL:https://raceconnections.com/event/sparkle-helmore-triathlon-2023-november-12/
LOCATION:32 Wharf Rd\, Newcastle East NSW 2300\, Australia
CATEGORIES:10K Run,Running,Swimming,Triathlon
ATTACH;FMTTYPE=image/jpeg:https://raceconnections.com/wp-content/uploads/2023/10/Sparkle-Helmore-Triathlon.jpg
END:VEVENT
BEGIN:VEVENT
DTSTART;TZID=Australia/Sydney:20231022T000000
DTEND;TZID=Australia/Sydney:20231022T235959
DTSTAMP:20260419T172654
CREATED:20230526T145844Z
LAST-MODIFIED:20230526T145847Z
UID:10006769-1697932800-1698019199@raceconnections.com
SUMMARY:Trail Run Australia Sunshine Coast
DESCRIPTION:Discover your sunshine coast moment at a trail run on Australia’s sunshine coast. \n\n\n\nTrail Run Australia Sunshine Coast is part of an action-packed weekend of off-road action for the entire family\, including the TreX Cross Triathlon on Saturday and Trail Run Australia on Sunday. \n\n\n\nTaking in some of Australia’s most spectacular hinterland trails\, the course takes runners in and around the beautiful Ferny Forest on the shores of Ewen Maddock Dam on winding single-track trails through this spectacular rainforest hinterland. \n\n\n\nAnd whether you are a hardcore trail runner\, a weekend warrior\, or a family with kids\, there’s a course for everyone\, including a half marathon\, 11k\, 5k\, and FREE Kids Mud Rats run. \n\n\n\nEVENT DETAILS\n\n\n\nDate: 22 October 2023Events: TRA21 | TRA11 | TRA5 | FREE Kids Mud Rats RunLocation: Ewen Maddock Dam\, Landsborough\, Sunshine Coast\, Qld
URL:https://raceconnections.com/event/trail-run-australia-sunshine-coast/
LOCATION:Ewen Maddock Dam\, Landsborough\, Sunshine Coast\, Qld
CATEGORIES:Running,Trail Running
ATTACH;FMTTYPE=image/jpeg:https://raceconnections.com/wp-content/uploads/2023/05/Trail-Run-Australia.jpg
END:VEVENT
BEGIN:VEVENT
DTSTART;TZID=Europe/London:20230903T000000
DTEND;TZID=Europe/London:20230903T235959
DTSTAMP:20260419T172654
CREATED:20230329T124352Z
LAST-MODIFIED:20230329T125645Z
UID:10006750-1693699200-1693785599@raceconnections.com
SUMMARY:Trail Run Australia Tomaree
DESCRIPTION:Join us for some of Australia’s most scenic and challenging trail run courses. \n\n\n\nThe Tomaree Trail Run Festival is hosted in conjunction with the TreX Cross Triathlon Series\, which together make up an action-packed weekend of off-road events for the entire family. \n\n\n\nTaking in some of the most spectacular coastal\, beach and bushland trails\, this trail run festival will delight\, challenge and inspire trail runners of all ages and abilities. \n\n\n\nBased in Fingal Bay\, the courses challenge runners with a diverse array of terrain and scenery\, from the beauty of Tomaree National Park to the expansive coastal views from the Tomaree coastal trail\, to the challenge of the Samurai Dunes\, to the rocky coastlines and the awe-inspiring white sandy beaches of Fingal Bay. This course offers every trail run experience in one spectacular and iconic location. \n\n\n\nSo whether your a hardcore trail runner\, a weekend warrior\, someone who just loves getting in 2 the outdoors\, or a family and kids\, there’s something for everyone at Trail Run Australia Tomaree. \n\n\n\n\nDate: 3 SEP 2023\n\n\n\nEvents: TRA21 | TRA12.5 | TRA6 | Kids Mud Rats\n\n\n\nLocation: 3 Marine Drive\, Fingal Bay\, Port Stephens\, NSW\, 2315\n\n\n\n\nEVENT DETAILS:\n\n\n\nA big In2Adventure welcome to T8 Running\, who will be providing some great prizes for our Trail Run Australia athletes. \n\n\n\nABOUT T8\n\n\n\nOur goal here at T8 is the production of ultralight\, supercool and chafe-free running gear. \n\n\n\nHuman ingenuity to help you beat the most challenging conditions\, and our T8 gear has been tested globally in various conditions. Our commando underwear and sherpa shorts are highly functional and aim to maximise comfort during those long sessions and races. Plus\, they are also great for everyday casual wear. To find out more about this fantastic gear\, visit the website here. \n\n\n\nATHLETE REGISTRATION\n\n\n\nAll athletes must register at Race HQ at the allocated times before the event. \n\n\n\nREGISTRATION TIMES\n\n\n\nPlease refer to the Event Timetable for registration times \n\n\n\nWHAT TO BRING TO REGISTRATION\n\n\n\n\nA copy of your entry confirmation email (hard copy or electronic); and\n\n\n\nCompulsory Equipment for the equipment check\n\n\n\n\nAT REGISTRATION\n\n\n\n\nLine up in the queue as indicated by the signs at the Race HQ tent.\n\n\n\nOfficials will check that you have all the compulsory equipment\n\n\n\nAdvise officials of your name\n\n\n\nCheck your details on the registration screen.\n\n\n\nCollect your race bag.\n\n\n\nCollect pins for your race number at the table near the registration desk (if required).\n\n\n\nGet ready to Run!\n\n\n\n\nRACE NUMBERS\n\n\n\n\nIt is a race rule that all participants must have their race number visible on their front torso during the event. This is important as marshals will monitor competitors’ progress around the course and must be able to view each runner’s number. Non-compliance will result in penalties.\n\n\n\nThe race number can be worn on a race belt or attached to the outermost garment on your front torso using safety pins.\n\n\n\nEnsure the number is safely secured. If your number is lost on the course\, please report the loss to the Race Director immediately.\n\n\n\nParticipants are not permitted to enter the course without displaying their allocated number.\n\n\n\nNumbers are not to be cut\, altered\, disfigured\, damaged\, covered or obscured. Penalties\, disqualification and fines will apply in this circumstance.\n\n\n\n\nTIMING ANKLE BANDS\n\n\n\n\nAttach the timing band to your left ankle\, with the chip facing outwards. If you’re unsure\, please see one of our friendly marshals at Race HQ.\n\n\n\nEnsure the timing chip is fixed securely\, as it is the participants’ responsibility to return the timing strap on completion of the event. If the belt is not secure or there are any issues with the velcro\, please report this to an event marshal before the event’s start so this can be fixed before the start.\n\n\n\nParticipants agree to return the timing strap on completion of the race. If a timing chip is lost or not returned at the end of the event\, a $50 replacement fee will be charged to the participant’s credit card.\n\n\n\n\nPRESENTATIONS\n\n\n\nPresentations will occur when all or most athletes have finished the run. \n\n\n\nPlease refer to the Event Timetable for presentation times. \n\n\n\nPRIZES AND MEDALS\n\n\n\nFinishers’ medals will be presented to all participants who complete the entire course. Prizes and medallions will be presented for first place and medallions for second and third places. Participants are required to be present in person to collect category prizes and spot prizes. Based on past circumstances\, to ensure all prizes and medallions go to the rightful recipients\, it is impossible to give medals or prizes to other persons in the recipient’s absence. \n\n\n\nVENUE\n\n\n\n\nBREAKFAST | LUNCH | PREMIUM BEERS\n\n\n\n\nNestled between public parks\, the Surf Life Saving club and some of Fingal Bay’s most picturesque beaches\, Longboat Cafe at Fingal Bay serves beautiful breakfasts\, lovely lunches and premium beers. \n\n\n\nFrom Longboat Cafe\, you can watch your young ones playing in the joining park whilst indulging in our farm fresh and free-range menu items. With a pick-me-up coffee or an ice-cold treat\, your time enjoying the beach has just become the perfect day. Visit the Longboat Café website. \n\n\n\n\nFACILITIES AT FINGAL BAY FORESHORE\n\n\n\n\nFingal Bay Foreshore Reserve and Fingal Beach are scenic locations. The foreshore reserve has a large children’s playground\, beach pedestrian access and car parking. There is a dog off-leash exercise area within the budget. Please note that dogs are prohibited on the beach. \n\n\n\nFacilities include \n\n\n\n\nKiosk / Cafe\n\n\n\nPublic amenities & showers\, including disabled amenities\n\n\n\nCar Parking\n\n\n\nPlayground\n\n\n\nOutdoor exercise equipment\n\n\n\nBBQs\n\n\n\nPicnic seating\n\n\n\nBeach access and access to the Fingal Bay Surf Club\n\n\n\nDog off-leash exercise area\n\n\n\nBoat Ramp\n\n\n\n\n\nEVENT PARKING\n\n\n\n\nThere is ample parking located near Race HQ\, including: \n\n\n\n\nThe Surf Life Saving Club car park;\n\n\n\nOn Marine Drive; and\n\n\n\nIn the overflow parking area located at Fingal Bay Oval.\n\n\n\n\n\nPETS AT FINGAL BAY\n\n\n\n\nPets are permitted on a lead in the grassed area along the Fingal Bay foreshore\, and there is a dog off-leash exercise area within the reserve. Please note that dogs are prohibited on the beach. \n\n\n\nCOURSE & SAFETY BRIEF:\n\n\n\nThe Course & Safety Brief will take place at Race HQ.  For safety reasons\, all participants must attend the briefing with all equipment ready to start the event.  The brief will cover all the information you need to ensure a safe and enjoyable race and important information about the course and any changes on the day. \n\n\n\nThe event will start soon after the Safety Brief is finished. \n\n\n\n\nEVENT START\n\n\n\n\nHalf Marathon \n\n\n\nAfter the safety brief\, there is a short 75m walk to the start line on Fingal Bay Beach.  The half marathon will be a mass start on the beach. \n\n\n\n\n11.5K & 6K START\n\n\n\n\nAfter the safety brief\, there will be a short 200m walk to the start line in Tomaree National Park.  The event will commence with a mass start from the start point.  Please follow the instructions of the Race Director at the Start Brief. \n\n\n\n\nEVENT FINISH\n\n\n\n\nAll courses will finish at Fingal Bay Foreshore Reserve after a short run up Fingal Beach.
URL:https://raceconnections.com/event/trail-run-australia-tomaree/
LOCATION:3 Marine Drive\, Fingal Bay\, Port Stephens\, NSW\, 2315\, United Kingdom
CATEGORIES:Running,Trail Running
ATTACH;FMTTYPE=image/jpeg:https://raceconnections.com/wp-content/uploads/2023/03/TRAIL-RUN-AUSTRALIA-TOMAREE-1-e1680094588517.jpeg
END:VEVENT
BEGIN:VEVENT
DTSTART;VALUE=DATE:20220605
DTEND;VALUE=DATE:20220606
DTSTAMP:20260419T172654
CREATED:20220307T045822Z
LAST-MODIFIED:20220307T045855Z
UID:10005491-1654387200-1654473599@raceconnections.com
SUMMARY:Maitland River Run - 4km\, 8km\, 12km\, Half Marathon &1 Mile Sprint
DESCRIPTION:ENTRIES NOW OPEN FOR 5 JUNE 2022 AT MAITLAND ATHLETICS CENTRE. BEAT THE RONA AND GET RUNNING! \nThe Maitland River Run offers a picturesque 4km course starting and finishing at the new Maitland Regional Athletics Centre. This world-class facility will make for an exciting and interesting run experience. But don’t panic. We still have plenty of River in the River Run. \n \nYou can either run/walk the 1 Lap 4km course\, two-lap 8km course or three-lap 12km course. There is also a five-lap Half Marathon course and our classic 1609m (one mile) sprint event open to serious and novice runners.
URL:https://raceconnections.com/event/maitland-river-run-4km-8km-12km-half-marathon-1-mile-sprint/
LOCATION:Maitland Athletics Centre\, 226 High St\, Maitland\, New South Wales\, 2320\, Australia
CATEGORIES:Half Marathon,Running,Youth
ATTACH;FMTTYPE=image/jpeg:https://raceconnections.com/wp-content/uploads/2022/03/Run-Events-Australia.jpg
GEO:-32.7377766;151.5620911
X-APPLE-STRUCTURED-LOCATION;VALUE=URI;X-ADDRESS=Maitland Athletics Centre 226 High St Maitland New South Wales 2320 Australia;X-APPLE-RADIUS=500;X-TITLE=226 High St\, Maitland:geo:151.5620911,-32.7377766
END:VEVENT
BEGIN:VEVENT
DTSTART;VALUE=DATE:20201114
DTEND;VALUE=DATE:20201116
DTSTAMP:20260419T172654
CREATED:20200806T074618Z
LAST-MODIFIED:20200806T074618Z
UID:10005368-1605312000-1605484799@raceconnections.com
SUMMARY:Glenelg Classic
DESCRIPTION:Celebrate the end of the year with SARRC with a fast out and back course along the Glenelg Coastal Path!\nThe Glenelg Coastal Path is known for being a flat and easy trail with scenic views of the coast as well as passing some iconic landmarks. Come get active and enjoy the beautiful Adelaide beaches!
URL:https://raceconnections.com/event/glenelg-classic/
LOCATION:22 High Street\, 22 High St\, Glenelg SA 5045\, Australia\, Glenelg\, South Australia\, SA 5045\, Australia
CATEGORIES:10K Run,5K Run,Junior (13-19),Running
ATTACH;FMTTYPE=image/jpeg:https://raceconnections.com/wp-content/uploads/2020/08/Glenelg-Calssic.jpeg
ORGANIZER;CN="South Australian Road Runners Club":MAILTO:office@sarrc.asn.au
GEO:-34.9819287;138.5159096
X-APPLE-STRUCTURED-LOCATION;VALUE=URI;X-ADDRESS=22 High Street 22 High St Glenelg SA 5045 Australia Glenelg South Australia SA 5045 Australia;X-APPLE-RADIUS=500;X-TITLE=22 High St\, Glenelg SA 5045\, Australia:geo:138.5159096,-34.9819287
END:VEVENT
BEGIN:VEVENT
DTSTART;VALUE=DATE:20201024
DTEND;VALUE=DATE:20201026
DTSTAMP:20260419T172654
CREATED:20200814T131105Z
LAST-MODIFIED:20200814T131105Z
UID:10005372-1603497600-1603670399@raceconnections.com
SUMMARY:Paluma Dam Good Trail Run
DESCRIPTION:The Paluma Dam Trail Run on Sunday\, 28 October 2018 starts and finishes at the village green in the Paluma township\, north west of Townsville\, Queensland. \nThere is an array of trails around the village crossing creek\, passing waterfalls and lookouts. Paluma is cooler than the coastal region and it makes for great trail running in October. \nThere is a 6km short course\, 10km intermediate course\, and 20km long course. Trail running comes with some risk\, running in the rain forest and on remote takes a certain skill and fitness level. Please make sure you are up to the distance you wish to run.
URL:https://raceconnections.com/event/paluma-dam-good-trail-run/
LOCATION:30 Mount Spec Road\, 30 Mount Spec Rd\, Paluma QLD 4816\, Australia\, Paulma\, Queensland\, QLD 4816\, Australia
CATEGORIES:10K Run,5K Run,Running
ATTACH;FMTTYPE=image/jpeg:https://raceconnections.com/wp-content/uploads/2020/08/Paluma-Dam-Good-Trail-Run.jpg
GEO:-19.0091823;146.2088552
X-APPLE-STRUCTURED-LOCATION;VALUE=URI;X-ADDRESS=30 Mount Spec Road 30 Mount Spec Rd Paluma QLD 4816 Australia Paulma Queensland QLD 4816 Australia;X-APPLE-RADIUS=500;X-TITLE=30 Mount Spec Rd\, Paluma QLD 4816\, Australia:geo:146.2088552,-19.0091823
END:VEVENT
END:VCALENDAR