BEGIN:VCALENDAR
VERSION:2.0
PRODID:-//Race CONNECTIONS - ECPv6.15.20//NONSGML v1.0//EN
CALSCALE:GREGORIAN
METHOD:PUBLISH
X-ORIGINAL-URL:https://raceconnections.com
X-WR-CALDESC:Events for Race CONNECTIONS
REFRESH-INTERVAL;VALUE=DURATION:PT1H
X-Robots-Tag:noindex
X-PUBLISHED-TTL:PT1H
BEGIN:VTIMEZONE
TZID:America/Sao_Paulo
BEGIN:STANDARD
TZOFFSETFROM:-0200
TZOFFSETTO:-0300
TZNAME:-03
DTSTART:20170219T020000
END:STANDARD
BEGIN:DAYLIGHT
TZOFFSETFROM:-0300
TZOFFSETTO:-0200
TZNAME:-02
DTSTART:20171015T030000
END:DAYLIGHT
BEGIN:STANDARD
TZOFFSETFROM:-0200
TZOFFSETTO:-0300
TZNAME:-03
DTSTART:20180218T020000
END:STANDARD
BEGIN:DAYLIGHT
TZOFFSETFROM:-0300
TZOFFSETTO:-0200
TZNAME:-02
DTSTART:20181104T030000
END:DAYLIGHT
BEGIN:STANDARD
TZOFFSETFROM:-0200
TZOFFSETTO:-0300
TZNAME:-03
DTSTART:20190217T020000
END:STANDARD
END:VTIMEZONE
BEGIN:VEVENT
DTSTART;VALUE=DATE:20180408
DTEND;VALUE=DATE:20180409
DTSTAMP:20260425T113931
CREATED:20180130T035553Z
LAST-MODIFIED:20180130T035553Z
UID:10004642-1523145600-1523231999@raceconnections.com
SUMMARY:Rio City Half Marathon 2018
DESCRIPTION:Rio City Half Marathon 2018\nWith races in Rio de Janeiro\, São Paulo and Brasilia\, RUN CITIES brings together the country’s main 42K and 21K races. The races are an opportunity for athletes from around the world to travel on routes that pass through sights\, monuments\, wonderful landscapes\, important avenues\, imposing buildings and historic sites of three major cities in Latin America. \nThe racing structure of RUN CITIES follows the pattern of the best international races. Along the way\, athletes count on hydration stations with water and Gatorade\, carbohydrate gel\, musical attractions to keep the motivation on high\, among other things. In the days before each race\, EXPO is held. In addition\, in addition to withdrawing their kits\, enrollees can take advantage of various services that contribute to performance and accompany lectures on training\, nutrition and sports medicine. \nIt was consolidated as one of the main half-marathons in the country\, and in 2016 the event gathered around 6 thousand athletes from 25 Brazilian states\, as well as participants from the United States\, Kenya\, United Kingdom\, France\, Italy\, Spain\, Germany\, Portugal\, Mexico and Uruguay . The international level organization gives runners a unique experience since EXPO – when athletes can follow lectures with coaches\, nutritionists\, doctors\, psychologists – to the arena of arrival.  \nThe Rio City Half Marathon offers the ideal structure for you to make an unforgettable race. Starting with the flat course with a stunning visual. The route of 21\,097 km is almost entirely by the edge of the Marvelous City\, in an urban setting that contrasts with beautiful beaches and the Atlantic Forest. \nYour best 21K. Do not miss out this. Conquer the city. Run Rio de Janeiro.
URL:https://raceconnections.com/event/rio-city-half-marathon-2018/
LOCATION:Rio De Janeiro\, Brazil
CATEGORIES:Running
ATTACH;FMTTYPE=image/jpeg:https://raceconnections.com/wp-content/uploads/2018/01/Rio-City-Half-Marathon-2018-Race-Connections-.jpg
ORGANIZER;CN="Iguana Sports":MAILTO:contato@iguanasports.com.br
GEO:-14.235004;-51.92528
END:VEVENT
BEGIN:VEVENT
DTSTART;VALUE=DATE:20190818
DTEND;VALUE=DATE:20190819
DTSTAMP:20260425T113931
CREATED:20190425T060637Z
LAST-MODIFIED:20190425T060808Z
UID:10004874-1566086400-1566172799@raceconnections.com
SUMMARY:Rio Half Marathon
DESCRIPTION:Rio Half Marathon is known as one of the fastest half marathons. The event also offers a 5k run.
URL:https://raceconnections.com/event/rio-half-marathon/
LOCATION:Rio De Janeiro\, Brazil
CATEGORIES:Half Marathon,Running
ATTACH;FMTTYPE=image/jpeg:https://raceconnections.com/wp-content/uploads/2019/04/brazil-south-american.jpg
GEO:-14.235004;-51.92528
END:VEVENT
END:VCALENDAR