BEGIN:VCALENDAR
VERSION:2.0
PRODID:-//Race CONNECTIONS - ECPv6.15.20//NONSGML v1.0//EN
CALSCALE:GREGORIAN
METHOD:PUBLISH
X-WR-CALNAME:Race CONNECTIONS
X-ORIGINAL-URL:https://raceconnections.com
X-WR-CALDESC:Events for Race CONNECTIONS
REFRESH-INTERVAL;VALUE=DURATION:PT1H
X-Robots-Tag:noindex
X-PUBLISHED-TTL:PT1H
BEGIN:VTIMEZONE
TZID:Europe/London
BEGIN:DAYLIGHT
TZOFFSETFROM:+0000
TZOFFSETTO:+0100
TZNAME:BST
DTSTART:20190331T010000
END:DAYLIGHT
BEGIN:STANDARD
TZOFFSETFROM:+0100
TZOFFSETTO:+0000
TZNAME:GMT
DTSTART:20191027T010000
END:STANDARD
BEGIN:DAYLIGHT
TZOFFSETFROM:+0000
TZOFFSETTO:+0100
TZNAME:BST
DTSTART:20200329T010000
END:DAYLIGHT
BEGIN:STANDARD
TZOFFSETFROM:+0100
TZOFFSETTO:+0000
TZNAME:GMT
DTSTART:20201025T010000
END:STANDARD
BEGIN:DAYLIGHT
TZOFFSETFROM:+0000
TZOFFSETTO:+0100
TZNAME:BST
DTSTART:20210328T010000
END:DAYLIGHT
BEGIN:STANDARD
TZOFFSETFROM:+0100
TZOFFSETTO:+0000
TZNAME:GMT
DTSTART:20211031T010000
END:STANDARD
END:VTIMEZONE
BEGIN:VEVENT
DTSTART;VALUE=DATE:20200418
DTEND;VALUE=DATE:20200420
DTSTAMP:20260424T185209
CREATED:20191113T065211Z
LAST-MODIFIED:20191113T065211Z
UID:10005111-1587168000-1587340799@raceconnections.com
SUMMARY:ÖTILLÖ Swimrun Hvar
DESCRIPTION:A TRIBUTE TO THE CULTURAL HERITAGE OF THE MEDITERRANEAN \n\nThe smell of rosemary in the hills\, the extremely clear\, salty water in the combination with the whispers of history makes this an exceptional race. \nHvar  is said to be one of the most beautiful islands in the world making it an ideal location a race in the Mediterranean. It is set to kick – off the European swimrun season and introduce the ÖTILLÖ Swimrun Hvar. \nThe island is magnificient\, surrounded by emerald-colored seas and the exceptional Paklinski islands to the south. Hvar’s Rosemary\, lavender\, wine\, more than a 2000-year old history; just simply\, a unique place for a unique race. Experience the fantastic local food with locally grown produce at the closing party. The local wines are superb. Did you know that the local Plavac grape is the mother of Syrah/Zinfandel? \nSaturday – Experience & Sprint\, solo and team\nSunday – World Series\, Team only \n  \n\nCategories\n\nWORLD SERIES RACE\n\nA total of 40\,4 km with 9 swims of which the longest is 2 950 metres. A total of almost 9 000 metres of swimming. The first part of the course will be a lot of swimming\, the second part will be more running. \n\nSPRINT RACE\n\nThe course will be about 11\,8 km with 4 swims. The course will start and finish on the Main Square in Hvar. The longest swim is 600 metres. \n\nEXPERIENCE RACE\n\nThe course is 6\,3 km long with 4 swims\, of which the longest is 400 metres. \n \n  \nRegister for ÖTILLÖ Swimrun Hvar. Registration opens September 2019. Choose between World series\, Sprint or the shorter Experience race. Team or solo races available for the sprint and the experience races. \n  \n[fusion_button link=”https://otilloswimrun.com/races/hvar/#raceinfoTabs|2″ text_transform=”” title=”” target=”_self” link_attributes=”” alignment=”” modal=”” hide_on_mobile=”small-visibility\,medium-visibility\,large-visibility” class=”” id=”” s2id_autogen16=”” s2id_autogen16_search=”” color=”default” button_gradient_top_color=”” button_gradient_bottom_color=”” button_gradient_top_color_hover=”” button_gradient_bottom_color_hover=”” accent_color=”” accent_hover_color=”” type=”” bevel_color=”” border_width=”” border_radius=”” border_color=”” border_hover_color=”” size=”” stretch=”default” icon=”” icon_position=”left” icon_divider=”no” s2id_autogen17=”” s2id_autogen17_search=”” animation_type=”” animation_direction=”left” animation_speed=”0.3″ s2id_autogen18=”” s2id_autogen18_search=”” animation_offset=””]Register Today[/fusion_button]
URL:https://raceconnections.com/event/otillo-swimrun-hvar/
LOCATION:Hvar Town\, Hvar Island\, Adriatic Sea\, Croatia (Local Name: Hrvatska)
CATEGORIES:Running,Swimming
ATTACH;FMTTYPE=image/jpeg:https://raceconnections.com/wp-content/uploads/2019/11/otillo-hvar-swim-run.jpeg
GEO:43.1541875;16.6527099
X-APPLE-STRUCTURED-LOCATION;VALUE=URI;X-ADDRESS=Hvar Town Hvar Island Adriatic Sea Croatia (Local Name: Hrvatska);X-APPLE-RADIUS=500;X-TITLE=Hvar Island\, Adriatic Sea:geo:16.6527099,43.1541875
END:VEVENT
END:VCALENDAR