BEGIN:VCALENDAR
VERSION:2.0
PRODID:-//Race CONNECTIONS - ECPv6.15.20//NONSGML v1.0//EN
CALSCALE:GREGORIAN
METHOD:PUBLISH
X-WR-CALNAME:Race CONNECTIONS
X-ORIGINAL-URL:https://raceconnections.com
X-WR-CALDESC:Events for Race CONNECTIONS
REFRESH-INTERVAL;VALUE=DURATION:PT1H
X-Robots-Tag:noindex
X-PUBLISHED-TTL:PT1H
BEGIN:VTIMEZONE
TZID:Asia/Kolkata
BEGIN:STANDARD
TZOFFSETFROM:+0530
TZOFFSETTO:+0530
TZNAME:IST
DTSTART:20190101T000000
END:STANDARD
END:VTIMEZONE
BEGIN:VTIMEZONE
TZID:Europe/London
BEGIN:DAYLIGHT
TZOFFSETFROM:+0000
TZOFFSETTO:+0100
TZNAME:BST
DTSTART:20180325T010000
END:DAYLIGHT
BEGIN:STANDARD
TZOFFSETFROM:+0100
TZOFFSETTO:+0000
TZNAME:GMT
DTSTART:20181028T010000
END:STANDARD
BEGIN:DAYLIGHT
TZOFFSETFROM:+0000
TZOFFSETTO:+0100
TZNAME:BST
DTSTART:20190331T010000
END:DAYLIGHT
BEGIN:STANDARD
TZOFFSETFROM:+0100
TZOFFSETTO:+0000
TZNAME:GMT
DTSTART:20191027T010000
END:STANDARD
BEGIN:DAYLIGHT
TZOFFSETFROM:+0000
TZOFFSETTO:+0100
TZNAME:BST
DTSTART:20200329T010000
END:DAYLIGHT
BEGIN:STANDARD
TZOFFSETFROM:+0100
TZOFFSETTO:+0000
TZNAME:GMT
DTSTART:20201025T010000
END:STANDARD
END:VTIMEZONE
BEGIN:VEVENT
DTSTART;TZID=Asia/Kolkata:20200229T040000
DTEND;TZID=Asia/Kolkata:20200229T090000
DTSTAMP:20260423T220348
CREATED:20200220T142450Z
LAST-MODIFIED:20200221T021621Z
UID:10005295-1582948800-1582966800@raceconnections.com
SUMMARY:Breath Free “Pollution Free” Chennai
DESCRIPTION:Dear Friends\nRotary Club of Madras Heritage \nAnd \nCK Motors PURE \nOrganising the Mini Marathon and Cycling 42K on February 29\, 2020 \nTitle : Breath Free “Pollution Free” Chennai \nDate :Saturday February 29\, 2020 \nTime : 5.30am – 9.00 am \nVenue : Madhya Kailash\, OMR \nStart Place : VHS Hospitals \, Madhya Kailash\, OMR \nEnd Place : RHEO Automobiles pvt ltd\,28/29\,OMR Showroom \nKottivakkam\,Chennai \,Near Holiday inn \nRegisteration link: http://rotarymadrasheritage.in/register-form.php \n  \nRotary Club of Madras Heritage is organizing a Mini Marathon and Cycling to create awareness among the public specially targeting younger generation on Pollution free India \nThe objectives of this Public Awareness event emphasis younger generation to avoid petrol / diesel vehicles avoid plastic and use renewable energy for our day to day life. \nAs we all are aware that our club is involved in various activities for the community. \nWe have organized a mini marathon from Madhya Kailash to Holiday inn – SRP tools on February 29th 2020. \nThis marathon is based on the objective to keep our city clean\, pollution free environment friendly. \nOur government is working hard to keep our city clean and pollution free\, we shall join hands with the common objectives by creating public awareness campaigns\, theme marathon\, and cause for cycling etc. We will be distributing pamphlets on awareness to keep our Chennai clean and pollution free. \nWe want our general public to know that keeping the city clean and pollution free will not only help in stopping the spread of unwanted diseases but will spread the importance of hygiene in the city. \nTo make our goal come true\, please do register yourselves for marathon / cycling\, the registration link as follows: \nThis includes : \nT Shirt\, Certificates\, Medal\, snacks and refreshments \nKindly circulate to your Rotract members in large numbers to encourage participation. Thanks for your cooperation in advance. \nThanks & Regards\,
URL:https://raceconnections.com/event/breath-free-pollution-free-chennai/
LOCATION:Madhya Kailash\, OMR\, VHS Hospitals \, Madhya Kailash\, OMR\, Chennai\, Tamil Nadu\, 600113\, India
CATEGORIES:5K Run,Cycling,Duathlon,Marathon,Running
ATTACH;FMTTYPE=image/png:https://raceconnections.com/wp-content/uploads/2020/02/1.png
ORGANIZER;CN="Rotary Clubs":MAILTO:ckmotorsindia@gmail.com
GEO:12.9503378;80.2546804
X-APPLE-STRUCTURED-LOCATION;VALUE=URI;X-ADDRESS=Madhya Kailash OMR VHS Hospitals  Madhya Kailash OMR Chennai Tamil Nadu 600113 India;X-APPLE-RADIUS=500;X-TITLE=VHS Hospitals \, Madhya Kailash\, OMR:geo:80.2546804,12.9503378
END:VEVENT
BEGIN:VEVENT
DTSTART;VALUE=DATE:20190922
DTEND;VALUE=DATE:20191023
DTSTAMP:20260423T220348
CREATED:20190628T104427Z
LAST-MODIFIED:20191023T064226Z
UID:10004937-1569110400-1571788799@raceconnections.com
SUMMARY:TAIPEI to SINGAPORE Bamboo Road
DESCRIPTION:THE JOURNEY \n\n\n\n62 RIDING DAYS\n19 REST DAYS\n4 TRAVEL DAYS\n\n\nCOUNTRIES \n\n\n\nTAIWAN\,\nCHINA\,\nVIETNAM\,\nLAOS\,\nCAMBODIA\,\nTHAILAND\,\nMALAYSIA\,\nSINGAPORE\n\nPACKAGES INCLUDE \n\nTour jersey\nCommemorative tour medal\nCelebratory final dinner\nPre-tour information bulletins\nPre-tour rider discussion forum\nTrain transfer from Hong Kong to Guilin\n\nClick here to read 5 Exciting Changes to the Route \nMany of us have criss-crossed this beautiful area on a ‘shoestring’ over the years. Now return with us and spin through stunning mountains\, along sparkling coastlines\, into misty valleys\, beside historic waterways\, into small villages and ancient historic sites\, revel in some of the world’s best foods and enjoy the unsurpassed hospitality of the region’s people and South Asia’s endless charm. \n\nREAD MORE…. \n  \n>>> REGISTER HERE <<<
URL:https://raceconnections.com/event/taipei-to-singapore-bamboo-road/
LOCATION:Tamil Nadu
CATEGORIES:Cycling
ATTACH;FMTTYPE=image/jpeg:https://raceconnections.com/wp-content/uploads/2019/06/bamboo-road.jpg
END:VEVENT
BEGIN:VEVENT
DTSTART;TZID=Europe/London:20190831T070000
DTEND;TZID=Europe/London:20190901T170000
DTSTAMP:20260423T220348
CREATED:20190822T052428Z
LAST-MODIFIED:20190823T045910Z
UID:10004996-1567234800-1567357200@raceconnections.com
SUMMARY:Layar Cycling Carnival
DESCRIPTION:Celebrate Malaysian National day with the Cycling Carnival. Dress in Malaysian colour schemed cloths and head to have a good day outdoors. Join the Criterim or Road Challenge during the festivities. \nLog in to the e form and select your category.\nCriterium (31st August 2019)\nRoad Challenge 100km (1st September 2019) \nSpecial Promo….You can join both days challenge at the price of 1 @ RM60 \nRegister now at : https://eventtech.com.my/event.php?event=layar19
URL:https://raceconnections.com/event/layar-cycling-carnival/
LOCATION:Pejabat Daerah Betong\, Betong\, Sarawak\, Malaysia
CATEGORIES:Cycling
ATTACH;FMTTYPE=image/jpeg:https://raceconnections.com/wp-content/uploads/2019/08/layar19.jpg
GEO:1.411517;111.528999
X-APPLE-STRUCTURED-LOCATION;VALUE=URI;X-ADDRESS=Pejabat Daerah Betong Betong Sarawak Malaysia;X-APPLE-RADIUS=500;X-TITLE=Betong:geo:111.528999,1.411517
END:VEVENT
END:VCALENDAR