BEGIN:VCALENDAR
VERSION:2.0
PRODID:-//Race CONNECTIONS - ECPv6.15.20//NONSGML v1.0//EN
CALSCALE:GREGORIAN
METHOD:PUBLISH
X-WR-CALNAME:Race CONNECTIONS
X-ORIGINAL-URL:https://raceconnections.com
X-WR-CALDESC:Events for Race CONNECTIONS
REFRESH-INTERVAL;VALUE=DURATION:PT1H
X-Robots-Tag:noindex
X-PUBLISHED-TTL:PT1H
BEGIN:VTIMEZONE
TZID:Europe/Prague
BEGIN:DAYLIGHT
TZOFFSETFROM:+0100
TZOFFSETTO:+0200
TZNAME:CEST
DTSTART:20170326T010000
END:DAYLIGHT
BEGIN:STANDARD
TZOFFSETFROM:+0200
TZOFFSETTO:+0100
TZNAME:CET
DTSTART:20171029T010000
END:STANDARD
BEGIN:DAYLIGHT
TZOFFSETFROM:+0100
TZOFFSETTO:+0200
TZNAME:CEST
DTSTART:20180325T010000
END:DAYLIGHT
BEGIN:STANDARD
TZOFFSETFROM:+0200
TZOFFSETTO:+0100
TZNAME:CET
DTSTART:20181028T010000
END:STANDARD
BEGIN:DAYLIGHT
TZOFFSETFROM:+0100
TZOFFSETTO:+0200
TZNAME:CEST
DTSTART:20190331T010000
END:DAYLIGHT
BEGIN:STANDARD
TZOFFSETFROM:+0200
TZOFFSETTO:+0100
TZNAME:CET
DTSTART:20191027T010000
END:STANDARD
END:VTIMEZONE
BEGIN:VEVENT
DTSTART;VALUE=DATE:20180506
DTEND;VALUE=DATE:20180507
DTSTAMP:20260423T062407
CREATED:20180305T031037Z
LAST-MODIFIED:20180305T031351Z
UID:10004664-1525564800-1525651199@raceconnections.com
SUMMARY:The Volkswagen Prague Marathon
DESCRIPTION:The Volkswagen Prague Marathon 2018\nThe Volkswagen Prague Marathon has become an essential race on the world running circuit. An exceptionally beautiful course and a beautifully managed event\, from the moment you visit our web site to register till the last note of the Prague Marathon Music Festival.  \nWe’re doing everything we know how\, to make this an absolutely delightful event for runners. Because we figure those who are willing to put themselves through this kind of pain deserve. \nAid Stations\nRefreshment point and sponge points every 2\,5 km and at the finish. Water; isotonic drinks; fruit (apples\, bananas\, oranges) are served. \nEquipment Storage\nBag depository & changing room are included in the starting fee. Changing room is open from 8 am – 4 pm. \nMaximum Time\nTime Limit 7 hours. \nTiming\nStart number with non-disposable timekeeping chip. \nStart Fee\nParticipants\n1 – 3500 – 60 €\n3501 – 7000 – 90 €\n7001+ – 110 €
URL:https://raceconnections.com/event/volkswagen-prague-marathon/
LOCATION:Old Town Square\, Staroměstské nám.\,\, Prague\, Staré Město\, 110 00\, Czech Republic
CATEGORIES:Running
ATTACH;FMTTYPE=image/jpeg:https://raceconnections.com/wp-content/uploads/2018/03/The-Volkswagen-Prague-Marathon-2018-Race-Connections.jpg
ORGANIZER;CN="RunCzech":MAILTO:info@pim.cz
GEO:50.0874682;14.4207565
X-APPLE-STRUCTURED-LOCATION;VALUE=URI;X-ADDRESS=Old Town Square Staroměstské nám. Prague Staré Město 110 00 Czech Republic;X-APPLE-RADIUS=500;X-TITLE=Staroměstské nám.\,:geo:14.4207565,50.0874682
END:VEVENT
END:VCALENDAR