BEGIN:VCALENDAR
VERSION:2.0
PRODID:-//Race CONNECTIONS - ECPv6.15.20//NONSGML v1.0//EN
CALSCALE:GREGORIAN
METHOD:PUBLISH
X-WR-CALNAME:Race CONNECTIONS
X-ORIGINAL-URL:https://raceconnections.com
X-WR-CALDESC:Events for Race CONNECTIONS
REFRESH-INTERVAL;VALUE=DURATION:PT1H
X-Robots-Tag:noindex
X-PUBLISHED-TTL:PT1H
BEGIN:VTIMEZONE
TZID:Europe/London
BEGIN:DAYLIGHT
TZOFFSETFROM:+0000
TZOFFSETTO:+0100
TZNAME:BST
DTSTART:20180325T010000
END:DAYLIGHT
BEGIN:STANDARD
TZOFFSETFROM:+0100
TZOFFSETTO:+0000
TZNAME:GMT
DTSTART:20181028T010000
END:STANDARD
BEGIN:DAYLIGHT
TZOFFSETFROM:+0000
TZOFFSETTO:+0100
TZNAME:BST
DTSTART:20190331T010000
END:DAYLIGHT
BEGIN:STANDARD
TZOFFSETFROM:+0100
TZOFFSETTO:+0000
TZNAME:GMT
DTSTART:20191027T010000
END:STANDARD
BEGIN:DAYLIGHT
TZOFFSETFROM:+0000
TZOFFSETTO:+0100
TZNAME:BST
DTSTART:20200329T010000
END:DAYLIGHT
BEGIN:STANDARD
TZOFFSETFROM:+0100
TZOFFSETTO:+0000
TZNAME:GMT
DTSTART:20201025T010000
END:STANDARD
BEGIN:DAYLIGHT
TZOFFSETFROM:+0000
TZOFFSETTO:+0100
TZNAME:BST
DTSTART:20210328T010000
END:DAYLIGHT
BEGIN:STANDARD
TZOFFSETFROM:+0100
TZOFFSETTO:+0000
TZNAME:GMT
DTSTART:20211031T010000
END:STANDARD
BEGIN:DAYLIGHT
TZOFFSETFROM:+0000
TZOFFSETTO:+0100
TZNAME:BST
DTSTART:20220327T010000
END:DAYLIGHT
BEGIN:STANDARD
TZOFFSETFROM:+0100
TZOFFSETTO:+0000
TZNAME:GMT
DTSTART:20221030T010000
END:STANDARD
END:VTIMEZONE
BEGIN:VEVENT
DTSTART;VALUE=DATE:20211002
DTEND;VALUE=DATE:20211010
DTSTAMP:20260421T124247
CREATED:20210221T160938Z
LAST-MODIFIED:20210221T160938Z
UID:10005418-1633132800-1633823999@raceconnections.com
SUMMARY:ULTRA X JORDAN - Ultra Marathon October 2021
DESCRIPTION:Ultra X Jordan (previously the Wadi Rum Ultra) takes place in the land of Lawrence of Arabia. The mystical desert course takes competitors past historic sites\, into dramatic wadis and over magnificent sand dunes. \nWadi Rum’s nickname is “The Valley of the Moon” and participants will quickly see why. Its landscape\, characterised by unique towering rock formations\, is truly mind-blowing\, as is the challenge. As locations go\, this place is unrivalled in its beauty. \nWe are dreaming of the desert! \nDid you know that Ultra X Jordan was our first event? From 2016 to 2018 it was called the Wadi Rum Ultra. In 2017\, Sam and Jamie (the co-founders) met\, Sam was running and Jamie was the Race Director! The two got on and the rest is history! \nHere is why we think you should be joining us this October: \n1) The Course \nOur race course\, which changes slightly each year will take participants on a grand tour of Wadi Rum’s protected region. You’ll pass through canyons\, dried up riverbeds and occasionally over big sand dunes. \n2) The History \nThe desert is steeped in history. Wadi Rum may be best known for its connection with British Army officer T. E. Lawrence aka Lawrence of Arabia\, who passed through several times during the Arab Revolt of 1917–18. \nIf Wadi Rum isn’t enough for you\, the opportunity to visit the Lost City of Petra on the Saturday after the race certainly will be. \nPetra will take your breath away. The area is thought to have been inhabited from as early as 7000 BC and was once a major regional trading hub used by the Nabataean people. For the film buffs among you\, it’s fame was amplified in Indiana Jones\, The Last Crusade \n  \n\n\n\n\nMEDAL RIBBONS\n\n\n\n\n\n\n\n\n\n\n\n\nAll finishers will receive a race medal. Different medal ribbons will be awarded based upon the finishing times outlined below. \nAs part of our Sustainability Policy\, the Green Ribbon will be awarded to the competitor that displays the highest commitment to reducing their environmental impact both in preparation for and during the race (as determined by the organisers). \n\n\n\n\n\n\n\n\n\n\n\n\n\n\nBLACK RIBBON\n\nUnder 27 hours \n\n\n\n\n\n\n\n\n\n\nWHITE RIBBON\n\nUnder 30 hours \n\n\n\n\n\n\n\n\n\n\nBLUE RIBBON\n\nOver 30 hours \n\n\n\n\n\n\n\n\n\n\n\nINCLUDED:\n\n\n\n\n\n\n\n1. Race entry \n2. Accommodation during the race (3-8 October) \n3. Transfers between Amman and Wadi Rum desert \n4. Medical staff on course and at all campsites \n5. Osteopathy staff on course and at all campsites \n6. Drinking water at checkpoints on course and hot water\nfor preparing food at all campsites \n7. Celebratory meal and local entertainment on the final night of the race \n8. Ground assistance and full safety support \n9. Digital copies of all images from event photographer \n10. Individual/team rankings and ITRA points \n11. Finisher’s medal \n\n\n\nNOT INCLUDED:\n\n\n\n\n1. Flights \n2. Accommodation before or after the race (accommodation at the race hotel can be purchased as an add-on at checkout) \n3. Personal food\, kit and equipment (see kit list below) \n4. Comprehensive insurance (to cover cancellations\, loss of items\, injury etc) \n5. Training costs \n6. Spending money \n7. Transport home for runners who are\ndisqualified or withdraw early
URL:https://raceconnections.com/event/ultra-x-jordan-ultra-marathon-october-2021/
LOCATION:Jordan\, Amman\, Wadi Rum\, Jordan
CATEGORIES:Marathon,Trail Running,Trail Triathlon,Ultra Marathon
ATTACH;FMTTYPE=image/png:https://raceconnections.com/wp-content/uploads/2021/02/Ultra-Marathon-Dessert-Run-2021.png
ORGANIZER;CN="Ultra X":MAILTO:contact@ultra-x.co
GEO:31.9539494;35.910635
END:VEVENT
BEGIN:VEVENT
DTSTART;VALUE=DATE:20190921
DTEND;VALUE=DATE:20190922
DTSTAMP:20260421T124247
CREATED:20190605T080120Z
LAST-MODIFIED:20190605T080120Z
UID:10004905-1569024000-1569110399@raceconnections.com
SUMMARY:Chocolate marathon
DESCRIPTION:Schoko Marathon – More than just chocolate!\n\n\nThis year will not only be sweet – but the ultimate highlight for all chocolate lovers. Many participants will (again) want to take the chance to immerse themselves in the world of chocolate. Each of our events is inspired by a combination of chocolate products\, cocoa and liquid chocolate enjoyment. \nAn interesting and informative supporting program as well as numerous specials\, special discounts and competitions complete the event. \nAs a small extra bonus\, we have integrated the areas of confectionery\, coffee\, tea and wine. \nWith just one ticket you get: \n– 8 hours chocolate treat \n– in selected shops\n– numerous free  samples\n– Exclusive special and special discounts\n– great highlights\, specials and competitions \nChildren under 12 years can participate in the Schoko Marathon for free (2 children per ticket). \n\nMore information: https://www.schoko-marathon.com/
URL:https://raceconnections.com/event/chocolate-marathon/
LOCATION:Linz Stadt\, Austria
CATEGORIES:Marathon
ATTACH;FMTTYPE=image/jpeg:https://raceconnections.com/wp-content/uploads/2019/06/50029878_1986053421450267_9111390454057795584_n.jpg
GEO:47.516231;14.550072
END:VEVENT
END:VCALENDAR