BEGIN:VCALENDAR
VERSION:2.0
PRODID:-//Race CONNECTIONS - ECPv6.15.20//NONSGML v1.0//EN
CALSCALE:GREGORIAN
METHOD:PUBLISH
X-WR-CALNAME:Race CONNECTIONS
X-ORIGINAL-URL:https://raceconnections.com
X-WR-CALDESC:Events for Race CONNECTIONS
REFRESH-INTERVAL;VALUE=DURATION:PT1H
X-Robots-Tag:noindex
X-PUBLISHED-TTL:PT1H
BEGIN:VTIMEZONE
TZID:Europe/London
BEGIN:DAYLIGHT
TZOFFSETFROM:+0000
TZOFFSETTO:+0100
TZNAME:BST
DTSTART:20200329T010000
END:DAYLIGHT
BEGIN:STANDARD
TZOFFSETFROM:+0100
TZOFFSETTO:+0000
TZNAME:GMT
DTSTART:20201025T010000
END:STANDARD
BEGIN:DAYLIGHT
TZOFFSETFROM:+0000
TZOFFSETTO:+0100
TZNAME:BST
DTSTART:20210328T010000
END:DAYLIGHT
BEGIN:STANDARD
TZOFFSETFROM:+0100
TZOFFSETTO:+0000
TZNAME:GMT
DTSTART:20211031T010000
END:STANDARD
BEGIN:DAYLIGHT
TZOFFSETFROM:+0000
TZOFFSETTO:+0100
TZNAME:BST
DTSTART:20220327T010000
END:DAYLIGHT
BEGIN:STANDARD
TZOFFSETFROM:+0100
TZOFFSETTO:+0000
TZNAME:GMT
DTSTART:20221030T010000
END:STANDARD
BEGIN:DAYLIGHT
TZOFFSETFROM:+0000
TZOFFSETTO:+0100
TZNAME:BST
DTSTART:20230326T010000
END:DAYLIGHT
BEGIN:STANDARD
TZOFFSETFROM:+0100
TZOFFSETTO:+0000
TZNAME:GMT
DTSTART:20231029T010000
END:STANDARD
BEGIN:DAYLIGHT
TZOFFSETFROM:+0000
TZOFFSETTO:+0100
TZNAME:BST
DTSTART:20240331T010000
END:DAYLIGHT
BEGIN:STANDARD
TZOFFSETFROM:+0100
TZOFFSETTO:+0000
TZNAME:GMT
DTSTART:20241027T010000
END:STANDARD
BEGIN:DAYLIGHT
TZOFFSETFROM:+0000
TZOFFSETTO:+0100
TZNAME:BST
DTSTART:20250330T010000
END:DAYLIGHT
BEGIN:STANDARD
TZOFFSETFROM:+0100
TZOFFSETTO:+0000
TZNAME:GMT
DTSTART:20251026T010000
END:STANDARD
END:VTIMEZONE
BEGIN:VEVENT
DTSTART;TZID=Europe/London:20240331T083000
DTEND;TZID=Europe/London:20240331T130000
DTSTAMP:20260421T202849
CREATED:20220117T171028Z
LAST-MODIFIED:20230801T152351Z
UID:10005474-1711873800-1711890000@raceconnections.com
SUMMARY:Kew Gardens Half Marathon 2024
DESCRIPTION:KEW THE RUN 10K & HALF MARATHON | 30TH – 31st APRIL 2024. This new 10K and Half Marathon will start at Kew Gardens. Every runner will receive a fantastic medal\, a technical running t-shirt (male & female cut)and free entry into Kew Gardens. Finishing with a post-race family picnic! The 10k will take place all inside Kew Gardens\, with the Half Marathon taking you on a scenic tour of the leafy London Borough of Richmond. Starting and finishing at Kew Gardens via a scenic tour of the Richmond Riverside and Ham House. Also\, check out our other Kew Gardens event\, ‘Richmond Runfest’\, happening on the 9/10th September 2023. It also includes a 5k 10k half marathon and marathon. Plus some great kids’ events. \nWhere and when\nLocation\nRoyal Botanic Gardens\, Kew\, Richmond TW9\, UK\nStart times\nSat 30th Mar 2024\n10k | 8:30 am\nSun 31st March 2024\nHalf Marathon | 8:30 am \nRoute information\nThis fast half marathon and 10k routes are potentially London’s flattest course and take runners along roads and paths as they whizz around the beautiful Kew Gardens. Perfect for new and experienced runners alike\, this event is for everyone.\nExperienced runners can push for a PB around this course\, and it is a perfect course for anyone taking on this distance for the first time. And whether it is your 1st or your 50th race\, the marshals will support you all the way around.\nThe stunning course provides a perfect escape from London for a brilliant way to see the summer. \nWhat’s included\n– Finisher’s Medal\n– Event T-shirt\n– Goodies\n– The well-marshalled course inside a botanical garden\n– Chip-timed results\n– First aid\n– Water stations\n– Toilets\n– Bag drop \nEvent day logistics\nSaturday\n08:20 10k starts\nSunday\n08:20 Half marathon starts \nAll race numbers will be sent out in the post with your race pack two weeks before the event.\nPlease arrive early\, allowing plenty of time to register and get ready for your race. \nAge Requirements\nAll entrants for the 10k must be 15 and older\, and for the half marathon\, they must be 17 and older to enter the event. \nKew Gardens\nYour Kew Gardens Half & 10k entry includes two adult and two children’s tickets into Kew Gardens on the day for free. \n \nRace Organiser: Richmond RunFest
URL:https://raceconnections.com/event/kew-gardens-half-marathon-2022/
LOCATION:Kew Gardens\, Kew Richmond \, Surrey\, TW9 3AE\, United Kingdom
CATEGORIES:Half Marathon
ATTACH;FMTTYPE=image/jpeg:https://raceconnections.com/wp-content/uploads/2022/01/Nice-Palm-House.jpg
ORGANIZER;CN="Richmond Runfest":MAILTO:info@richmondrunningfestival.com
GEO:51.4847559;-0.2919868
X-APPLE-STRUCTURED-LOCATION;VALUE=URI;X-ADDRESS=Kew Gardens Kew Richmond  Surrey TW9 3AE United Kingdom;X-APPLE-RADIUS=500;X-TITLE=Kew Richmond:geo:-0.2919868,51.4847559
END:VEVENT
BEGIN:VEVENT
DTSTART;TZID=Europe/London:20211010T090000
DTEND;TZID=Europe/London:20211010T160000
DTSTAMP:20260421T202849
CREATED:20210803T173600Z
LAST-MODIFIED:20210803T173600Z
UID:10005444-1633856400-1633881600@raceconnections.com
SUMMARY:Manchester Marathon 2021 (Updated)
DESCRIPTION:Take to the streets of Manchester in one of Europe’s top Marathon’s. So whether you’re attempting a personal best or aiming to complete your first marathon\, this event is suitable for runners of all proficiencies. The course is flat and fast and takes you through the cities streets. So come for the medal at the Manchester Marathon! \nHow to enter\nTickets are available until Sun Oct 10 2021 \nWhat’s included: \n– Chunky medal\n– Finisher’s Recovery goody bag \nRoute description\nSome highlights of the route: \n– The flattest marathon course in the UK – flatter than London\, Edinburgh\, New York\, Chicago and many others \n– Perfect PB course \n– The race village is situated at Emirates Old Trafford\, the home of Lancashire County Cricket Club\, on the car park in front of the pavilion. \n– The race will start on the A56 near the White City roundabout\, a short walk from the race village at Emirates Old Trafford \n– Awesome entertainment and support along the course – see the comments page to hear what our runners said \n– The route will be held entirely on closed\, main roads \n– More of the route in Altrincham where the crowd support was amazing \n– We have a new 8m wide finish outside Emirates Old Trafford\, Lancashire County Cricket Club (LCCC) on Talbot Road \nAt our 2017 event\, 86% of the top 50 recorded a PB or SB\, and 50% of the top 250 got a PB. This race is YOUR best chance to get a marathon PB! \nCourse Measurement \nThe ASICS Greater Manchester Marathon in Trafford has been officially measured as accurate by the Association of UK Course Measurers. \nSome highlights of the route: \n-The flattest marathon course in the UK – flatter than London\, Edinburgh\, New York\, Chicago and many others\n– Perfect PB course\n– The race village is situated at Emirates Old Trafford\, the home of Lancashire County Cricket Club\, in the car park in front of the pavilion.\n– The race will start on the A56 near the White City roundabout\, a short walk from the race village at Emirates Old Trafford\n– Awesome entertainment and support along the course – see the comments page to hear what our runners said\n– The route will be held entirely on closed\, main roads\n– More of the route in Altrincham where the crowd support was amazing\n– We have a new 8m wide finish outside Emirates Old Trafford\, Lancashire County Cricket Club (LCCC) on Talbot Road \nLogistics and schedule\nRace Date: 10th October 2021 \n*More information will be available closer to the race. \nThe venue address is:\nEmirates Old Trafford\, Lancashire County Cricket Club\, Talbot Rd\, Manchester M16 0PX\, United Kingdom \nThe venue is next door to the Old Trafford Metrolink stop. \nTravel By Public Transport – Metrolink \nThe Metrolink tram network is the easiest way to get to the race; several cost-effective ticket options are for both runners and spectators. Both Old Trafford and Trafford Bar stops are less than a 10-minute walk from the Athletes Village\, Race Village and Start Area. View the Metrolink network map here. \nIf you’re staying for the weekend\, adult Travelcards are available for only £6.20 for travel from 6.00 pm Friday to end-of-service on Sunday evening. This will enable you to make an unlimited number of journeys anywhere on the network throughout the weekend. Travel cards can be purchased from the ticket machines located on all tram stops. For those travelling with their family\, it’s just £8.70 for up to two adults and three children to travel all weekend. \nTrams run regularly on all lines meaning there is no need to check a timetable – catching the tram really couldn’t be easier\, be sure to buy a ticket before you board as tickets aren’t available on the trams themselves. \nRail Services \nIf you are travelling to the event from outside Manchester by rail\, we recommend using Manchester Piccadilly or Manchester Victoria stations. Both stations have Metrolink connections\, so you can quickly hop on a tram to continue your journey. \nTaxis \nEmirates Old Trafford- Lancashire County Cricket Club is 5 miles from Manchester City Centre (Piccadilly Gardens). Taxis from Manchester City Centre normally cost around £10-£15. Check before embarking on your journey. Roads in the vicinity of the Athletes Village\, Race Village\, and Start Area will be affected by road closures attributed to the event. Please refer to the drop off information below. \nAirport \nManchester International Airport is approximately 20 minutes from the area. By car\, join the M56 motorway at the airport exit (junction 5) and then follow the directions ‘From The South’ shown above.\nThere are direct train services to Manchester City Centre and a Metrolink Service that runs to the Trafford Bar stop. This Metrolink service takes approximately 40 minutes\, and Trafford Bar is a 10-minute walk from the Athletes Village\, Race Village and Start Area. \nGetting Around \nIf you are using public transport\, we strongly recommend using Metrolink to get to and from the race village. \nParking \nManchester United FC has many exceptionally convenient and secure car parking spaces available next to the race start. These are pre-bookable\, and the closest spaces are allocated first. \nDisabled Car Parking Facilities \nThese are available in the car park at the football ground. \nBy Bicycle \nThere is space in the race village for you to lock up your bicycle. This is not operated at any time. The event organisers cannot accept responsibility for any losses or damages\, however\, caused\, so please ensure your bike is securely locked. \n \nRace Organiser: Human Race \n  \n 
URL:https://raceconnections.com/event/manchester-marathon-2021-updated/
LOCATION:Emirates Old Trafford\, Emirates Old Trafford\, Lancashire County Cricket Club\, Talbot Rd\, Manchester M16 0PX\, United Kingdom\, Lancashire\, Manchester\, M16 0PX\, United Kingdom
CATEGORIES:Marathon,Running
ATTACH;FMTTYPE=image/png:https://raceconnections.com/wp-content/uploads/2021/08/Screenshot-2021-08-04-at-1.31.19-AM.png
GEO:53.456428;-2.286797
X-APPLE-STRUCTURED-LOCATION;VALUE=URI;X-ADDRESS=Emirates Old Trafford Emirates Old Trafford Lancashire County Cricket Club Talbot Rd Manchester M16 0PX United Kingdom Lancashire Manchester M16 0PX United Kingdom;X-APPLE-RADIUS=500;X-TITLE=Emirates Old Trafford\, Lancashire County Cricket Club\, Talbot Rd\, Manchester M16 0PX\, United Kingdom:geo:-2.286797,53.456428
END:VEVENT
END:VCALENDAR