BEGIN:VCALENDAR
VERSION:2.0
PRODID:-//Race CONNECTIONS - ECPv6.15.20//NONSGML v1.0//EN
CALSCALE:GREGORIAN
METHOD:PUBLISH
X-WR-CALNAME:Race CONNECTIONS
X-ORIGINAL-URL:https://raceconnections.com
X-WR-CALDESC:Events for Race CONNECTIONS
REFRESH-INTERVAL;VALUE=DURATION:PT1H
X-Robots-Tag:noindex
X-PUBLISHED-TTL:PT1H
BEGIN:VTIMEZONE
TZID:Europe/London
BEGIN:DAYLIGHT
TZOFFSETFROM:+0000
TZOFFSETTO:+0100
TZNAME:BST
DTSTART:20220327T010000
END:DAYLIGHT
BEGIN:STANDARD
TZOFFSETFROM:+0100
TZOFFSETTO:+0000
TZNAME:GMT
DTSTART:20221030T010000
END:STANDARD
BEGIN:DAYLIGHT
TZOFFSETFROM:+0000
TZOFFSETTO:+0100
TZNAME:BST
DTSTART:20230326T010000
END:DAYLIGHT
BEGIN:STANDARD
TZOFFSETFROM:+0100
TZOFFSETTO:+0000
TZNAME:GMT
DTSTART:20231029T010000
END:STANDARD
BEGIN:DAYLIGHT
TZOFFSETFROM:+0000
TZOFFSETTO:+0100
TZNAME:BST
DTSTART:20240331T010000
END:DAYLIGHT
BEGIN:STANDARD
TZOFFSETFROM:+0100
TZOFFSETTO:+0000
TZNAME:GMT
DTSTART:20241027T010000
END:STANDARD
END:VTIMEZONE
BEGIN:VEVENT
DTSTART;VALUE=DATE:20230122
DTEND;VALUE=DATE:20230123
DTSTAMP:20260419T143216
CREATED:20221202T023920Z
LAST-MODIFIED:20221202T025805Z
UID:10005509-1674345600-1674431999@raceconnections.com
SUMMARY:Richmond Park January 5k\, 10k and Half Marathon
DESCRIPTION:Richmond Park Run 2023.\nStart your NEW YEAR with a fitness focus! Take on our superb Richmond Park 5k\, 10k and half marathon around this gorgeous venue. Places are limited to say yes\, get excited and be part of this fully race chip-timed event!\n \nA chance to lace up those shoes\, get motivated\, focus on training and run this event with us. There will be loads of great entry benefits\, including a super cool medal\, sweets\, drinks and a load of fun! \nThe 5k is one lap\, the 10k is two\, and the half marathon is four laps. \nWe are proud to deliver the best in safety\, fun and high-quality organised events. Encourage friends\, family or work colleagues to join you as places are limited\, and these events sell out quickly. The Half Marathon will start at 9 am\, and the 5k and 10k runs will start at 10 am. We hope to see you there! \n  \nCourse/Site Details\nPlease note the course is a mix of trail and paths\, and we recommend trail shoes for this event – The course also has a gradual incline for the first 2 km – 5k is one lap\, and the 10k is two laps (please note the half marathon is four laps) – off-road buggies are ok – wheelchair friendly however some sections are on grass/trail – note the course may be altered at any point up to event day if necessary. \n \n\nEvent Details\nDate: Sunday\, 22 January 2023 \nVenue: Richmond ParkEast Sheen Carpark\, Sheen Gate\, London\, SW148BJ. \nDistances: Half Marathon\, 10K\, 5K
URL:https://raceconnections.com/event/richmond-park-run-2023/
LOCATION:Richmond ParkEast Sheen Carpark\, Sheen Gate\, London\, SW148BJ.\, Richmond ParkEast Sheen Carpark\, Sheen Gate\, London\, SW148BJ.\, London\, Richmond\, SW14 8BJ\, United Kingdom
CATEGORIES:10K Run,5K Run,Half Marathon,Running
ATTACH;FMTTYPE=image/jpeg:https://raceconnections.com/wp-content/uploads/2022/12/Richmond-Park-Run-Jan.-2023.jpg
GEO:51.4566997;-0.2693857
X-APPLE-STRUCTURED-LOCATION;VALUE=URI;X-ADDRESS=Richmond ParkEast Sheen Carpark Sheen Gate London SW148BJ. Richmond ParkEast Sheen Carpark Sheen Gate London SW148BJ. London Richmond SW14 8BJ United Kingdom;X-APPLE-RADIUS=500;X-TITLE=Richmond ParkEast Sheen Carpark\, Sheen Gate\, London\, SW148BJ.:geo:-0.2693857,51.4566997
END:VEVENT
END:VCALENDAR