BEGIN:VCALENDAR
VERSION:2.0
PRODID:-//Race CONNECTIONS - ECPv6.15.20//NONSGML v1.0//EN
CALSCALE:GREGORIAN
METHOD:PUBLISH
X-WR-CALNAME:Race CONNECTIONS
X-ORIGINAL-URL:https://raceconnections.com
X-WR-CALDESC:Events for Race CONNECTIONS
REFRESH-INTERVAL;VALUE=DURATION:PT1H
X-Robots-Tag:noindex
X-PUBLISHED-TTL:PT1H
BEGIN:VTIMEZONE
TZID:Europe/London
BEGIN:DAYLIGHT
TZOFFSETFROM:+0000
TZOFFSETTO:+0100
TZNAME:BST
DTSTART:20190331T010000
END:DAYLIGHT
BEGIN:STANDARD
TZOFFSETFROM:+0100
TZOFFSETTO:+0000
TZNAME:GMT
DTSTART:20191027T010000
END:STANDARD
BEGIN:DAYLIGHT
TZOFFSETFROM:+0000
TZOFFSETTO:+0100
TZNAME:BST
DTSTART:20200329T010000
END:DAYLIGHT
BEGIN:STANDARD
TZOFFSETFROM:+0100
TZOFFSETTO:+0000
TZNAME:GMT
DTSTART:20201025T010000
END:STANDARD
BEGIN:DAYLIGHT
TZOFFSETFROM:+0000
TZOFFSETTO:+0100
TZNAME:BST
DTSTART:20210328T010000
END:DAYLIGHT
BEGIN:STANDARD
TZOFFSETFROM:+0100
TZOFFSETTO:+0000
TZNAME:GMT
DTSTART:20211031T010000
END:STANDARD
END:VTIMEZONE
BEGIN:VTIMEZONE
TZID:Asia/Kuala_Lumpur
BEGIN:STANDARD
TZOFFSETFROM:+0800
TZOFFSETTO:+0800
TZNAME:+08
DTSTART:20180101T000000
END:STANDARD
END:VTIMEZONE
BEGIN:VEVENT
DTSTART;VALUE=DATE:20200628
DTEND;VALUE=DATE:20200629
DTSTAMP:20260421T124640
CREATED:20191026T024726Z
LAST-MODIFIED:20191027T083117Z
UID:10005082-1593302400-1593388799@raceconnections.com
SUMMARY:Outlaw Holkham Half Triathlon
DESCRIPTION:Set in the majestic grounds of the historic Holkham Estate\, Outlaw Half Holkham is without doubt one of the UK’s most spectacular triathlon events. \nThe 18th century Holkham Hall provides a truly stunning backdrop to the swim\, both transitions and the run course\, while the single loop bike course will take participants on an unforgettable journey through some of the most beautiful countryside and coastal roads Norfolk has to offer. \nProviding the only opportunity during the year to camp in the glorious Holkham Estate\, this is truly a weekend to remember for our participants and spectators. It’s no surprise Outlaw Half Holkham is becoming one of the UK’s most popular triathlons. \nIndividual Entry\, Relay Team categories available. \n  \nDISTANCES: 1.2M SWIM\, 56M BIKE\, 13.1M RUN \n[fusion_button link=”https://endurancecui.active.com/event-reg/select-race?e=64169552&locale=en_GB&#8221; text_transform=”” title=”” target=”_blank” link_attributes=”” alignment=”center” modal=”” hide_on_mobile=”small-visibility\,medium-visibility\,large-visibility” class=”” id=”” s2id_autogen19=”” s2id_autogen19_search=”” color=”default” button_gradient_top_color=”” button_gradient_bottom_color=”” button_gradient_top_color_hover=”” button_gradient_bottom_color_hover=”” accent_color=”” accent_hover_color=”” type=”” bevel_color=”” border_width=”” border_radius=”” border_color=”” border_hover_color=”” size=”” stretch=”default” icon=”” icon_position=”left” icon_divider=”no” s2id_autogen20=”” s2id_autogen20_search=”” animation_type=”” animation_direction=”left” animation_speed=”0.3″ s2id_autogen21=”” s2id_autogen21_search=”” animation_offset=””]Enter Now[/fusion_button] \n  \nThings you can expect from the Holkham Half is : \nBREATHTAKING LOCATIONS\nOutlaw races are located in the very best and most beautiful locations from across the UK \nON COURSE SUPPORT\nFrom cheering supporters to feed stations & mechanics\, we’ve got you covered \nFINISHERS’ TECHNICAL T-SHIRT & MEDAL\nSo you can show off your amazing achievement \nFREE PERSONAL EVENT PHOTOS\nSay hello to your new profile picture! \nFAMILY FINISH\nAt Outlaw events\, you get to cross the finish line with your biggest supporters! \nWORLD CLASS ORGANISATION\nDelivered by triathletes for triathletes \nFREE POST-RACE MASSAGE\nTo help breathe some life back into your tired legs \nIN-DEPTH RESULTS ANALYSIS\nAlong with an event app and live tracking \nFREE POST-RACE MEAL\nA tasty and nutritious meal post-race always goes down a treat
URL:https://raceconnections.com/event/outlaw-holkham-half-triathlon/
LOCATION:HOLKHAM HALL\, Norfolk\, United Kingdom
CATEGORIES:Triathlon
ATTACH;FMTTYPE=image/jpeg:https://raceconnections.com/wp-content/uploads/2019/10/outlaw.jpg
ORGANIZER;CN="OSB Events":MAILTO:info@osbevents.com
GEO:52.6139686;0.8864021
END:VEVENT
BEGIN:VEVENT
DTSTART;VALUE=DATE:20191124
DTEND;VALUE=DATE:20191125
DTSTAMP:20260421T124640
CREATED:20191105T083903Z
LAST-MODIFIED:20191105T084217Z
UID:10005097-1574553600-1574639999@raceconnections.com
SUMMARY:Challenge Iskandar Puteri
DESCRIPTION:A well organised Middle Distance Triathlon in the Southern Tip of West Malaysia in the State of Johor. The Challenge Iskandar Puteri  Includes a Kids Senior\, Kids Junior\, Kids Intermediate\, Individual and Relay Events.
URL:https://raceconnections.com/event/challenge-iskandar-puteri/
LOCATION:Iskandar Puteri\, Iskandar Puteri\, Johor\, Malaysia
CATEGORIES:Children (up to 12),Junior (13-19),Triathlon
ATTACH;FMTTYPE=image/jpeg:https://raceconnections.com/wp-content/uploads/2019/11/CIP19-Banner-Triathlon-Malaysia.jpg
ORGANIZER;CN="CARBON SPORTS SDN BHD":MAILTO:info-challenge@carbon-worldwide.com
GEO:1.4200356;103.6304834
END:VEVENT
END:VCALENDAR