BEGIN:VCALENDAR
VERSION:2.0
PRODID:-//Race CONNECTIONS - ECPv6.15.20//NONSGML v1.0//EN
CALSCALE:GREGORIAN
METHOD:PUBLISH
X-ORIGINAL-URL:https://raceconnections.com
X-WR-CALDESC:Events for Race CONNECTIONS
REFRESH-INTERVAL;VALUE=DURATION:PT1H
X-Robots-Tag:noindex
X-PUBLISHED-TTL:PT1H
BEGIN:VTIMEZONE
TZID:Europe/London
BEGIN:DAYLIGHT
TZOFFSETFROM:+0000
TZOFFSETTO:+0100
TZNAME:BST
DTSTART:20180325T010000
END:DAYLIGHT
BEGIN:STANDARD
TZOFFSETFROM:+0100
TZOFFSETTO:+0000
TZNAME:GMT
DTSTART:20181028T010000
END:STANDARD
BEGIN:DAYLIGHT
TZOFFSETFROM:+0000
TZOFFSETTO:+0100
TZNAME:BST
DTSTART:20190331T010000
END:DAYLIGHT
BEGIN:STANDARD
TZOFFSETFROM:+0100
TZOFFSETTO:+0000
TZNAME:GMT
DTSTART:20191027T010000
END:STANDARD
BEGIN:DAYLIGHT
TZOFFSETFROM:+0000
TZOFFSETTO:+0100
TZNAME:BST
DTSTART:20200329T010000
END:DAYLIGHT
BEGIN:STANDARD
TZOFFSETFROM:+0100
TZOFFSETTO:+0000
TZNAME:GMT
DTSTART:20201025T010000
END:STANDARD
END:VTIMEZONE
BEGIN:VEVENT
DTSTART;VALUE=DATE:20190810
DTEND;VALUE=DATE:20190811
DTSTAMP:20260419T181214
CREATED:20190612T071102Z
LAST-MODIFIED:20190612T072951Z
UID:10004915-1565395200-1565481599@raceconnections.com
SUMMARY:Iron Kids Philippines
DESCRIPTION:Open to children 6 to 14 years old\, Alaska IronKids Philippines is the local junior version of the international triathlon series\, Ironman. Triathlon is a race that features three sporting events: running\, swimming and biking. The competition is open to kids who are new to the sport and those who have already joined other triathlon events. \nAlaska Ironkids aims to promote a well-balanced lifestyle for kids of today\, who are used to staying indoors with TV\, videogame console and the Internet as companions. Ironkids is also the perfect venue for families to bond and for parents to demonstrate in “real-time” that being HEALTHY can also be fun. \n  \n\n\nIRONKIDS 2019 Race Schedule\n  \n\nIRONKIDS 2019 (SWIM.RUN) – Race Category\n \n\n\n\nAge Group\nSwim\nRun\n\n\n6 to 8 yrs\n100 m\n1 km\n\n\n9 to 10 yrs\n200 m\n1.5 km\n\n\n11 to 12 yrs\n300 m\n2 km\n\n\n13 to 14 yrs\n400 m\n3 km\n\n\n\n\n\nIRONKIDS 2019 (SWIM.RUN) – Play Category\n \n\n\n\nAge Group\nSwim\nRun\n\n\nPLAY CATEGORY 1\, SHORT (6-10)\n100 m\n1 km\n\n\nPLAY CATEGORY 2\, LONG (11-14)\n200 m\n1.5 km\n\n\n\n\n\nIRONKIDS 2019 (SWIM.RUN) – Relay\n \n\n\n\nAge Group\nSwim\nRun\n\n\nMixed Team Relay 11-14\n200 m\n1.5 km\n\n\nMixed Team Relay 06-10\n100 m\n1 km\n\n\n\n\nIronkids (SWIM.RUN) – 1 ( March 23\,\, 2019 )\nIronkids (SWIM.RUN) – 2 ( May 12\,\, 2019 )\nIronkids (SWIM.RUN) – 2 ( June 1\, 2019 ) \n  \n  \n\nIRONKIDS 2019 (SWIM.BIKE.RUN) – Race Category\n \n\n\n\nAge Group\nSwim\nBike\nRun\n\n\n6 to 8 yrs\n100 m\n3 km\n1 km\n\n\n9 to 10 yrs\n200 m\n6 km\n1.5 km\n\n\n11 to 12 yrs\n300 m\n9 km\n2 km\n\n\n13 to 14 yrs\n400 m\n12 km\n3 km\n\n\n\n\n\nIRONKIDS 2019 (SWIM.BIKE.RUN) – Play Category\n \n\n\n\nAge Group\nSwim\nBike\nRun\n\n\nPLAY CATEGORY 1\, SHORT (6-10)\n100 m\n3 km\n1 km\n\n\nPLAY CATEGORY 2\, LONG (11-14)\n200 m\n6 km\n1.5 km\n\n\n\n\n\nIRONKIDS 2019 (SWIM.BIKE.RUN) – Relay\n \n\n\n\nAge Group\nSwim\nBike\nRun\n\n\nMixed Team Relay 11-14\n200 m\n6 km\n1.5 km\n\n\nMixed Team Relay 06-10\n100 m\n3 km\n1 km\n\n\n\n\nIronkids (SWIM.BIKE.RUN) – ( August 10\, 2019 ) \n  \n \nAlaska Fortified IRONKIDS Philippines is for children and their families. \n  \nRegister Now :  \nhttp://ironkidsphil.com/ \nhttp://ironkidsphil.com/registration/
URL:https://raceconnections.com/event/iron-kids-philippines/
LOCATION:Mactan\, Cebu\, Philippines
CATEGORIES:Children (up to 12),Junior (13-19),Triathlon
ATTACH;FMTTYPE=image/jpeg:https://raceconnections.com/wp-content/uploads/2019/06/Alaska-Ironkids-Philippines-Run.jpg
GEO:10.607936;123.8857747
END:VEVENT
END:VCALENDAR