BEGIN:VCALENDAR
VERSION:2.0
PRODID:-//Race CONNECTIONS - ECPv6.15.20//NONSGML v1.0//EN
CALSCALE:GREGORIAN
METHOD:PUBLISH
X-WR-CALNAME:Race CONNECTIONS
X-ORIGINAL-URL:https://raceconnections.com
X-WR-CALDESC:Events for Race CONNECTIONS
REFRESH-INTERVAL;VALUE=DURATION:PT1H
X-Robots-Tag:noindex
X-PUBLISHED-TTL:PT1H
BEGIN:VTIMEZONE
TZID:Europe/London
BEGIN:DAYLIGHT
TZOFFSETFROM:+0000
TZOFFSETTO:+0100
TZNAME:BST
DTSTART:20180325T010000
END:DAYLIGHT
BEGIN:STANDARD
TZOFFSETFROM:+0100
TZOFFSETTO:+0000
TZNAME:GMT
DTSTART:20181028T010000
END:STANDARD
BEGIN:DAYLIGHT
TZOFFSETFROM:+0000
TZOFFSETTO:+0100
TZNAME:BST
DTSTART:20190331T010000
END:DAYLIGHT
BEGIN:STANDARD
TZOFFSETFROM:+0100
TZOFFSETTO:+0000
TZNAME:GMT
DTSTART:20191027T010000
END:STANDARD
BEGIN:DAYLIGHT
TZOFFSETFROM:+0000
TZOFFSETTO:+0100
TZNAME:BST
DTSTART:20200329T010000
END:DAYLIGHT
BEGIN:STANDARD
TZOFFSETFROM:+0100
TZOFFSETTO:+0000
TZNAME:GMT
DTSTART:20201025T010000
END:STANDARD
BEGIN:DAYLIGHT
TZOFFSETFROM:+0000
TZOFFSETTO:+0100
TZNAME:BST
DTSTART:20210328T010000
END:DAYLIGHT
BEGIN:STANDARD
TZOFFSETFROM:+0100
TZOFFSETTO:+0000
TZNAME:GMT
DTSTART:20211031T010000
END:STANDARD
BEGIN:DAYLIGHT
TZOFFSETFROM:+0000
TZOFFSETTO:+0100
TZNAME:BST
DTSTART:20220327T010000
END:DAYLIGHT
BEGIN:STANDARD
TZOFFSETFROM:+0100
TZOFFSETTO:+0000
TZNAME:GMT
DTSTART:20221030T010000
END:STANDARD
BEGIN:DAYLIGHT
TZOFFSETFROM:+0000
TZOFFSETTO:+0100
TZNAME:BST
DTSTART:20230326T010000
END:DAYLIGHT
BEGIN:STANDARD
TZOFFSETFROM:+0100
TZOFFSETTO:+0000
TZNAME:GMT
DTSTART:20231029T010000
END:STANDARD
BEGIN:DAYLIGHT
TZOFFSETFROM:+0000
TZOFFSETTO:+0100
TZNAME:BST
DTSTART:20240331T010000
END:DAYLIGHT
BEGIN:STANDARD
TZOFFSETFROM:+0100
TZOFFSETTO:+0000
TZNAME:GMT
DTSTART:20241027T010000
END:STANDARD
END:VTIMEZONE
BEGIN:VEVENT
DTSTART;TZID=Europe/London:20230520T000000
DTEND;TZID=Europe/London:20230520T235959
DTSTAMP:20260420T233656
CREATED:20230326T111111Z
LAST-MODIFIED:20230325T121719Z
UID:10006747-1684540800-1684627199@raceconnections.com
SUMMARY:Cheshire UK Kids Fun Duathlon
DESCRIPTION:Date:Saturday 20th May 2023Venue:Barony Park\, Nantwich\, South Cheshire\, CW5 5QYEvent Start:From 1200hrsAge Range:5 Years to 16 Years (on race day)Prices:From £15 (each distance individually priced).\n\n\n\nThe Event\n\n\n\nThe Cheshire Kids Duathlon offers a spectator-friendly venue for supporting family or friends and a fun and relaxed atmosphere is guaranteed. \n\n\n\n\nAchievable distances for all abilities of 7-16 yr olds\n\n\n\nThe event course is contained within the grounds of Barony Park\n\n\n\nGrass cycle & run courses (all on grass)\n\n\n\nUK Kids Fun Triathlon finishers medal for every participant\n\n\n\nOfficial UK Kids Fun Event tech tees & hoodies available to purchase on the day\n\n\n\n\nNB: There will be a promotional video being filmed at the event\, so please be aware of this \n\n\n\nAs organisers of the biggest triathlon series across the UK\, we are passionate and proud of what we do. \n\n\n\nThe Kids Fun Duathlons are no exception and leave everyone with a special sense of achievement at the end of an event when hundreds of smiling kids’ faces\, parents’ words of appreciation and promises to return next year confirm that the end result was worth every bit of hard work all round. \n\n\n\nPlease Note: Competitor Race Day Information (Individual Start Times\, Bib Numbers etc.) will be emailed to competitors 7-10 days before the event. \n\n\n\nDistances\n\n\n\nFor Guidance OnlyEvent NameRunBikeRun5-7 yrsTIN100m1k500m6-9 yrsZINC200m1k500m8-11 yrsSTEEL200m2k1000m10-13 yrsBRONZE400m3k1500m12-15 yrsSILVER400m4k2000m13-16 yrsGOLD600m4k2500mAll AgesRELAY TEAM600m4k2500m\n\n\n\nCourse Maps\n\n\n\nCheshire Kids Duathlon – Main CourseCourse map not to scale. \n\n\n\nKids Duathlon Course logistics: \n\n\n\nRun Course 1 will be the start of the Duathlon for all the children (yellow lines). \n\n\n\nOnce they have completed Run Course 1\, the children will get their bikes out of the Cycle Transition. \n\n\n\nThey will run or walk to the cycle mount line. \n\n\n\nThey can only get onto their bike once they have crossed the cycle mount line. \n\n\n\nOnce they have completed all their allocated laps on the bike course\, they go back into the cycle transition and place their bike back onto the cycle racking in the same place (White lines). \n\n\n\nThe children must dismount their bikes before the dismount line. \n\n\n\nThen complete their allocated laps on Run Course 2 before going down the finish line (Orange lines). \n\n\n\nAll Relay teams will complete the same course as the 13 to16-year-olds \n\n\n\n\n\n\n\nRace Day Information\n\n\n\nPlease take some time to read all the event information. It will make it far more enjoyable for you and reduce the need to ask questions on the day. \n\n\n\nGood luck\, and have a great day! \n\n\n\nRace Day Information 2023 \n\n\n\nWE DO NOT POST ANYTHING OUT \n\n\n\nPlease Note: Competitor Race Day Information will be emailed to competitors 7-10 days before the event.
URL:https://raceconnections.com/event/cheshire-uk-kids-fun-duathlon/
LOCATION:Barony Park\, Nantwich\, South Cheshire\, CW5 5QY\, United Kingdom
CATEGORIES:Children (up to 12),Duathlon,Youth
ATTACH;FMTTYPE=image/jpeg:https://raceconnections.com/wp-content/uploads/2023/03/Cheshire-UK-Kids-Fun-Duathlon-e1679746393270.jpg
END:VEVENT
BEGIN:VEVENT
DTSTART;VALUE=DATE:20200926
DTEND;VALUE=DATE:20200928
DTSTAMP:20260420T233656
CREATED:20191030T040046Z
LAST-MODIFIED:20191105T073441Z
UID:10005087-1601078400-1601251199@raceconnections.com
SUMMARY:Hever Castle Triathlon
DESCRIPTION:The World’s Largest Junior Triathlon \nHever Castle Triathlon has established itself as an essential destination for British and international triathletes and the mainstream media\, for its picture postcard venue\, elite action\, age-group choice and festival atmosphere. Put simply\, instant classic doesn’t do the Hever Castle Triathlon justice. \nSibling bonding\, friendship and sporting camaraderie are the theme at the Hever Castle Triathlon. The World’s largest children’s triathlon continues the Brownlee spirit\, with a festival of sport at the historical Kentish and iconic venue. \nAs in previous years\, the children’s races are split over two days (8-10 year olds on Saturday afternoon and 11-15 year olds on Sunday afternoon). \nThe races will again commence with an open-water swim in the spectacular 38 acre Hever Castle Lake and River Eden\, transitioning into the undulating cycle that takes athletes around a circuit through the High Weald of Kent\, an Area of Outstanding Natural Beauty\, and up to the stunning Ashdown forest for the longer distance races. The largely off-road run circumnavigates the estate as well as taking runners through land owned by the Bellhurst Nature Conservation Trust (the majority of this section is not on public rights of way)\, then returning to the award-winning castle grounds before athletes make the dash to the tree-lined finishing chute beside the lake. \nJunior (13-15yrs)300m/8km/4km** £37 / £47 £44 / £55\nChildren (11-12yrs)200m/4km/2km** £33 / £47 £39 / £55\nChildren (8-10yrs)100m/4km/1.3km £28 / £47 £33 / £55 \n \nFor More Triathlons in the UK . List or Add your UK Triathlons Here.
URL:https://raceconnections.com/event/hever-castle-triathlon/
LOCATION:Hever Castle\, Kent\, Hever Rd\, Hever\, Edenbridge\, TN8 7NG\,
CATEGORIES:Children (up to 12),Junior (13-19),Triathlon
ATTACH;FMTTYPE=image/jpeg:https://raceconnections.com/wp-content/uploads/2019/03/hever-junior-triathlon-10-year-olds.jpg
ORGANIZER;CN="The Castle Triathlon Series":MAILTO:support@castletriathlonseries.co.uk
GEO:51.1865591;0.1107825
X-APPLE-STRUCTURED-LOCATION;VALUE=URI;X-ADDRESS=Hever Castle Kent Hever Rd Hever Edenbridge TN8 7NG;X-APPLE-RADIUS=500;X-TITLE=Hever Rd\, Hever:geo:0.1107825,51.1865591
END:VEVENT
BEGIN:VEVENT
DTSTART;VALUE=DATE:20200516
DTEND;VALUE=DATE:20200517
DTSTAMP:20260420T233656
CREATED:20191106T105706Z
LAST-MODIFIED:20191106T105706Z
UID:10005101-1589587200-1589673599@raceconnections.com
SUMMARY:Cheshire Kids FUN Duathlon
DESCRIPTION:Safe event course contained within the grounds of Barony Park \n  \n\nGrass cycle & run course\nOn-site facilities including parking and kids play area\nSet in Nantwich\, South Cheshire\, just 40 minutes from Liverpool\, Birmingham or Manchester.\nUK Kids Fun 2020 finishers medal\nOfficial UK Kids Fun Event T-shirts available to purchase on the day\n\n  \nNB: There will be a promotional video being filmed at the event so please be aware of this. \n \nAs organisers of the biggest triathlon series across the UK we are passionate and proud about what we do and the Kids Fun Events are no exception. \nWith hundreds of smiling kids faces at the end of an event parents & children alike gain a special sense of achievement and parents words of appreciation & promises to return next year confirm that the end result was worth every bit of hard work all round. \nPlease Note: Competitor Race Day Information (Individual Start Times\, Bib Numbers etc) will be emailed out to competitors 7-10 days before the event. \n\n\n\nAge Guideline \n\n\n5-7 Tin\n100m run – 750m cycle – 300m run\n\n\n7-9 Zinc\n200m run – 1km cycle – 500m run\n\n\n8-11 Steel\n300m run – 2km cycle – 1000m run\n\n\n10-13 Bronze\n400m run – 3k cycle – 1500m run\n\n\n12-15 Silver\n500m run – 4km cycle – 2000m run\n\n\n13-16 Gold\n600m run – 4km cycle – 2500m run\n\n\nAll Ages\nRelay Team: 600m run – 4km cycle – 2500m run\n\n\n\n*Short achievable distances for 5-16 yr olds\n*Spectator friendly venue for supporting friends & family\n*Safe event course contained within the grounds of Barony Park\n*Clearly laid out grass cycle & run course\n*On-site facilities including parking\, refreshments and kids play area\n*UK Kids Fun 2020 finishers medal \n[fusion_button link=”https://uktriathlon.co.uk/uk-kids/cheshire-uk-kids-fun-duathlon?fbclid=IwAR0YkdydGZHpdLOrE-OfpW8XAfOvhRpY1-eAXtTW03lpOL1sw7i0KTJW2i8&#8243; text_transform=”” title=”” target=”_self” link_attributes=”” alignment=”” modal=”” hide_on_mobile=”small-visibility\,medium-visibility\,large-visibility” class=”” id=”” s2id_autogen1995=”” color=”custom” button_gradient_top_color=”” button_gradient_bottom_color=”” button_gradient_top_color_hover=”” button_gradient_bottom_color_hover=”” accent_color=”” accent_hover_color=”” type=”” bevel_color=”” border_width=”2″ border_radius=”3″ border_color=”#ffeb3b” border_hover_color=”” size=”” stretch=”default” icon=”” icon_position=”left” icon_divider=”no” s2id_autogen1996=”” s2id_autogen1996_search=”” animation_type=”” animation_direction=”left” animation_speed=”0.3″ s2id_autogen1997=”” s2id_autogen1997_search=”” animation_offset=””]Register Here[/fusion_button] \n 
URL:https://raceconnections.com/event/cheshire-kids-fun-duathlon/
LOCATION:Barony Park Sports Complex\, Barony Road\,\, Nantwich\, CW5 5QY\, United Kingdom
CATEGORIES:Children (up to 12),Duathlon,Junior (13-19)
ATTACH;FMTTYPE=image/jpeg:https://raceconnections.com/wp-content/uploads/2019/11/UK-Tri-Kids-Cheshire-uk.jpg
ORGANIZER;CN="UK Triathlon Events":MAILTO:customercare@uktriathlon.co.uk
GEO:53.0730413;-2.5172521
X-APPLE-STRUCTURED-LOCATION;VALUE=URI;X-ADDRESS=Barony Park Sports Complex Barony Road Nantwich CW5 5QY United Kingdom;X-APPLE-RADIUS=500;X-TITLE=Barony Road\,:geo:-2.5172521,53.0730413
END:VEVENT
BEGIN:VEVENT
DTSTART;TZID=Europe/London:20190512T100000
DTEND;TZID=Europe/London:20190512T120000
DTSTAMP:20260420T233656
CREATED:20190117T082626Z
LAST-MODIFIED:20190111T083039Z
UID:10004807-1557655200-1557662400@raceconnections.com
SUMMARY:Twyford Kids Duathlon 2019
DESCRIPTION:Kids Duathlon Event 2019\nDue to the ongoing success of our Twyford Kids Triathlon we’re very excited to be moving our Kids Duathlon to the same venue. The community of Twyford really gets behind our events with yummy refreshments on offer from the Youth Centre and lots of local kids taking part. \nEvent has been put forward to be part of the Triathlon England South Central Junior Series for the third year. \nOff-road run and cycle on grass around large recreation ground. \nOpen to all children aged 8 (including those turning 8 in 2019) – 14 years old. Open to all abilities — come and have some fun\, and bring your family and friends! \nDATE: \nSunday 12 May 2019 \nTIMES/DISTANCES: \n10am start – TriStars Start (Age 8\, YOB 2011)\n400m Run/ 850m Cycle/200m Run \n10:15am start – TriStars 1 (Age 9-10\, YOB 20010/9)\n1.2km Run/1.7km Cycle/400m Run \n10:45am start – TriStars 2 (Age 11-12\, YOB 2008/7)\n1.6km Run/3.4km Cycle/600m Run \n11:30am start – TriStars 3 (Age 13 – 14\, YOB 2006/5)\n2km Run/5.1km Cycle/800m Run \nNOTE: Age group is based on age as of 31st December 2019 \nCOURSE: \nTraffic-free\, large flat\, grass field.  \nChildren always in sight of a marshal. \nRULES OF PARTICIPATION: \nAge restrictions: ‘8 – 14 (as of 31 December 2019) \nNo headphones to be worn at any time during the event — this is for your own safety and the safety of other competitors. We will disqualify any competitor we find wearing headphones. \nRESULTS: \nChip timed by Rogue Racer \nEvent run under British Triathlon rules \nPRIZES: \nMedal & goody bag for every finisher \nPrizes for first THREE boys and girls in each age group sponsored by Zone3 \nCOST: \n£17 entry fee – no online entry fees \nADDITIONAL £1 fee for non-British Triathlon Members \nOnline entry will close at midnight\, Wednesday 8 May. \nCancellation/Refund: \nSubject to our cancellation policy and consistent with other organisations\, there is a need to protect the staging of this event and the resultant costs incurred by the event organiser. Before any entries are accepted\, events start to incur costs which places the organiser at risk. The organiser is forced to recoup costs to ensure the event’s ongoing success. Failure to do so has predictable results. From the moment you enter this event further costs are created therefore there are no cancellation reimbursements or refunds. \nSWAPS OR ALTERATIONS TO YOUR RACE ENTRY INCUR A £3 ADMIN FEE.
URL:https://raceconnections.com/event/twyford-kids-duathlon-2019/
LOCATION:King George’s Field\, Loddon Hall Rd\, Twyford\,\, Reading\, RG10 9JA\,\, United Kingdom
CATEGORIES:Duathlon,Running
ATTACH;FMTTYPE=image/jpeg:https://raceconnections.com/wp-content/uploads/2019/01/Twyford-Kids-Duathlon-2019-Race-Connections.jpg
ORGANIZER;CN="Barnes Fitness":MAILTO:ellie@barnesfitness.co.uk
GEO:51.4816987;-0.8628021
X-APPLE-STRUCTURED-LOCATION;VALUE=URI;X-ADDRESS=King George’s Field Loddon Hall Rd Twyford Reading RG10 9JA United Kingdom;X-APPLE-RADIUS=500;X-TITLE=Loddon Hall Rd\, Twyford\,:geo:-0.8628021,51.4816987
END:VEVENT
END:VCALENDAR