BEGIN:VCALENDAR
VERSION:2.0
PRODID:-//Race CONNECTIONS - ECPv6.15.20//NONSGML v1.0//EN
CALSCALE:GREGORIAN
METHOD:PUBLISH
X-WR-CALNAME:Race CONNECTIONS
X-ORIGINAL-URL:https://raceconnections.com
X-WR-CALDESC:Events for Race CONNECTIONS
REFRESH-INTERVAL;VALUE=DURATION:PT1H
X-Robots-Tag:noindex
X-PUBLISHED-TTL:PT1H
BEGIN:VTIMEZONE
TZID:Europe/London
BEGIN:DAYLIGHT
TZOFFSETFROM:+0000
TZOFFSETTO:+0100
TZNAME:BST
DTSTART:20180325T010000
END:DAYLIGHT
BEGIN:STANDARD
TZOFFSETFROM:+0100
TZOFFSETTO:+0000
TZNAME:GMT
DTSTART:20181028T010000
END:STANDARD
BEGIN:DAYLIGHT
TZOFFSETFROM:+0000
TZOFFSETTO:+0100
TZNAME:BST
DTSTART:20190331T010000
END:DAYLIGHT
BEGIN:STANDARD
TZOFFSETFROM:+0100
TZOFFSETTO:+0000
TZNAME:GMT
DTSTART:20191027T010000
END:STANDARD
BEGIN:DAYLIGHT
TZOFFSETFROM:+0000
TZOFFSETTO:+0100
TZNAME:BST
DTSTART:20200329T010000
END:DAYLIGHT
BEGIN:STANDARD
TZOFFSETFROM:+0100
TZOFFSETTO:+0000
TZNAME:GMT
DTSTART:20201025T010000
END:STANDARD
END:VTIMEZONE
BEGIN:VEVENT
DTSTART;TZID=Europe/London:20190705T080000
DTEND;TZID=Europe/London:20190707T170000
DTSTAMP:20260420T001523
CREATED:20181112T145916Z
LAST-MODIFIED:20181112T150958Z
UID:10004777-1562313600-1562518800@raceconnections.com
SUMMARY:LCW Wales 2019
DESCRIPTION:Pembrokeshire plays host annually to one of the most difficult triathlons in Wales – the Long Course Weekend. This unique event lasts three days in mid-July\, accommodating some of the best triathlon talent in the UK and the world\, including a number of IRONMAN UK athletes\, serving as the perfect preparation and build up to the IRONMAN Wales event in September. \nTo kick-off the weekend on Friday evening\, the Long Course athletes have The Wales Swim to complete – a 2.4 mile swim that takes place on Tenby’s North Beach. On Saturday their attention turns to The Wales Sportive\, and 112 miles of undulating Welsh countryside lined with enthusiastic crowds.  \nTo finish the weekend\, the athletes have the small task(!) of completing the 26.2 miles of The Wales Marathon\, which is quickly establishing itself as a fantastic event in its own right.\nMore than 50\,000 competitors have attempted the difficult terrain and challenging weather conditions on this punishing route since its first event in 2010.
URL:https://raceconnections.com/event/lcw-wales-2019/
LOCATION:Tenby\, Coastal House\, Haverfordwest\, Pembs\, SA61 2XG
CATEGORIES:Triathlon
ATTACH;FMTTYPE=image/jpeg:https://raceconnections.com/wp-content/uploads/2018/11/P1000468.jpg
ORGANIZER;CN="Activity Wales Events":MAILTO:info@activitywalesevents.com
GEO:51.8041365;-4.9555404
X-APPLE-STRUCTURED-LOCATION;VALUE=URI;X-ADDRESS=Tenby Coastal House Haverfordwest Pembs SA61 2XG;X-APPLE-RADIUS=500;X-TITLE=Coastal House:geo:-4.9555404,51.8041365
END:VEVENT
END:VCALENDAR