BEGIN:VCALENDAR
VERSION:2.0
PRODID:-//Race CONNECTIONS - ECPv6.15.20//NONSGML v1.0//EN
CALSCALE:GREGORIAN
METHOD:PUBLISH
X-ORIGINAL-URL:https://raceconnections.com
X-WR-CALDESC:Events for Race CONNECTIONS
REFRESH-INTERVAL;VALUE=DURATION:PT1H
X-Robots-Tag:noindex
X-PUBLISHED-TTL:PT1H
BEGIN:VTIMEZONE
TZID:Europe/London
BEGIN:DAYLIGHT
TZOFFSETFROM:+0000
TZOFFSETTO:+0100
TZNAME:BST
DTSTART:20190331T010000
END:DAYLIGHT
BEGIN:STANDARD
TZOFFSETFROM:+0100
TZOFFSETTO:+0000
TZNAME:GMT
DTSTART:20191027T010000
END:STANDARD
BEGIN:DAYLIGHT
TZOFFSETFROM:+0000
TZOFFSETTO:+0100
TZNAME:BST
DTSTART:20200329T010000
END:DAYLIGHT
BEGIN:STANDARD
TZOFFSETFROM:+0100
TZOFFSETTO:+0000
TZNAME:GMT
DTSTART:20201025T010000
END:STANDARD
BEGIN:DAYLIGHT
TZOFFSETFROM:+0000
TZOFFSETTO:+0100
TZNAME:BST
DTSTART:20210328T010000
END:DAYLIGHT
BEGIN:STANDARD
TZOFFSETFROM:+0100
TZOFFSETTO:+0000
TZNAME:GMT
DTSTART:20211031T010000
END:STANDARD
BEGIN:DAYLIGHT
TZOFFSETFROM:+0000
TZOFFSETTO:+0100
TZNAME:BST
DTSTART:20220327T010000
END:DAYLIGHT
BEGIN:STANDARD
TZOFFSETFROM:+0100
TZOFFSETTO:+0000
TZNAME:GMT
DTSTART:20221030T010000
END:STANDARD
END:VTIMEZONE
BEGIN:VEVENT
DTSTART;VALUE=DATE:20200517
DTEND;VALUE=DATE:20200518
DTSTAMP:20260423T061518
CREATED:20200224T080738Z
LAST-MODIFIED:20200224T080738Z
UID:10005297-1589673600-1589759999@raceconnections.com
SUMMARY:Trifarm Double Header Sprint Triathlons
DESCRIPTION:The Trifarm Double Header is a series of two races in the early summer of 2020. Each leg will be an individual sprint triathlon comprising a single 800m lap of the Trifarm lake\, a 18km cycle leg on the open public roads around Trifarm\, and then a 5k run made up of 5 laps of the perimeter path around the Trifarm Lake. \n  \nPrizes will be awarded for each individual race\, as well as the Double Header prizes for the 1st\,2nd and 3rd males and females who have competed in all three races. \n  \n[fusion_button link=”http://trifarm.co.uk/the-trifarm-double-header/&#8221; text_transform=”” title=”” target=”_blank” link_attributes=”” alignment=”” modal=”” hide_on_mobile=”small-visibility\,medium-visibility\,large-visibility” class=”” id=”” s2id_autogen16=”” s2id_autogen16_search=”” color=”default” button_gradient_top_color=”” button_gradient_bottom_color=”” button_gradient_top_color_hover=”” button_gradient_bottom_color_hover=”” accent_color=”” accent_hover_color=”” type=”” bevel_color=”” border_width=”” border_radius=”” border_color=”” border_hover_color=”” size=”” stretch=”default” icon=”” icon_position=”left” icon_divider=”no” s2id_autogen17=”” s2id_autogen17_search=”” animation_type=”” animation_direction=”left” animation_speed=”0.3″ s2id_autogen18=”” s2id_autogen18_search=”” animation_offset=””]Register Here[/fusion_button]
URL:https://raceconnections.com/event/trifarm-double-header-sprint-triathlons/
LOCATION:Trifarm\, Church Road Boreham\, Chelmsford Essex\, CM3 3EJ\, United Kingdom
CATEGORIES:Triathlon
ATTACH;FMTTYPE=image/jpeg:https://raceconnections.com/wp-content/uploads/2020/02/80678809_2841850119178571_937711817369583616_n.jpg
GEO:51.7580048;0.5461106
X-APPLE-STRUCTURED-LOCATION;VALUE=URI;X-ADDRESS=Trifarm Church Road Boreham Chelmsford Essex CM3 3EJ United Kingdom;X-APPLE-RADIUS=500;X-TITLE=Church Road Boreham:geo:0.5461106,51.7580048
END:VEVENT
BEGIN:VEVENT
DTSTART;VALUE=DATE:20210711
DTEND;VALUE=DATE:20210712
DTSTAMP:20260423T061518
CREATED:20210304T023620Z
LAST-MODIFIED:20210304T023620Z
UID:10005421-1625961600-1626047999@raceconnections.com
SUMMARY:New York City Triathlon 2021
DESCRIPTION:The New York City Triathlon is an International Distance race consisting of a 1500m swim\, a 40K bike and a 10K run. \nTake on the waters of the Hudson River\, the streets of Manhattan’s West Side and the beautiful scenery of Central Park.  From complimentary massages to awards and more – Celebrate your Verizon NYC Triathlon at the Finish Festival in Central Park. \nAs we look to brighter days ahead\, we are scheduling our event for July 11\, 2021.\nDid you know?  Our dates are extremely dependent on the wild shifts in tide within the Hudson\, so that is why our dates change so often! \nWhen will registration open?  Normally\, we would open in November.  2020 is not normal.  We are monitoring the virus\, as well as the city’s stance on events and therefore expect to launch in early 2021.  Stay tuned to our social media and website for more details! \ninfo@nyctri.com \n \nTriathlon\n 
URL:https://raceconnections.com/event/new-york-city-triathlon-2021/
LOCATION:Central Park New York\, New York\, NY\, USA Area: 3.41 km²\, New York\, United States
CATEGORIES:Triathlon
ATTACH;FMTTYPE=image/jpeg:https://raceconnections.com/wp-content/uploads/2021/03/Triathlons-in-New-York.jpg
GEO:40.7127753;-74.0059728
X-APPLE-STRUCTURED-LOCATION;VALUE=URI;X-ADDRESS=Central Park New York New York NY USA Area: 3.41 km² New York United States;X-APPLE-RADIUS=500;X-TITLE=New York\, NY\, USA Area: 3.41 km²:geo:-74.0059728,40.7127753
END:VEVENT
END:VCALENDAR