BEGIN:VCALENDAR
VERSION:2.0
PRODID:-//Race CONNECTIONS - ECPv6.15.20//NONSGML v1.0//EN
CALSCALE:GREGORIAN
METHOD:PUBLISH
X-ORIGINAL-URL:https://raceconnections.com
X-WR-CALDESC:Events for Race CONNECTIONS
REFRESH-INTERVAL;VALUE=DURATION:PT1H
X-Robots-Tag:noindex
X-PUBLISHED-TTL:PT1H
BEGIN:VTIMEZONE
TZID:Europe/London
BEGIN:DAYLIGHT
TZOFFSETFROM:+0000
TZOFFSETTO:+0100
TZNAME:BST
DTSTART:20190331T010000
END:DAYLIGHT
BEGIN:STANDARD
TZOFFSETFROM:+0100
TZOFFSETTO:+0000
TZNAME:GMT
DTSTART:20191027T010000
END:STANDARD
BEGIN:DAYLIGHT
TZOFFSETFROM:+0000
TZOFFSETTO:+0100
TZNAME:BST
DTSTART:20200329T010000
END:DAYLIGHT
BEGIN:STANDARD
TZOFFSETFROM:+0100
TZOFFSETTO:+0000
TZNAME:GMT
DTSTART:20201025T010000
END:STANDARD
BEGIN:DAYLIGHT
TZOFFSETFROM:+0000
TZOFFSETTO:+0100
TZNAME:BST
DTSTART:20210328T010000
END:DAYLIGHT
BEGIN:STANDARD
TZOFFSETFROM:+0100
TZOFFSETTO:+0000
TZNAME:GMT
DTSTART:20211031T010000
END:STANDARD
BEGIN:DAYLIGHT
TZOFFSETFROM:+0000
TZOFFSETTO:+0100
TZNAME:BST
DTSTART:20220327T010000
END:DAYLIGHT
BEGIN:STANDARD
TZOFFSETFROM:+0100
TZOFFSETTO:+0000
TZNAME:GMT
DTSTART:20221030T010000
END:STANDARD
BEGIN:DAYLIGHT
TZOFFSETFROM:+0000
TZOFFSETTO:+0100
TZNAME:BST
DTSTART:20230326T010000
END:DAYLIGHT
BEGIN:STANDARD
TZOFFSETFROM:+0100
TZOFFSETTO:+0000
TZNAME:GMT
DTSTART:20231029T010000
END:STANDARD
BEGIN:DAYLIGHT
TZOFFSETFROM:+0000
TZOFFSETTO:+0100
TZNAME:BST
DTSTART:20240331T010000
END:DAYLIGHT
BEGIN:STANDARD
TZOFFSETFROM:+0100
TZOFFSETTO:+0000
TZNAME:GMT
DTSTART:20241027T010000
END:STANDARD
BEGIN:DAYLIGHT
TZOFFSETFROM:+0000
TZOFFSETTO:+0100
TZNAME:BST
DTSTART:20250330T010000
END:DAYLIGHT
BEGIN:STANDARD
TZOFFSETFROM:+0100
TZOFFSETTO:+0000
TZNAME:GMT
DTSTART:20251026T010000
END:STANDARD
BEGIN:DAYLIGHT
TZOFFSETFROM:+0000
TZOFFSETTO:+0100
TZNAME:BST
DTSTART:20260329T010000
END:DAYLIGHT
BEGIN:STANDARD
TZOFFSETFROM:+0100
TZOFFSETTO:+0000
TZNAME:GMT
DTSTART:20261025T010000
END:STANDARD
END:VTIMEZONE
BEGIN:VEVENT
DTSTART;TZID=Europe/London:20250622T000000
DTEND;TZID=Europe/London:20250622T235959
DTSTAMP:20260423T224552
CREATED:20241209T034501Z
LAST-MODIFIED:20241209T034505Z
UID:10006880-1750550400-1750636799@raceconnections.com
SUMMARY:Cardiff Triathlon & Duathlon 2025
DESCRIPTION:Situated in the renowned Cardiff Bay\, this triathlon & duathlon stands out as a truly memorable city race on the calendar. The event village and transition area are located on Roald Dahl Plass\, right in front of the Wales Millennium Centre. \n\n\n\nSecuring your spot in the Cardiff Triathlon & Duathlon not only grants you access to one of the UK’s finest city triathlons but ensures an experience beyond compare. Anticipate a meticulously planned route with closed roads\, captivating global broadcast coverage\, and a vibrant racing atmosphere. Whether you’re tackling the Super-Sprint\, Sprint\, Standard\, 70.3 triathlon\, or Sprint Duathlon\, the Cardiff Triathlon & Duathlon caters to all skill levels. Don’t miss out on this extraordinary event! \n\n\n\nChoose your distance\n\n\n\nSuper-Sprint \n\n\n\n\nSwim: 400m\n\n\n\nBike: TBC\n\n\n\nRun: 2.5km\n\n\n\n\nSprint \n\n\n\n\nSwim: 750m\n\n\n\nBike: TBC\n\n\n\nRun: 4.7km\n\n\n\n\nStandard \n\n\n\n\nSwim: 1500m\n\n\n\nBike: TBC\n\n\n\nRun: 9km\n\n\n\n\nLegend \n\n\n\n\nSwim: 1900m\n\n\n\nBike: TBC\n\n\n\nRun: 21.8km\n\n\n\n\nSprint Duathlon  \n\n\n\n\nRun 1: 2.5km\n\n\n\nBike: TBC\n\n\n\nRun 2: 4.7km\n\n\n\n\nWhat’s Included\n\n\n\nLively Event Village \n\n\n\n\nMusic\, commentary\, shopping\, food and chill out zones.\n\n\n\n\nFamily Friendly Vibes \n\n\n\n\nFamily finishes and plenty to see and do.\n\n\n\n\nOn Course Support \n\n\n\n\nBrilliant marshals\, signage and pick up vehicles\n\n\n\n\nWelsh Slate Finisher Mementos \n\n\n\n\nLocally made to mark your achievement and provide a lasting\, unique and usable memento\n\n\n\n\nSpectacular Location \n\n\n\n\nCardiff’s unique city architecture offers a great backdrop to your race\n\n\n\n\nProfessional Timing \n\n\n\n\nChip timing & live online results
URL:https://raceconnections.com/event/cardiff-triathlon-duathlon-2025/
LOCATION:Wales Millennium Centre\, Bute Pl\, Cardiff\, Cardiff Bay CF10 5AL\, UK\, United Kingdom
CATEGORIES:Duathlon,Running,Triathlon
ATTACH;FMTTYPE=image/jpeg:https://raceconnections.com/wp-content/uploads/2024/12/CARDIFF-TRIATHLON-DUATHLON-2025.jpg
ORGANIZER;CN="Always Aim High Events":MAILTO:info@alwaysaimhighevents.com
END:VEVENT
BEGIN:VEVENT
DTSTART;TZID=Europe/London:20240702T080000
DTEND;TZID=Europe/London:20240702T170000
DTSTAMP:20260423T224552
CREATED:20240702T040705Z
LAST-MODIFIED:20240702T040708Z
UID:10006854-1719907200-1719939600@raceconnections.com
SUMMARY:Harlech Duathlon 2025
DESCRIPTION:EVENT SUMMARY\n\n\n\nDATES06 APR 2025 \n\n\n\nLOCATIONHARLECH \n\n\n\nRACESSPRINT \n\n\n\nUnder the castle’s watchful eye\, the Harlech Sprint Duathlon is one of the best-loved races on the calendar. With a stunning cycle sandwiched between two short runs\, it’s perfect for beginners and a great season opener for the more competitive. Explore the historic town and beautiful coastline and cross the finish line to a knight’s welcome! \n\n\n\nThis event is an Always Aim High Community Event. Profits from our Community Events go towards supporting amazing local projects and community groups like Harlech Triathlon Club\, the Community Council and Mountain Rescue. \n\n\n\nWHAT’S INCLUDED\n\n\n\nLIVELY EVENT VILLAGE \n\n\n\nMusic\, commentary\, shopping and food with a fun and supportive atmosphere \n\n\n\nFRIENDLY AND INCLUSIVE \n\n\n\nSomething for everyone \n\n\n\nON COURSE SUPPORT \n\n\n\nBrilliant marshals\, signage and pick up vehicles \n\n\n\nUNIQUE FINISHER MEMENTOS! \n\n\n\nBeautifully designed to reflect our event locations and local history. \n\n\n\nSPECTACULAR LOCATION \n\n\n\nCastles\, coast and a historic town \n\n\n\nPROFESSIONAL TIMING \n\n\n\nChip timing & live online results
URL:https://raceconnections.com/event/harlech-duathlon-2025/
LOCATION:Harlech Castle\, Harlech\, Gwynedd\, Harlech\, Wales\, LL46 2YH\, United Kingdom
CATEGORIES:Duathlon,Running
ATTACH;FMTTYPE=image/jpeg:https://raceconnections.com/wp-content/uploads/2024/07/Harlech-Duathlon-2025-e1719893208623.jpg
ORGANIZER;CN="Always Aim High Events":MAILTO:info@alwaysaimhighevents.com
GEO:52.8597061;-4.1082835
X-APPLE-STRUCTURED-LOCATION;VALUE=URI;X-ADDRESS=Harlech Castle Harlech Gwynedd Harlech Wales LL46 2YH United Kingdom;X-APPLE-RADIUS=500;X-TITLE=Harlech\, Gwynedd:geo:-4.1082835,52.8597061
END:VEVENT
BEGIN:VEVENT
DTSTART;TZID=Europe/London:20240414T000000
DTEND;TZID=Europe/London:20240414T235959
DTSTAMP:20260423T224552
CREATED:20240227T103942Z
LAST-MODIFIED:20240227T104026Z
UID:10006820-1713052800-1713139199@raceconnections.com
SUMMARY:Harlech Triathlon 2024
DESCRIPTION:EXPERIENCE A FINISH LINE UNLIKE ANY OTHER \n\n\n\nThe Harlech Sprint Triathlon is a thrilling multisport event set against the stunning backdrop of Harlech Castle and the Eryri (Snowdonia) National Park. \n\n\n\nKnown for its scenic beauty and demanding course\, the event attracts both seasoned triathletes and beginners seeking a unique and memorable experience. This early season Triathlon with its pool swim is one of the best-loved on the calendar\, be sure to book in quickly though as it does often sell out! \n\n\n\nThis event is an Always Aim High Community Event. Profits from our Community Events go towards supporting amazing local projects\, charities and community groups\, including Harlech Triathlon Club\, Community Councils and Mountain Rescue Teams. \n\n\n\nCHOOSE YOUR DISTANCE\n\n\n\nSPRINT\n\n\n\n\nPOOL SWIM: 400M\n\n\n\nBIKE: 21.5KM\n\n\n\nRUN: 5KM\n\n\n\n\nWHAT’S INCLUDED\n\n\n\n\nLIVELY EVENT VILLAGE\n\n\n\n\nMusic\, commentary\, shopping and food with a fun and supportive atmosphere \n\n\n\n\nINCLUSIVE AND FRIENDLY\n\n\n\n\nFamily finishes and plenty to see and do \n\n\n\n\nON COURSE SUPPORT\n\n\n\n\nBrilliant marshals\, signage and pick-up vehicles \n\n\n\n\nUNIQUE FINISHER MEMENTOS!\n\n\n\n\nBeautifully designed to reflect our event locations and local history. \n\n\n\n\nSPECTACULAR LOCATION\n\n\n\n\nCastles\, coast and a historic town \n\n\n\n\nPROFESSIONAL TIMING\n\n\n\n\nChip timing & live online results
URL:https://raceconnections.com/event/harlech-triathlon-2024/
LOCATION:Harlech\, Gwynedd  Harlech Castle\, Harlech\, UK
CATEGORIES:Triathlon
ATTACH;FMTTYPE=image/jpeg:https://raceconnections.com/wp-content/uploads/2024/02/HARLECH-TRIATHLON-2024-e1709030357701.jpeg
ORGANIZER;CN="Always Aim High Events":MAILTO:info@alwaysaimhighevents.com
END:VEVENT
BEGIN:VEVENT
DTSTART;VALUE=DATE:20220807
DTEND;VALUE=DATE:20220808
DTSTAMP:20260423T224552
CREATED:20220608T181449Z
LAST-MODIFIED:20220608T181449Z
UID:10005497-1659830400-1659916799@raceconnections.com
SUMMARY:London Triathlon
DESCRIPTION:London Triathlon is a meeting place for the world’s triathletes in the heart of the city centre. New to swim-bike-run? Join the Sprint or Super Sprint distance to get a taste of the sport. Tickets are on sale now. Become a LimeLight Sports Club member to save over 20% on your race entry. \nUp for a challenge? London Triathlon’s Olympic and Olympic Plus distances give you the best opportunity to take a tour of Westminster on the move. Ride by Big Ben\, the London Eye and the Houses of Parliament along the route. Tickets are on sale now. Become a LimeLight Sports Club member to save over 20% on your race entry. \nLONDON TRIATHLON SUPER SPRINT\n07 AUG\nTake on the London Triathlon Super Sprint distance: 400m Swim – 10km Bike – 2.5km Run. Secure your spot on the start line for Sunday 7th August 2022. Whether it’s your 1st or 101st event\, everyone is welcome at the London Triathlon. \nLONDON TRIATHLON SPRINT\n07 AUG\nThe London Triathlon Sprint distance is 750m Swim – 20km Bike – 5km Run. Complete your race on Sunday 7th August 2022 at the ExCel Centre\, Royal Victoria Dock along a unique urban route. \nLONDON TRIATHLON OLYMPIC\n07 AUG\nThe London Triathlon Olympic distance is 1500m Swim – 40km Bike – 10km Run. Complete your race on Sunday 7th August 2022 while soaking up the view of London’s world-famous landmarks. \nThe London Triathlon is an annual triathlon event in London\, England. Until 2015 it was the largest triathlon in the world. It is the only triathlon to take place in central London following the relocation of the International Triathlon Union London event to Leeds.
URL:https://raceconnections.com/event/london-triathlon-2/
LOCATION:London\, London\, W1W 6AB\, United Kingdom
CATEGORIES:Triathlon
ATTACH;FMTTYPE=image/jpeg:https://raceconnections.com/wp-content/uploads/2022/06/Triathlon-in-London.jpg
ORGANIZER;CN="Limelight Sports":MAILTO:info@londonduathlon.com
GEO:55.378051;-3.435973
END:VEVENT
BEGIN:VEVENT
DTSTART;VALUE=DATE:20220612
DTEND;VALUE=DATE:20220613
DTSTAMP:20260423T224552
CREATED:20220427T074534Z
LAST-MODIFIED:20220427T074534Z
UID:10005496-1654992000-1655078399@raceconnections.com
SUMMARY:Royal Windsor Triathlon 2022
DESCRIPTION:The Royal Windsor Triathlon is one of England’s most legendary triathlons\, and takes place in the Queen’s home town of Windsor in Berkshire. \nWhere and when\nLocation\nMountbatten Square\, Windsor SL4 1SX\, UK\nStart times\nSun\, 12 Jun 2022\nSprint Triathlon: TBC\nOlympic Triathlon: TBC \nWhat’s included\n– Set in the stunning location of Windsor under the shadow of Windsor Castle\n– One of the longest-running triathlons with 27 years of quality delivery\n– 7 Time BTF Event of the Year\n– A major tick on your triathlon bucket-list\n– Great support and camaraderie around the course\n– Mates Waves enable you to race with your friends regardless of gender or age\n– Prizes available from ERDINGER Alkoholfrei for the fastest T2 time \nCAN I WEAR A NUMBER BELT?\nYes\, but your number must be clearly visible at all times otherwise you may be subjected to a two-minute penalty as per British Triathlon Rules. You mustn’t fold or cut down your race number in any way. Do write any medical information on the back of your number.\nDO I HAVE TO WEAR A WETSUIT?\nWe do say that wetsuits in fact help with buoyancy and warmth\, so we strongly recommend that you wear one if they are optional. We will keep you updated with water temperature as we get closer to the event. \n    \nRace Organiser: Human Race
URL:https://raceconnections.com/event/royal-windsor-triathlon-2022/
LOCATION:Mountbatten Square\, Mountbatten Square\, Windsor SL4 1SX\, UK\, Windsor\, England\, SL4 1SX\, United Kingdom
CATEGORIES:Triathlon
ATTACH;FMTTYPE=image/png:https://raceconnections.com/wp-content/uploads/2022/04/Screenshot-2022-04-27-153942.png
GEO:51.4818763;-0.6135009
X-APPLE-STRUCTURED-LOCATION;VALUE=URI;X-ADDRESS=Mountbatten Square Mountbatten Square Windsor SL4 1SX UK Windsor England SL4 1SX United Kingdom;X-APPLE-RADIUS=500;X-TITLE=Mountbatten Square\, Windsor SL4 1SX\, UK:geo:-0.6135009,51.4818763
END:VEVENT
BEGIN:VEVENT
DTSTART;TZID=Europe/London:20220601T063000
DTEND;TZID=Europe/London:20220601T170000
DTSTAMP:20260423T224552
CREATED:20220126T103633Z
LAST-MODIFIED:20220126T103633Z
UID:10005486-1654065000-1654102800@raceconnections.com
SUMMARY:Dorney Lake Evening Triathlon - June
DESCRIPTION:Kick-off your summer season with this midweek triathlon at Dorney Lake. This event is perfect for every athlete\, boasting an evening start time\, pan-flat course\, the choice between sprint and super sprint distances and a bespoke finisher’s medal. \nRace Numbers\nBib Numbers (and bike stickers/swimming caps where applicable) will only be available for collection at each event. Participants should not expect to receive anything by mail.\nTo be fastened to the front of your top using safety pins provided\, your number should remain visible at all times. In addition\, a timing chip is attached to the back of the bib and should not be removed.\nParticipants will also be provided with an ankle tag and neoprene strap\, which must be returned on completing the event. Swimming caps need not be returned.\nWhat’s included\n– Finisher’s Medal\n– Chip-timed results\n– Category prizes\n– Marked and marshalled course\n– Race photography\n– Water stations\n– Toilets \nEvent day logistics\n18:30 Sprint and Super Sprint start\n* Further event day details will be sent out closer to the day. \nRace Numbers\nBib Numbers (and bike stickers/swimming caps where applicable) will only be available for collection at each event\, participants should not expect to receive anything by mail.\nTo be fastened to the front of your top using safety pins provided\, your number should remain visible at all times. In addition\, a timing chip is attached to the back of the bib and should not be removed.\nParticipants will also be provided with an ankle tag and neoprene strap\, which must be returned on completing the event. Swimming caps need not be replaced. \nSpectator Info\n\n\n\n\nSpectators are welcome at this event. There will be plenty of opportunities to cheer everyone on as they lap around Dorney Lake.\n\n\n\n\nAge Requirements\nAll entrants must be 15 years and older to enter the event. \nHeadphones\nThe use of earphones and headphones are prohibited at this event. \nSpectator Info\nSpectators are welcome at this event. There will be plenty of opportunities to cheer everyone on as they lap around Dorney Lake. \n   \nRace Organiser: F3Events
URL:https://raceconnections.com/event/dorney-lake-evening-triathlon-june/
LOCATION:Dorney Lake\, Dorney Lake\, Windsor SL4\, UK\, Dorney Lake\, Windsor SL4\, UK\, Windsor\, England\, SL4\, United Kingdom
CATEGORIES:Cycling,Half Marathon,Open Water Swimming,Running,Swimming,Triathlon
ATTACH;FMTTYPE=image/png:https://raceconnections.com/wp-content/uploads/2022/01/Screenshot-2022-01-26-183241.png
GEO:51.4937557;-0.6634836
X-APPLE-STRUCTURED-LOCATION;VALUE=URI;X-ADDRESS=Dorney Lake Dorney Lake Windsor SL4 UK Dorney Lake Windsor SL4 UK Windsor England SL4 United Kingdom;X-APPLE-RADIUS=500;X-TITLE=Dorney Lake\, Windsor SL4\, UK:geo:-0.6634836,51.4937557
END:VEVENT
BEGIN:VEVENT
DTSTART;TZID=Europe/London:20210912T080000
DTEND;TZID=Europe/London:20210912T170000
DTSTAMP:20260423T224552
CREATED:20210811T153834Z
LAST-MODIFIED:20210811T153834Z
UID:10005448-1631433600-1631466000@raceconnections.com
SUMMARY:Tavistock Triathlon 2021
DESCRIPTION:Join Sportiva Events on the stunning campus of Mount Kelly for this terrific Tavistock triathlon festival. With events for all abilities and ages 8+\, it is the perfect addition to the training calendar. In addition\, it provides an opportunity for the whole family to get involved and give it a TRI at the Tavistock Triathlon in Tavistock\, United Kingdom. \nHow to enter\nTickets are available until Sat Sep 11 2021 \nWhat’s included: \n– Finishers medals for all + special podium medals\n– Whole Covid-19 Social Distancing policies in place\n– Free quality silicone Swim hats\n– Secure transition\n– Numbered racking\n– Professional First Aid\n– Fully insured \nRoute description\n– The stunning campus of Mount Kelly College is the venue of this fall triathlon festival. \n– Their Olympic size 50m pool is the optimal length to get a great rhythm for your stroke without having to worry about the challenges that open water swimming brings. \n– After you fish yourself out of the pool\, the bike begins through the quiet rolling hills on the grounds of Mount Kelly\, offering views of the surrounding 100 acres of countryside and Dartmoor National Park. \n– The run gives another opportunity for the athletes to be enveloped by the richness of their surroundings as the path winds its way along the old railway line back to the finish\, where you will be cheered on and celebrated as the epic triathlete that you are. \nLogistics and schedule\n08:00 Standard Triathlon Starts \n09:30 Sprint Triathlon and Relay Starts \n10:30 Go Tri Starts \n12:00 TriStar 3 Starts \n12:15 TriStar 2 and Go Tri/Novice Kids (11-14 yrs old) Starts \n12:30 TriStar 1 Starts \n12:45 Go Tri/Novice Kids (9-10 yrs old) and TriStar Start Starts \n13:00 Mini Tri Starts \nAge Requirements \nEntrants must be the following ages to enter each race: \nSprint Triathlon and Relay – 15 and older\nGo Tri – 15 and older\nTriStar 1 – between 9-10 years old\nTriStar 2 – between 11-12 years old\nTriStar 3 – between 13 and 14 years old\nNovice Kids- There are two categories for ages 9-10 and 11-14\nTriStar Start – 8 years old\nMini Tri – between 5 and 7 years old\nKit List \nSwimming costume\nGoggles (optional\, but most people like to have them)\nRoad-worthy bike\nHelmet\nPair of trainers\nChange of clothes for after the event \nHow to get there\nMount Kelly Swim Centre\, Parkwood Rd\, Tavistock PL19 0HZ\, UK \nParking \nFollow PL19 0HZ\, which will take you to the school. There will be clear parking signs from there to the onsite parking. \nVolunteer\nWe’re always looking for volunteers to help make these events epic. \n \nRace Organiser: Sportiva Events
URL:https://raceconnections.com/event/tavistock-triathlon-2021/
LOCATION:Mount Kelly Swim Centre\, Mount Kelly Swim Centre\, Parkwood Rd\, Tavistock PL19 0HZ\, UK\, Tavistock\, England\, PL19 0HZ
CATEGORIES:Junior (13-19),Triathlon
ATTACH;FMTTYPE=image/jpeg:https://raceconnections.com/wp-content/uploads/2021/08/Tavistock-Triathlon.jpeg
GEO:50.5564657;-4.1316563
X-APPLE-STRUCTURED-LOCATION;VALUE=URI;X-ADDRESS=Mount Kelly Swim Centre Mount Kelly Swim Centre Parkwood Rd Tavistock PL19 0HZ UK Tavistock England PL19 0HZ;X-APPLE-RADIUS=500;X-TITLE=Mount Kelly Swim Centre\, Parkwood Rd\, Tavistock PL19 0HZ\, UK:geo:-4.1316563,50.5564657
END:VEVENT
BEGIN:VEVENT
DTSTART;TZID=Europe/London:20210808T090000
DTEND;TZID=Europe/London:20210808T170000
DTSTAMP:20260423T224552
CREATED:20210717T091547Z
LAST-MODIFIED:20210717T091547Z
UID:10005438-1628413200-1628442000@raceconnections.com
SUMMARY:Glasgow Sprint Triathlon 2021
DESCRIPTION:Set to be one of the most unforgettable events in Scotland\, the Glasgow Sprint Triathlon will bring new and experienced athletes to this beautiful location. Come for the incredible race atmosphere and to run across the finish line in a blaze of glory. \nWhat’s included at the Glasgow Sprint Triathlon: \n\nBespoke Finisher’s Medal\nWater Station\nChip-timed results\nToilets\nFully marked and marshalled course\nMedical support\nVendors on site (refreshments available for purchase)\nFree official race photography\n\nLogistics and schedule \n07:00 – 08:35 Registration and transition open \n08:40 Mandatory Race Briefing \n09:00 Race Start \n13:00 Bike Cut-Off \nAge Requirements \nAll entrants must be 17 and older to enter the event. \nRace Numbers \nYour race pack will include a race number and 2 stickers\, which must be attached to your bike and your helmet. This must be done before you enter the transition zone. \nTransition \nThe transition area will be open between 07:0 and 08:35. You cannot ride your bike in the transition area\, and you must wear your helmet at all times in the transition area whether you are on your bike or running with your bike. \nSecurity will be present in the transition area throughout so you don’t need to worry about your equipment. You will need your ID to go in and out of the transition area. \nDrafting \nThis is a no drafting race. \nBTF Member Entry \nIf you are not currently a member of the British Triathlon Federation\, your ticket will cost £6 more which covers the cost of a day membership. \n  \n  \nRace Organiser: Tough Runner UK \n 
URL:https://raceconnections.com/event/glasgow-sprint-triathlon-2021/
LOCATION:Lapwing Lodge\, Lapwing Lodge\, Gleniffer Rd\, Paisley PA2 8UL\, UK\, Glasgow\, Scotland\, PA2 8UL\, United Kingdom
CATEGORIES:Triathlon
ATTACH;FMTTYPE=image/png:https://raceconnections.com/wp-content/uploads/2021/07/Glasgow-Sprint-Triathlon.png
GEO:55.7990856;-4.4930355
X-APPLE-STRUCTURED-LOCATION;VALUE=URI;X-ADDRESS=Lapwing Lodge Lapwing Lodge Gleniffer Rd Paisley PA2 8UL UK Glasgow Scotland PA2 8UL United Kingdom;X-APPLE-RADIUS=500;X-TITLE=Lapwing Lodge\, Gleniffer Rd\, Paisley PA2 8UL\, UK:geo:-4.4930355,55.7990856
END:VEVENT
BEGIN:VEVENT
DTSTART;VALUE=DATE:20210627
DTEND;VALUE=DATE:20210628
DTSTAMP:20260423T224552
CREATED:20201114T164028Z
LAST-MODIFIED:20201114T164028Z
UID:10005391-1624752000-1624838399@raceconnections.com
SUMMARY:Cardiff Triathlon
DESCRIPTION:Compete in the shadow of the Wales Millennium Centre with this Triathlon & Duathlon. Perfect for athletes of all stripes\, the swim takes you out into the Bay and the cycle along traffic-free roads before culminating with an epic run along the Bay Barrage. Come for the experience of a lifetime. \nCardiff Triathlon routes\n\n\n\nThe Cardiff Triathlon takes place in the city’s scenic bay and is one of the most hotly anticipated events of the year. \nEach swim section will take place in the Bay itself\, before a quick transition and out onto completely closed\, traffic-free roads. Finally\, the race will end with a stunning run along the Cardiff Bay Barrage. \nThere are five separate events: \nOlympic Triathlon: Swim 1500m\, Bike 37KM\, Run 9KM\nSprint Triathlon: Swim 750m\, Bike 18.5KM\, Run 4.7KM\nSuper Sprint Triathlon: Swim 400m\, Bike 9.3KM\, Run 2.5KM\nAge Group ITU Qualifier: Swim 750m\, Bike 20.5KM\, Run 5.2KM \nThis year’s event will also host the British Age Group Sprint Distance Triathlon Championships (Draft Legal) which doubles up as an Age Group ITU Qualifier. \nThis race allows elite athletes to qualify for the ITU Sprint Distance Triathlon World Championship’s in Bermuda\, 2022. All entrants must be British Triathlon Members to register. \nCut Off Times \nSwim immersion times \nOlympic – 50 mins \nSprint – 30 mins \nSuper Sprint – 20 mins \nITU Qualifier – 30 mins \nAll mass participation cyclists must be clear of the course by 10.00 am \nThis year’s event will also host the British Age Group Sprint Distance Triathlon Championships (Draft Legal) which doubles up as an Age Group ITU Qualifier. \nThis race allows elite athletes to qualify for the ITU Sprint Distance Triathlon World Championship’s in Bermuda\, 2022. All entrants must be British Triathlon Members to register.
URL:https://raceconnections.com/event/cardiff-triathlon/
LOCATION:Wales Millennium Centre\, Wales Millennium Centre\, Bute Pl\, Cardiff\, Cardiff Bay CF10 5AL\, UK\, Cardiff\, England\, CF10 5AL\, United Kingdom
CATEGORIES:Triathlon
ATTACH;FMTTYPE=image/jpeg:https://raceconnections.com/wp-content/uploads/2020/11/Cardiff-Triathlon.jpeg
ORGANIZER;CN="Always Aim High Events":MAILTO:info@alwaysaimhighevents.com
GEO:51.4648421;-3.163183
X-APPLE-STRUCTURED-LOCATION;VALUE=URI;X-ADDRESS=Wales Millennium Centre Wales Millennium Centre Bute Pl Cardiff Cardiff Bay CF10 5AL UK Cardiff England CF10 5AL United Kingdom;X-APPLE-RADIUS=500;X-TITLE=Wales Millennium Centre\, Bute Pl\, Cardiff\, Cardiff Bay CF10 5AL\, UK:geo:-3.163183,51.4648421
END:VEVENT
BEGIN:VEVENT
DTSTART;VALUE=DATE:20201011
DTEND;VALUE=DATE:20201012
DTSTAMP:20260423T224553
CREATED:20200810T102548Z
LAST-MODIFIED:20200810T102643Z
UID:10005369-1602374400-1602460799@raceconnections.com
SUMMARY:Osprey Sprint Triathlon
DESCRIPTION:The Osprey Sprint “Spring Race” is set to put good use to those winter months of training before the first open water swim events. \nThis is a perfect event for newcomers to the sport of triathlon and a fantastic start to the season for the more experienced athlete. The facilities at the Osprey Centre are perfect for a pool based triathlon with secure racking for the bikes\, chip timing by FullOnSport\, a beautiful and scenic bike ride and a fantastic flat off-road coastal run. \nThe Legacy cafe will be open during the event for spectators and competitors alike. \nPlease make sure you input your estimated swim time as accurately as possible when going through the online entry system as this will decide your swim group start time. This race will be chip timed so there will be NO wave starts. Each competitor will start 10 seconds after each other in one continual wave in the pool. \nAll information will be emailed out to you\, everything you need will be given to you at registration. \nWhether this is your first triathlon or you are a seasoned athlete this will definitely be a fantastic start of season race. \nEach competitor will receive a custom race medal and one of our customs made buffs too.
URL:https://raceconnections.com/event/osprey-sprint-triathlon/
LOCATION:25 Castletown\, 25 Castletown\, Portland DT5 1BD\, Uk\, Portland\, Weymouth\, DT5 1BD\, United Kingdom
CATEGORIES:Triathlon
ATTACH;FMTTYPE=image/jpeg:https://raceconnections.com/wp-content/uploads/2020/08/Osprey-Sprint-Triathlon.jpeg
ORGANIZER;CN="BustinSkin Events":MAILTO:info@bustinskin.com
GEO:50.5678662;-2.4446445
X-APPLE-STRUCTURED-LOCATION;VALUE=URI;X-ADDRESS=25 Castletown 25 Castletown Portland DT5 1BD Uk Portland Weymouth DT5 1BD United Kingdom;X-APPLE-RADIUS=500;X-TITLE=25 Castletown\, Portland DT5 1BD\, Uk:geo:-2.4446445,50.5678662
END:VEVENT
END:VCALENDAR