BEGIN:VCALENDAR
VERSION:2.0
PRODID:-//Race CONNECTIONS - ECPv6.15.20//NONSGML v1.0//EN
CALSCALE:GREGORIAN
METHOD:PUBLISH
X-WR-CALNAME:Race CONNECTIONS
X-ORIGINAL-URL:https://raceconnections.com
X-WR-CALDESC:Events for Race CONNECTIONS
REFRESH-INTERVAL;VALUE=DURATION:PT1H
X-Robots-Tag:noindex
X-PUBLISHED-TTL:PT1H
BEGIN:VTIMEZONE
TZID:Europe/London
BEGIN:DAYLIGHT
TZOFFSETFROM:+0000
TZOFFSETTO:+0100
TZNAME:BST
DTSTART:20180325T010000
END:DAYLIGHT
BEGIN:STANDARD
TZOFFSETFROM:+0100
TZOFFSETTO:+0000
TZNAME:GMT
DTSTART:20181028T010000
END:STANDARD
BEGIN:DAYLIGHT
TZOFFSETFROM:+0000
TZOFFSETTO:+0100
TZNAME:BST
DTSTART:20190331T010000
END:DAYLIGHT
BEGIN:STANDARD
TZOFFSETFROM:+0100
TZOFFSETTO:+0000
TZNAME:GMT
DTSTART:20191027T010000
END:STANDARD
BEGIN:DAYLIGHT
TZOFFSETFROM:+0000
TZOFFSETTO:+0100
TZNAME:BST
DTSTART:20200329T010000
END:DAYLIGHT
BEGIN:STANDARD
TZOFFSETFROM:+0100
TZOFFSETTO:+0000
TZNAME:GMT
DTSTART:20201025T010000
END:STANDARD
BEGIN:DAYLIGHT
TZOFFSETFROM:+0000
TZOFFSETTO:+0100
TZNAME:BST
DTSTART:20210328T010000
END:DAYLIGHT
BEGIN:STANDARD
TZOFFSETFROM:+0100
TZOFFSETTO:+0000
TZNAME:GMT
DTSTART:20211031T010000
END:STANDARD
BEGIN:DAYLIGHT
TZOFFSETFROM:+0000
TZOFFSETTO:+0100
TZNAME:BST
DTSTART:20220327T010000
END:DAYLIGHT
BEGIN:STANDARD
TZOFFSETFROM:+0100
TZOFFSETTO:+0000
TZNAME:GMT
DTSTART:20221030T010000
END:STANDARD
BEGIN:DAYLIGHT
TZOFFSETFROM:+0000
TZOFFSETTO:+0100
TZNAME:BST
DTSTART:20230326T010000
END:DAYLIGHT
BEGIN:STANDARD
TZOFFSETFROM:+0100
TZOFFSETTO:+0000
TZNAME:GMT
DTSTART:20231029T010000
END:STANDARD
BEGIN:DAYLIGHT
TZOFFSETFROM:+0000
TZOFFSETTO:+0100
TZNAME:BST
DTSTART:20240331T010000
END:DAYLIGHT
BEGIN:STANDARD
TZOFFSETFROM:+0100
TZOFFSETTO:+0000
TZNAME:GMT
DTSTART:20241027T010000
END:STANDARD
BEGIN:DAYLIGHT
TZOFFSETFROM:+0000
TZOFFSETTO:+0100
TZNAME:BST
DTSTART:20250330T010000
END:DAYLIGHT
BEGIN:STANDARD
TZOFFSETFROM:+0100
TZOFFSETTO:+0000
TZNAME:GMT
DTSTART:20251026T010000
END:STANDARD
BEGIN:DAYLIGHT
TZOFFSETFROM:+0000
TZOFFSETTO:+0100
TZNAME:BST
DTSTART:20260329T010000
END:DAYLIGHT
BEGIN:STANDARD
TZOFFSETFROM:+0100
TZOFFSETTO:+0000
TZNAME:GMT
DTSTART:20261025T010000
END:STANDARD
BEGIN:DAYLIGHT
TZOFFSETFROM:+0000
TZOFFSETTO:+0100
TZNAME:BST
DTSTART:20270328T010000
END:DAYLIGHT
BEGIN:STANDARD
TZOFFSETFROM:+0100
TZOFFSETTO:+0000
TZNAME:GMT
DTSTART:20271031T010000
END:STANDARD
END:VTIMEZONE
BEGIN:VTIMEZONE
TZID:Asia/Jakarta
BEGIN:STANDARD
TZOFFSETFROM:+0700
TZOFFSETTO:+0700
TZNAME:WIB
DTSTART:20190101T000000
END:STANDARD
END:VTIMEZONE
BEGIN:VEVENT
DTSTART;TZID=Europe/London:20191207T080000
DTEND;TZID=Europe/London:20191208T170000
DTSTAMP:20260420T003120
CREATED:20191003T062142Z
LAST-MODIFIED:20191004T053647Z
UID:10005049-1575705600-1575824400@raceconnections.com
SUMMARY:Thailand Swimathon 2019
DESCRIPTION:One of the Thailand’s most popular open water swimming events\, Thailand Swimathon 2019\, will take place at Ban Amphur Beach on Thailand’s Eastern Seaboard. The event is popular with swimmers from across Asia and attracts thousands of participants who come back year after year. \nKnown for its high quality execution and for being one of the races with the highest completion rates\, Thailand Swimathon 2019 will see swimmers compete across four distances: 10km\, 6km\, 2km and 1km. \nMore info: CLICK HERE
URL:https://raceconnections.com/event/thailand-swimathon-2019/
LOCATION:Pattaya\, Thailand
CATEGORIES:Aquathlon,Swimming
ATTACH;FMTTYPE=image/jpeg:https://raceconnections.com/wp-content/uploads/2019/10/Swim-Ocean.jpg
GEO:15.870032;100.992541
END:VEVENT
BEGIN:VEVENT
DTSTART;VALUE=DATE:20200705
DTEND;VALUE=DATE:20200706
DTSTAMP:20260420T003120
CREATED:20200606T074810Z
LAST-MODIFIED:20200606T074810Z
UID:10005350-1593907200-1593993599@raceconnections.com
SUMMARY:BALI OCEAN SWIM
DESCRIPTION:The Bali Ocean Swim is another beautiful GSS swim that follows the ever-growing trend of excellent open water swims in exotic and exciting locations. \nA province of Indonesia\, Bali is also known as the Island of the Gods and for good reason. This island paradise is covered by lush jungle\, rolling hills\, volcanic mountains\, terraced rice patties\, beautiful beaches and some of the most beautiful snorkeling and diving in the world. It’s of little wonder why Bali quite consistently wins a variety of different travel awards. The race is specifically located in near Kuta\, the known as a surfing mecca for many tourists. \nThe race itself is hosted by the Bali Sports Foundation\, a charity that aims to improve the lives of children in Indonesia through the power of sport and play for development\, health and peace. Proceeds from the race go to providing funding for a water and swimming safety program for disabled children and youth in Bali. There’s a little something for everyone with a 1.2km\, 5km and 10k distance available. The course is well-marked and swimmers swim around buoys as well as traditional Indonesian boats that also provide a convenient place for a feed in the longer distances. \nIf you’ve been waiting for an excuse to go on an adventure to one of the most beautiful islands on the planet then the Bali Ocean Swim is your chance!
URL:https://raceconnections.com/event/bali-ocean-swim/
LOCATION:Kuta Beach\, Denpasar\, Bali\, 80129\, Indonesia
CATEGORIES:Junior (13-19),Open Water Swimming,Swimming
ATTACH;FMTTYPE=image/jpeg:https://raceconnections.com/wp-content/uploads/2020/06/Bali-Ocean-Swim.jpg
GEO:-8.6704582;115.2126293
END:VEVENT
BEGIN:VEVENT
DTSTART;TZID=Europe/London:20210509T080000
DTEND;TZID=Europe/London:20210509T133000
DTSTAMP:20260420T003120
CREATED:20210211T102239Z
LAST-MODIFIED:20210211T102329Z
UID:10005415-1620547200-1620567000@raceconnections.com
SUMMARY:Stratford Triathlon 2021
DESCRIPTION:Date: Sunday 9th May 2021 \nVenue: Stratford Leisure Centre\, Stratford-upon-Avon CV37 6YY \nSwim: 33 metre Indoor Pool \nStart Times: 0800hrs until approx 1300hrs \nSprint Distance 400m swim – 18K cycle – 5k run \nTeam Relay 400m swim – 18K cycle – 5k run \nSuper Sprint & Fun 200m swim – 18K cycle – 2.5k run\nMinimum Age: 16 Years (on race day) \nEntry fees FROM:\n£64.95 Sprint & Super Sprint (non BTF)
URL:https://raceconnections.com/event/stratford-triathlon-2021/
CATEGORIES:Junior (13-19),Triathlon
ATTACH;FMTTYPE=image/jpeg:https://raceconnections.com/wp-content/uploads/2021/02/Stratford-London-Triathlon.jpg
END:VEVENT
BEGIN:VEVENT
DTSTART;VALUE=DATE:20210704
DTEND;VALUE=DATE:20210705
DTSTAMP:20260420T003120
CREATED:20201229T141841Z
LAST-MODIFIED:20201229T141841Z
UID:10005405-1625356800-1625443199@raceconnections.com
SUMMARY:The Fugitive 2021
DESCRIPTION:Celebrate summer by taking part in The Fugitive in this fantastic weekend of endurance sports events. Great for athletes of all levels\, the courses make full use of the awesome beauty of the River Thames. Come for the physical challenge or to experience the wonderful race day atmosphere. \n\nThe Fugitive routes\n\n\n\nDuathlon \nBike Course: \n\nThe course is fairly flat with only a couple of hills. These are offset by the stunning scenery\nThe course is out and back\, but there is a very popular three-lap course at the far end of the route\n\nRun Course: \n\nThe middle distance run course is a 5km loop along tarmac and grass footpaths\nThe course winds its way back towards Marlow and finishes at Higginson Park\n\nAqua Bike \nSwim Course: \n\nThe swim course is in the River Thames\, which should help those split times\nMiddle Distance competitors will swim a 1900m lap course in the Thames\, Standard 1500m course\, and Sprint 750m\n\nBike Course: \n\nThe route is undulating but mostly it is a fast and flat course\nThe Middle Distance cycle is 85.6km and features a popular three-lap course at the far end of the route\n\nRiver Swim \n\nThere are three distances available catering to all levels of swimmers 750m\, 1.5km\, and 3km\nThe course is a single out and back lap swim in the River Thames\nGenerally\, the flow of the river is calm and steady\n\nTriathlon \nSwim Course: \n\nThe swim takes place in the River Thames\nSprint competitors will swim 750m\, Standard competitors 1.5km and Middle Distance Competitors 1.9km\n\nBike Course: \n\nThe bike course is out and back\nIt features two mid-level hills but otherwise\, it is flat and fast\nSprint competitors will complete 24.5km and Standard competitors 37km\nMiddle Distance Competitors will cycle 85.6km due to the additional three-lap course at the far end of the Standard route\n\nRun Course: \n\nThe run course is a 5km loop along tarmac and grass footpaths\nThe course winds its way back towards Marlow and finishes at Higginson Park\nSprint Distance Competitors will complete 1 lap\, Standard distance competitors will need to complete 2 laps and Middle Distance triathletes will run 4 laps of the course\n\n\nDistances and Races: \nTriathlon(Sprint): Swim 0.75km\, Bike 24.5km\, Run 5km \nTriathlon(Middle Distance): Swim 1.9km\, Bike 85.6km\, Run 20km \nTriathlon(Standard): Swim 1.5km\, Bike 37km\, Run 10km \nRiver Swim(Sprint): Swim 0.75km \nRiver Swim(Middle Distance): Swim 3km \nRiver Swim(Standard): Swim 1.5km \nDuathlon(Sprint): Run 5km\, Bike 24.5km\, Run 5km \nDuathlon(Middle Distance): Run 5km\, Bike 85.6km\, Run 20km \nDuathlon(Standard): Run 5km\, Bike 37km\, Run 10km \n\nAquabike(Sprint): Swim 0.75km\, Bike 24.5km \nAquabike(Middle Distance): Swim 1.9km\, Bike 85.6km \nAquabike(Standard): Swim 1.5km\, Bike 37km \n \nThe Race Organiser: https://raceconnections.com/profiles/f3events/ \n 
URL:https://raceconnections.com/event/the-fugitive-2021/
LOCATION:Little Kickers Maidenhead\, Little Kickers Maidenhead\, 5 Pound Ln\, Marlow SL7 2AE\, UK\, Marlow\, England\, SL7 2AE\, United Kingdom
CATEGORIES:Aquabike,Duathlon,Open Water Swimming,Swimming,Triathlon
ATTACH;FMTTYPE=image/jpeg:https://raceconnections.com/wp-content/uploads/2020/12/The-Fugitive-2021.jpeg
ORGANIZER;CN="F3 Events Ltd":MAILTO:enquiries@f3events.co.uk
GEO:51.5678658;-0.7766531
X-APPLE-STRUCTURED-LOCATION;VALUE=URI;X-ADDRESS=Little Kickers Maidenhead Little Kickers Maidenhead 5 Pound Ln Marlow SL7 2AE UK Marlow England SL7 2AE United Kingdom;X-APPLE-RADIUS=500;X-TITLE=Little Kickers Maidenhead\, 5 Pound Ln\, Marlow SL7 2AE\, UK:geo:-0.7766531,51.5678658
END:VEVENT
BEGIN:VEVENT
DTSTART;VALUE=DATE:20221203
DTEND;VALUE=DATE:20230304
DTSTAMP:20260420T003120
CREATED:20221203T173304Z
LAST-MODIFIED:20221203T180942Z
UID:10005510-1670025600-1677887999@raceconnections.com
SUMMARY:Adult Swimming Lessons In London
DESCRIPTION:WE ARE AN A.S.A. SWIM SCHOOL MEMBER. OUR SWIMMING TEACHERS & COACHES DELIVER 1ST CLASS SEMI-PRIVATE LESSONS IN PRIVATE POOLS IN CENTRAL LONDON.\nAll teachers are a minimum level 2 ASA qualified and IOS members (institute of swimming). \nWe provide intensive swimming lessons for adults and swimming crash courses to help people quickly learn to swim in London. \nWe teach from Southwark\, Bermondsey\, London Bridge & Tower bridge pools. \nWe also offer home swimming tuition in Westminster\, Chelsea\, Kensington\, Mayfair\, Canary Wharf and the City of London.
URL:https://raceconnections.com/event/adult-swimming-lessons-in-london/
LOCATION:The Circle Spa\, Queen Elizabeth Street\, London\, SE1 2JE\, United Kingdom
CATEGORIES:Duathlon,Open Water Swimming,Swimming,Water Sports
ATTACH;FMTTYPE=image/jpeg:https://raceconnections.com/wp-content/uploads/2022/12/adult-swimming-lessons-in-london.jpg
ORGANIZER;CN="Swimming Lessons London":MAILTO:swimminglessonslondon@gmail.com
GEO:51.5013904;-0.0739259
X-APPLE-STRUCTURED-LOCATION;VALUE=URI;X-ADDRESS=The Circle Spa Queen Elizabeth Street London SE1 2JE United Kingdom;X-APPLE-RADIUS=500;X-TITLE=Queen Elizabeth Street:geo:-0.0739259,51.5013904
END:VEVENT
BEGIN:VEVENT
DTSTART;TZID=Europe/London:20231001T000000
DTEND;TZID=Europe/London:20231001T235959
DTSTAMP:20260420T003120
CREATED:20230609T135808Z
LAST-MODIFIED:20230609T140013Z
UID:10006775-1696118400-1696204799@raceconnections.com
SUMMARY:Llandudno Triathlon 2023
DESCRIPTION:Returning for its second year\, this Triathlon explores the popular holiday town of Llandudno. Taking place in early October\, with the Irish Sea retaining its summer warmth\, it’s a great time to challenge yourself in this beautiful part of the Welsh coastline! \n\n\n\nThe course sees athletes swimming under the watchful eye of the iconic Victorian pier (perfect for spectators) before taking to your bike along our closed-road route around Marine Drive\, the scenic road leading you around Llandudno’s Great Orme. \n\n\n\nRunning along the promenade provides a great atmosphere\, with spectators lining the route\, providing the same warm Welsh welcome you can expect at all Always Aim High Events right through to the finish line. \n\n\n\nEvent Details\n\n\n\n\nDate: 01 October 2023\n\n\n\nLocation: Llandudno\, Conwy\, Wales\n\n\n\nRaces: Sprint\, Standard\n\n\n\n\nLLANDUDNO 2023: SPRINT\n\n\n\n\nSEA SWIM: 750M\n\n\n\nBIKE: 17.5KM\n\n\n\nRUN: 5KM\n\n\n\n\nLLANDUDNO 2023: STANDARD\n\n\n\n\nSEA SWIM: 1500M\n\n\n\nBIKE: 34.75KM\n\n\n\nRUN: 10KM\n\n\n\n\nPricing\n\n\n\nSPRINT \n\n\n\n\nSTANDARD PRICE – INDIVIDUAL– £89.99\n\n\n\nSTANDARD PRICE – TEAM- £99.99\n\n\n\n\nSTANDARD \n\n\n\n\nSTANDARD PRICE – INDIVIDUAL– £105.00\n\n\n\nSTANDARD PRICE – TEAM– £115.00
URL:https://raceconnections.com/event/llandudno-triathlon-2023/
LOCATION:Always Aim High\, United Kingdom
CATEGORIES:10K Run,5K Run,Open Water Swimming,Swimming,Triathlon
ATTACH;FMTTYPE=image/jpeg:https://raceconnections.com/wp-content/uploads/2023/06/Llandudno-Triathlon-2023.jpg
ORGANIZER;CN="Always Aim High Events":MAILTO:info@alwaysaimhighevents.com
END:VEVENT
BEGIN:VEVENT
DTSTART;TZID=Europe/London:20240201T080000
DTEND;TZID=Europe/London:20240201T170000
DTSTAMP:20260420T003120
CREATED:20240201T092916Z
LAST-MODIFIED:20240201T093028Z
UID:10006814-1706774400-1706806800@raceconnections.com
SUMMARY:24hr Swim Relay: Box End Park
DESCRIPTION:A unique\, team endurance swimming challenge for all abilities. Gather a team of between 1 to 8 swimmers and swim for an hour each\, for 24 hours! \n\n\n\nOVERVIEWYou swim as much as you want\, as fast as you want.\n\n\n\nThis event is unique in being a personal/team endurance swimming challenge rather than about speed or distance. It’s also for everyone over the age of 14\, regardless of your ability. It’s not a race\, no one is being timed or tracked. \n\n\n\nHIGHLIGHTS\n\n\n\nTHE GLASTONBURY OF SWIMMINGIt felt like a swimming festival\, like a Glastonbury with open water rather than bands. The community spirit really made it something special. \n\n\n\nUNIQUE AND PERSONALThe event itself is unique in being a personal/team endurance challenge rather than about speed or distance\, and although a few teams clearly wanted to be competitive\, the team was fantastic in promoting the inclusive\, not a race\, message. \n\n\n\nTHE ATMOSPHEREThe atmosphere was brilliant. The nighttime swims really are so special but also getting to swim together as a team was brilliant. The event staff maintained their energy throughout\, which helped when we were flagging. \n\n\n\nSUCH A JOYThe weekend was such a joy to be a part of – seeing all these people come together to do something uplifting and for such an amazing cause creates the best buzz. It’s so relaxed and easygoing\, everyone knows where to be and when\, and it all just runs smoothly. \n\n\n\nCHEER THE NIGHTI loved the camaraderie\, with people cheering on everyone\, even at 2 am. The people were all so lovely\, and it’s such an incredible community to be part of – watching everyone going in for that last hour made me emotional! \n\n\n\nTOP ORGANISATION10 minutes before the hour\, you can start the changeover. It was nice and smooth. The uniqueness is the 24-hour part. I think it’s amazing.
URL:https://raceconnections.com/event/24hr-swim-relay-box-end-park/
CATEGORIES:Open Water Swimming,Swimming
ATTACH;FMTTYPE=image/png:https://raceconnections.com/wp-content/uploads/2024/02/24hr-Swim-Relay-Box-End-Park-e1706779810714.png
END:VEVENT
BEGIN:VEVENT
DTSTART;TZID=Europe/London:20240629T080000
DTEND;TZID=Europe/London:20240629T170000
DTSTAMP:20260420T003120
CREATED:20240408T110326Z
LAST-MODIFIED:20240408T110329Z
UID:10006834-1719648000-1719680400@raceconnections.com
SUMMARY:Exclusive Cardiff Bay Open Water Swim
DESCRIPTION:AQUASPHERE CARDIFF BAY SWIM 2024\n\n\n\nCardiff Bay is supplied by two rivers to form a 500-acre (2.0 km2) freshwater lake around the former dockland area south of the City Centre. The ‘bay’ was formerly tidal\, with access to the sea limited to a couple of hours on each side of high water\, but now provides 24-hour access through three locks. \n\n\n\nSwimming in the Bay is only allowed when authorised by the Harbour Authority\, so by taking part in this event\, you will join an exclusive group of Cardiff Bay swimmers! \n\n\n\nThis event has been created primarily for triathletes looking to warm up or gain open water experience; however\, it is open to everyone and with four different distances this event has something for all from first-time open water swimmers\, to experienced swimmers looking for a challenge over a longer distance. \n\n\n\nCHOOSE YOUR DISTANCEAQUASPHERE CARDIFF BAY SWIM\n\n\n\n\n400M\n\n\n\n750M\n\n\n\n1900M\n\n\n\n3800M\n\n\n\n\nWHAT’S INCLUDED\n\n\n\nLIVELY EVENT VILLAGE \n\n\n\n\nMusic\, commentary\, shopping\, food and chill out zones.\n\n\n\n\nFAMILY-FRIENDLY VIBES \n\n\n\n\nFamily finishes and plenty to see and do.\n\n\n\n\nLOTS OF SUPPORT \n\n\n\n\nBrilliant marshals\, water safety and rescue boats\n\n\n\n\nSLATE FINISHER MOMENTOS \n\n\n\n\nLocally bought to mark your achievement and provide a lasting\, unique and usable momento\n\n\n\n\nEXCLUSIVE AND ICONIC LOCATION \n\n\n\n\nJoin an exclusive group of Cardiff Bay swimmers\n\n\n\n\nPROFESSIONAL TIMING \n\n\n\n\nChip timing and online results
URL:https://raceconnections.com/event/exclusive-cardiff-bay-open-water-swim/
LOCATION:Wales Millennium Centre\, Bute Pl\, Cardiff\, Cardiff Bay CF10 5AL\, UK\, United Kingdom
CATEGORIES:Aquathlon,Open Water Swimming,Swimming
ATTACH;FMTTYPE=image/jpeg:https://raceconnections.com/wp-content/uploads/2024/04/Cardiff-Bay-Open-Water-Swim-2024.jpeg
ORGANIZER;CN="Always Aim High Events":MAILTO:info@alwaysaimhighevents.com
END:VEVENT
BEGIN:VEVENT
DTSTART;TZID=Europe/London:20240803T000000
DTEND;TZID=Europe/London:20240803T235959
DTSTAMP:20260420T003120
CREATED:20231229T150337Z
LAST-MODIFIED:20231229T150340Z
UID:10006805-1722643200-1722729599@raceconnections.com
SUMMARY:AQUASPHERE SNOWMAN SWIM 2024
DESCRIPTION:If you love open-water swimming\, this is your chance to experience an incredible open water swim race in the stunning Llynnau Mymbyr in the heart of the Snowdonia National Park.\n\n\n\nOne of the most photographed spots in Snowdonia\, with the Snowdon range reflecting in the water; if you want a swim with a view\, this is unbeatable. The lake is around 3/4 mile long\, with a depth of 30 feet and a delta halfway along the north shore\, which bisects the lake and gives it its plural name. \n\n\n\nDATES03 AUG 2024 \n\n\n\nLOCATIONPLAS Y BRENIN\, CAPEL CURIG \n\n\n\nRACES \n\n\n\n\n1000M\n\n\n\n2000M\n\n\n\n2.4 MILES\n\n\n\n\nWHAT’S INCLUDED\n\n\n\n\nLIVELY EVENT VILLAGE| Music\, commentary\, shopping\, food and chill out zones.\n\n\n\nFAMILY FRIENDLY VIBES|  Spectator friendly and lots to see and do\n\n\n\nLOTS OF SUPPORT| Brilliant marshals\, water safety and rescue boats\n\n\n\nUNIQUE FINISHER MEMENTOS!| Beautifully designed to reflect our event locations and local history.\n\n\n\nSPECTACULAR SCENERY| Snowdonia’s awe-inspiring scenery is the backdrop to your race\n\n\n\nPROFESSIONAL TIMING| Chip timing and online results
URL:https://raceconnections.com/event/aquasphere-snowman-swim-2024/
LOCATION:Capel Curig\, United Kingdom
CATEGORIES:Open Water Swimming,Swimming,Water Sports
ATTACH;FMTTYPE=image/jpeg:https://raceconnections.com/wp-content/uploads/2023/12/AQUA-SPHERE-2024.jpg
ORGANIZER;CN="Always Aim High Events":MAILTO:info@alwaysaimhighevents.com
END:VEVENT
BEGIN:VEVENT
DTSTART;TZID=Europe/London:20240804T000000
DTEND;TZID=Europe/London:20240804T235959
DTSTAMP:20260420T003120
CREATED:20231208T165527Z
LAST-MODIFIED:20231208T165609Z
UID:10006804-1722729600-1722815999@raceconnections.com
SUMMARY:Big South East Swim & Aquathlon
DESCRIPTION:We have now added the swim and run course map to the website. It will also show you where to park. The Big South East Swim returns to Dartford for the 6th year running.\nCome and swim in one of the cleanest lakes in the UK. You have 5 swim and 2 Aquathlons distances to choose from. This is the ideal swim venue for beginners and experienced swimmers. \nEvent details\n\nUpon arriving at the Bridge Site\, please make your way to the car park. Then follow the arrows to the swim start that’s about 400 meters away.\nTo find us by Sat Nav the postcode is DA15GA\, and that will take you to the car park\nPlease keep to the pavement as the fast-track bus route will be running all day.\nRegistration will be on the right-hand side on the grass and will open at 8am.\nThere will be changing tents and Toilets on site.\nPlease take care when you exit the lake as the ground will be wet and muddy.\nThe swim will take place in the South Lake at The Bridge. Wet suits are compulsory.\n\nOpen water Swim Start times are as follows: \n\nRegistration will open at 8 am\, and the race will start at 9 am so please give yourself time to get there and get ready.\nThe Aquathlon race will also start at 9 am\, but this may change depending on how many entries we receive for both events.\nIf you are bringing children with you\, please keep them away from the water’s edge and the bus lane at all times.\nThere will also be free food and cold drinks after the race for all swimmers.\n\nIf you have any questions about the swimming race\, please get in touch info@bridgetriathlon.co.uk. \nPLEASE NOTE: Swimming is forbidden in the lakes on The Bridge at any time other than for events or during authorised Open Water Swim training sessions. Any person found swimming in the lakes on The Bridge is committing an act of Trespass will be asked to leave and will be barred from the site and disqualified from all future events at The Bridge. \n Big South East Swim & Aquathlon no-group\nDate: 04/08/2024 \nRace | Price\n\n1000 Meters swim | £18.00\n2000 Meters swim | £22.00\n5 Km run & 1000 Meters swim | £22.00\n10 Km run & 2000 Meters swim| £23.00\n3800 Meters swim | £30.00\n5 Km swim | £35.00
URL:https://raceconnections.com/event/big-south-east-swim-aquathlon/
LOCATION:Marsh Street\, Dartford\, DA1 5\, United Kingdom
CATEGORIES:Aquathlon,Swimming
ATTACH;FMTTYPE=image/jpeg:https://raceconnections.com/wp-content/uploads/2023/12/Big-South-East-Swim-Aquathlon-2024-e1702054486592.jpg
ORGANIZER;CN="The Bridge Events Dartford":MAILTO:john@bridgetriathlon.co.uk
END:VEVENT
BEGIN:VEVENT
DTSTART;TZID=Europe/London:20250406T000000
DTEND;TZID=Europe/London:20250406T235959
DTSTAMP:20260420T003120
CREATED:20241209T034217Z
LAST-MODIFIED:20241209T034221Z
UID:10006881-1743897600-1743983999@raceconnections.com
SUMMARY:Eirias Triathlon & Duathlon 2025
DESCRIPTION:The Eirias Sprint Triathlon & Duathlon is a thrilling multisport event set at Eirias Park\, Colwyn Bay\, on the stunning north Wales coast. \n\n\n\nThis early season pool-swim triathlon and duathlon is set to become a staple in the calendar! \n\n\n\nThe coastal park runs and stunning bike route make this an event to remember\, perfect for new and seasoned athletes alike! With a unique finish around Eirias Park’s Stadiwm CSM running track\, come and join us for a race atmosphere you’ll remember! \n\n\n\nSprint\n\n\n\n\nPool Swim: 400m\n\n\n\nBike: TBC\n\n\n\nRun: 5km\n\n\n\n\nSprint Duathlon\n\n\n\n\nRun: 2.4km\n\n\n\nBike: TBC\n\n\n\nRun: 5km\n\n\n\n\nWhat’s Included\n\n\n\nLively Event Village \n\n\n\n\nMusic\, commentary\, shopping and food with a fun and supportive atmosphere\n\n\n\n\nInclusive and Friendly \n\n\n\n\nFamily finishes and plenty to see and do\n\n\n\n\nOn Course Support \n\n\n\n\nBrilliant marshals\, signage and pick up vehicles\n\n\n\n\nUnique Finisher Mementos! \n\n\n\n\nBeautifully designed to reflect our event locations and local history.\n\n\n\n\nSpectacular location \n\n\n\n\nStunning beachfront & stadium finish\n\n\n\n\nProfessional Timing \n\n\n\n\nChip timing & live online results
URL:https://raceconnections.com/event/eirias-triathlon-duathlon-2025/
LOCATION:Eirias Park\, Colwyn Bay\, Eirias Park\, Colwyn Bay
CATEGORIES:Duathlon,Running,Triathlon
ATTACH;FMTTYPE=image/jpeg:https://raceconnections.com/wp-content/uploads/2024/12/EIRIAS-TRIATHLON-DUATHLON-2025.jpeg
ORGANIZER;CN="Always Aim High Events":MAILTO:info@alwaysaimhighevents.com
END:VEVENT
BEGIN:VEVENT
DTSTART;VALUE=DATE:20260419
DTEND;VALUE=DATE:20260420
DTSTAMP:20260420T003120
CREATED:20251104T091136Z
LAST-MODIFIED:20251104T091136Z
UID:10006903-1776556800-1776643199@raceconnections.com
SUMMARY:UK Triathlon: Stratford Triathlon
DESCRIPTION:The Event\nThis exciting event brings together athletes of all levels to compete in swimming\, cycling and running in the beautiful town of Stratford. Whether you’re a seasoned triathlete or trying it out for the first time\, this event offers a challenging and rewarding experience. \nOffering an indoor pool swim at Stratford Leisure Centre in the picturesque and historic town of Stratford-upon-Avon. \nWhat’s included if you sign up for our event:\n\nHeated indoor pool based swim\nScenic countryside bike route\nFlat towpath run course taking in the stunning views of the River Avon\nOfficial Finishers Medal for all entrants\nElectronic Chip Timed Event\n\nEstimated Event Times;\nSprint – Open Category from 7:30am till  9:30am \nSprint – Female Category from 9:30am till 10:15am \nSprint – Relay from 10:15am till 10:30am \nTriTogether\, CRUK & Fun from 10:30am till 10:45am \nSuper Sprint – Female Category from 10:45am till 11:10am \nSuper Sprint – Open Category from 10:45am till 11:10am \n  \nFor more race information details of each category\, please click here.
URL:https://raceconnections.com/event/uk-triathlon-stratford-triathlon/
LOCATION:Stratford Leisure Centre\, Bridgeway\, Stratford-upon-Avon\, Stratford\, CV37 6YX\, United Kingdom
CATEGORIES:Triathlon
ATTACH;FMTTYPE=image/jpeg:https://raceconnections.com/wp-content/uploads/2025/11/strtaford-triathlon-e1762247469618.jpg
ORGANIZER;CN="UK Triathlon":MAILTO:customercare@uktriathlon.co.uk
GEO:52.1921151;-1.7005866
X-APPLE-STRUCTURED-LOCATION;VALUE=URI;X-ADDRESS=Stratford Leisure Centre Bridgeway Stratford-upon-Avon Stratford CV37 6YX United Kingdom;X-APPLE-RADIUS=500;X-TITLE=Bridgeway\, Stratford-upon-Avon:geo:-1.7005866,52.1921151
END:VEVENT
END:VCALENDAR