BEGIN:VCALENDAR
VERSION:2.0
PRODID:-//Race CONNECTIONS - ECPv6.15.15//NONSGML v1.0//EN
CALSCALE:GREGORIAN
METHOD:PUBLISH
X-ORIGINAL-URL:https://raceconnections.com
X-WR-CALDESC:Events for Race CONNECTIONS
REFRESH-INTERVAL;VALUE=DURATION:PT1H
X-Robots-Tag:noindex
X-PUBLISHED-TTL:PT1H
BEGIN:VTIMEZONE
TZID:Europe/London
BEGIN:DAYLIGHT
TZOFFSETFROM:+0000
TZOFFSETTO:+0100
TZNAME:BST
DTSTART:20190331T010000
END:DAYLIGHT
BEGIN:STANDARD
TZOFFSETFROM:+0100
TZOFFSETTO:+0000
TZNAME:GMT
DTSTART:20191027T010000
END:STANDARD
BEGIN:DAYLIGHT
TZOFFSETFROM:+0000
TZOFFSETTO:+0100
TZNAME:BST
DTSTART:20200329T010000
END:DAYLIGHT
BEGIN:STANDARD
TZOFFSETFROM:+0100
TZOFFSETTO:+0000
TZNAME:GMT
DTSTART:20201025T010000
END:STANDARD
BEGIN:DAYLIGHT
TZOFFSETFROM:+0000
TZOFFSETTO:+0100
TZNAME:BST
DTSTART:20210328T010000
END:DAYLIGHT
BEGIN:STANDARD
TZOFFSETFROM:+0100
TZOFFSETTO:+0000
TZNAME:GMT
DTSTART:20211031T010000
END:STANDARD
BEGIN:DAYLIGHT
TZOFFSETFROM:+0000
TZOFFSETTO:+0100
TZNAME:BST
DTSTART:20220327T010000
END:DAYLIGHT
BEGIN:STANDARD
TZOFFSETFROM:+0100
TZOFFSETTO:+0000
TZNAME:GMT
DTSTART:20221030T010000
END:STANDARD
BEGIN:DAYLIGHT
TZOFFSETFROM:+0000
TZOFFSETTO:+0100
TZNAME:BST
DTSTART:20230326T010000
END:DAYLIGHT
BEGIN:STANDARD
TZOFFSETFROM:+0100
TZOFFSETTO:+0000
TZNAME:GMT
DTSTART:20231029T010000
END:STANDARD
BEGIN:DAYLIGHT
TZOFFSETFROM:+0000
TZOFFSETTO:+0100
TZNAME:BST
DTSTART:20240331T010000
END:DAYLIGHT
BEGIN:STANDARD
TZOFFSETFROM:+0100
TZOFFSETTO:+0000
TZNAME:GMT
DTSTART:20241027T010000
END:STANDARD
BEGIN:DAYLIGHT
TZOFFSETFROM:+0000
TZOFFSETTO:+0100
TZNAME:BST
DTSTART:20250330T010000
END:DAYLIGHT
BEGIN:STANDARD
TZOFFSETFROM:+0100
TZOFFSETTO:+0000
TZNAME:GMT
DTSTART:20251026T010000
END:STANDARD
END:VTIMEZONE
BEGIN:VEVENT
DTSTART;TZID=Europe/London:20240209T000000
DTEND;TZID=Europe/London:20240211T235959
DTSTAMP:20260201T231405
CREATED:20230721T133636Z
LAST-MODIFIED:20230721T133640Z
UID:10006786-1707436800-1707695999@raceconnections.com
SUMMARY:Snowies MTB Festival 2024
DESCRIPTION:IT’S LUXURY AND ATMOSPHERE ALL THE WAY!….\n\n\n\nStart and finish your journey at our host resort\, Lake Crackenback Resort & Spa\, nestled in the Snowy Mountains heartland.  Yes\, your journey will be a hardcore ride\, but before and after\, it’s luxury all the way with all the facilities you’d expect at one of the country’s most beloved 4.5-star resorts.  And it’s an even better base for all your family and friends who’ll be there to cheer you on. \n\n\n\nYOUR ULTIMATE MTB HIGH!…..\n\n\n\nAnd now we’ve got your race base sorted. Get ready for an endorphin overload as you head out onto your ultimate MTB high. \n\n\n\nEach stage has its own unique high-country character and terrain and includes the perfect mix of fast-flowing single track\, downhill descents\, undulating climbs\, techy challenges and groomed trails\, including ?m of vertical climbing and descending.  If riding up hills and barrelling down descents at full speed tickles your fancy\, it’s time to saddle up and immerse yourself in the Snowies High Country. \n\n\n\nAND THE KICKER… a one-off chance to ride the FULL LENGTH of the Iconic Thredbo Valley Track on CLOSED TRAILS.  \n\n\n\nThis legendary trail is a MUST DO on your MTB bucket list\, and Stage 3 Snowies Legends Descent is the only time you can experience\, without interruption\, the pure exhilaration of 42km of sheer Mountain Bike heaven from top to bottom. \n\n\n\nThroughout the stages\, immerse yourself in the Thredbo Valley as you traverse the banks of the Thredbo River on super fun trails that climb and descend on an epic high-country roller-coaster ride.  Ride the trails overlooking Lake Jindabyne\, and take in the snow gum forests pierced by crystal clear mountain streams as well as Alpine meadows and granite outcrops. And even race our very own ‘Man from Snowy River’ on the trail network from Lake Crackenback Resort\, the launchpad\, to some of the world’s best rideable terrain. \n\n\n\nForget the tarmac and gravel. This is unadulterated mountain bike heaven in the heart of the Snowies. \n\n\n\n\n\n\nA STAGE RACE… WITH EPIC RIDING… BUT NO LABOROIOUS TRAVEL AND MOVING?\nThat’s right you asked\, and the Snowies have delivered. This world class riding is all within a 18km radius.  And\, for stages away from the resort there’s a bus to transport you and your bike the 10 minutes to your destination. So\, you\, your family and your mates can just sit back and enjoy the atmos’ and mountain air. \n\n\n\n\n\n\nWHATEVER YOUR RIDE… THE SNOWIES HAS SOMETHING FOR YOU.\n\n\n\nNew to Mountain Biking? Love going Full Gas? Looking for an MTB Holiday?  Elite Racer? Junior Rider? Family? E-Bike? Team of Mates?….. \n\n\n\nWhatever your riding passion Snowies 2024 is ready to deliver with courses for all comers. \n\n\n\nYOUR COURSE OF CHOICE.\n\n\n\nRiders can choose to take the reigns and saddle up for the following: \n\n\n\n\n3-DAY STAGE RACE | 3 Days | 5 Stages\n\n\n\nWEEKEND RIDER | 2 Days (Sat & Sun) | 3 Stages\n\n\n\nDAY RIDER | 1 Day | 1-2 Stages (Depending on the Day)\n\n\n\n\nPLUS… YOUR CHALLENGE OF CHOICE.\n\n\n\nFor each course\, you can then choose the level of the challenge… Wild Brumby or Brumby. \n\n\n\nWILD BRUMBY –  For riders looking for longer and tougher… OR \n\n\n\nBRUMBY – For riders looking for all the thrills but with less distance and less technical riding. \n\n\n\nFROM LESS THAN $250 FOR A THREE DAY STAGE RACE …. NO!\n\n\n\nYES!  It’s true!  At In2Adventure\, the team work hard to keep overheads to a minimum so we can deliver a value event at a price everyone can afford… but it still includes all the bells and whistles you’d expect at one of Australia’s premium MTB Stage Races.  And lower entry fees mean you and your family have more $ to spend on your unforgettable holiday in the mountains. \n\n\n\nFORGET APRES SKI… IT’S TIME FOR APRES MTB…\n\n\n\nWith the Alpine Larder just a few pedal pushes from the finish line we’ve got the Social Scene covered.  Regarded as one of the most relaxed and welcoming MTB stage races in Australia you’ll have as much fun off the bike as you do on it.  Enjoy time with your mates\, make some new ones and share your war stories over a bevvy or two. \n\n\n\nWe all agree\, a beer and pizza always tastes so much better surrounded by your best mates\, a mountain vista and fresh mountain air\, after a big day pushing out the k’s on the trails. \n\n\n\nPLUS\, there’s all the activities on offer at our race base.  After all\, what’s an MTB Race without onsite accommodation\, a spa\, golf course\, alpine lake\, heated indoor pool and sauna\, tennis courts\, kids playground\, archery\, trampolines\, canoeing\, trout fishing\, ropes course and disc golf on site! \n\n\n\nLet’s hope you can tear your family and mates away long enough to cheer you on your way 😊 \n\n\n\nPLUS.. you better make sure you leave some time to explore more of the Snowies playground. Climb to the top of Australia’s highest peak\, ride horses through untouched bushland and fish in crystal clear streams. Then refuel classic country pubs\, boutique wineries and trendy craft breweries. \n\n\n\nEVENT DETAILS:\n\n\n\nEVENTS\n\n\n\nWILD BRUMBY | Stage RaceBRUMBY | Stage RaceWEEKEND RIDER | 2 DaysDAY RIDER | 1 Day \n\n\n\nSNOWY MOUNTAINS\n\n\n\nLake Crackenback Resort & Spa & Thredbo Resort \n\n\n\nCLIMATE\n\n\n\nSummer 24-27 Degrees \n\n\n\nPRIZE POOL\n\n\n\n$5\,000
URL:https://raceconnections.com/event/snowies-mtb-festival-2024/
LOCATION:1650 Alpine Way\, Crackenback NSW 2627\, Australia\, United Kingdom
CATEGORIES:Cycling,Mountain Biking
ATTACH;FMTTYPE=image/jpeg:https://raceconnections.com/wp-content/uploads/2023/07/Snowies-MTB-e1689946355376.jpg
END:VEVENT
BEGIN:VEVENT
DTSTART;TZID=Europe/London:20230325T000000
DTEND;TZID=Europe/London:20230325T235959
DTSTAMP:20260201T231405
CREATED:20230223T234035Z
LAST-MODIFIED:20240430T070531Z
UID:10006734-1679702400-1679788799@raceconnections.com
SUMMARY:Kent Duathlon 2023
DESCRIPTION:25TH MARCH 2023 | HOLE PARK\n\n\n\nThe Kent Duathlon event will take place on 25TH MARCH 2023 at 8 AM from Hole Park in Cranbrook. \n\n\n\nTHIS RACE IS OPEN FOR ENTRY TO ALL ABILITIES\, FROM BEGINNERS TO SEASONED ATHLETES. \n\n\n\nPLEASE NOTE THIS RACE DOES NOT GRANT YOU ACCESS TO THE HOLE PARK GARDENS. \n\n\n\nTough Runner UK is the proud new organiser of the Kent Duathlon. We welcome you to the 1st crossover edition of the highly popular race\, which takes place in the breathtaking scenery of Hole Park gardens and surrounding roads. \n\n\n\nSo let’s get down to the details:Event Date: Sunday 25th April 2021- 8 AM StartEvent venue: Hole Park\, CranbrookNumber of participants: 500COST: Early-bird offer now on at £49 (non-British Triathlon members will incur an extra £6 British Triathlon Federation day licence fee) \n\n\n\nThe Kent Duathlon can be entered by anyone who feels capable of completing the above distances. \n\n\n\nPlease note that Tough Runner UK has taken huge measures to comply with all Covid-19 safety guidelines for our industry and has already conducted 2020 events with high satisfactory levels issued from BTF officials. \n\n\n\nBritish Triathlon Federation RulesBTF rules\, All competitors must comply with BTF rules (it is recommended that you read the BTF rules and regulations which will be applied to his race). All competitors must be licensed to race. Those non-BTF members will be required to pay a £ 6 GBP levy for a day license. This is now all digital and is included in the non-member entry cost. \n\n\n\nSPRINT DISTANCE \n\n\n\n\nRUN- 5K\n\n\n\nBIKE- 20K\n\n\n\nRUN- 2.5K\n\n\n\n\nEVENT SCHEDULE:\n\n\n\n\nRegistration & Transition Opens @- 6 am\n\n\n\nRegistration & Transition Close- 7:40\n\n\n\nMandatory Race Brief- 07:50\n\n\n\nRace Start- 8:00
URL:https://raceconnections.com/event/kent-dualthon-2023/
LOCATION:Hole Park\, Benenden Rd\, Rolvenden\, Cranbrook\, TN17 4JA\, United Kingdom
CATEGORIES:10K Run,5K Run,Duathlon,Mountain Biking
ATTACH;FMTTYPE=image/jpeg:https://raceconnections.com/wp-content/uploads/2023/02/Kent-Dualthon.jpeg
END:VEVENT
BEGIN:VEVENT
DTSTART;VALUE=DATE:20200306
DTEND;VALUE=DATE:20200310
DTSTAMP:20260201T231405
CREATED:20190901T090316Z
LAST-MODIFIED:20190901T090316Z
UID:10005010-1583452800-1583798399@raceconnections.com
SUMMARY:Peaks Challenge Falls Creek 2020
DESCRIPTION:Who wants to ride one of the world’s ‘Top 10’ toughest one day cycling events? \nThe team at CAMS can\, and will\, help you conquer Peaks Challenge Falls Creek on Sunday 8 March 2020. We are excited to be taking a crew back to Falls Creek for 2020!\nCAMS offers comprehensive training and event packages. Whether your goal is to finish under 13 hours\, break the 10 hour mark or beat your previous finish time\, we’re here to support you in achieving your goals. \nThe last 5 years the CAMS Peaks Challenge crew have been highly successful in conquering the event\, with 95% successfully achieving the 13 hour cut off and many earning the coveted sub 10 hour jersey. \nYour package can provide you with training rides to ensure you achieve your finishing goal\, travel\, accommodation and meals\, making it easy to turn up and ride the day stress free. \nWhy join CAMS training crew? CAMS training packages are tailored to your goals and your budget. The group consists of a variety of riders – different ages and abilities\, and CAMS offers 3 training groups to suit different rider levels and goals. Should inclement weather disrupt one of the training sessions – we move indoors to continue our progress. CAMS also offered a fully supported Peaks rehearsal ride a few weeks before the big day – to sort out any nutrition concerns\, and mental preparation. \nTraining commences later this year – so don’t leave it to the last minute to make the commitment. \nRegistration : https://www.camscyclingcollective.cc/our-services/special-events/peaks-challenge-falls-creek/
URL:https://raceconnections.com/event/peaks-challenge-falls-creek-2020/
LOCATION:CAMS Cycling Collective\, 25 King Street\, Bowen Hills\, Brisbane\, \, Australia\, Queensland\, 4101\, Australia
CATEGORIES:Cycling
ATTACH;FMTTYPE=image/jpeg:https://raceconnections.com/wp-content/uploads/2019/09/peaks-challege.jpg
GEO:-27.4522423;153.0339824
X-APPLE-STRUCTURED-LOCATION;VALUE=URI;X-ADDRESS=CAMS Cycling Collective 25 King Street Bowen Hills Brisbane  Australia Queensland 4101 Australia;X-APPLE-RADIUS=500;X-TITLE=25 King Street\, Bowen Hills\, Brisbane\, \, Australia:geo:153.0339824,-27.4522423
END:VEVENT
END:VCALENDAR