BEGIN:VCALENDAR
VERSION:2.0
PRODID:-//Race CONNECTIONS - ECPv6.15.20//NONSGML v1.0//EN
CALSCALE:GREGORIAN
METHOD:PUBLISH
X-ORIGINAL-URL:https://raceconnections.com
X-WR-CALDESC:Events for Race CONNECTIONS
REFRESH-INTERVAL;VALUE=DURATION:PT1H
X-Robots-Tag:noindex
X-PUBLISHED-TTL:PT1H
BEGIN:VTIMEZONE
TZID:Europe/London
BEGIN:DAYLIGHT
TZOFFSETFROM:+0000
TZOFFSETTO:+0100
TZNAME:BST
DTSTART:20190331T010000
END:DAYLIGHT
BEGIN:STANDARD
TZOFFSETFROM:+0100
TZOFFSETTO:+0000
TZNAME:GMT
DTSTART:20191027T010000
END:STANDARD
BEGIN:DAYLIGHT
TZOFFSETFROM:+0000
TZOFFSETTO:+0100
TZNAME:BST
DTSTART:20200329T010000
END:DAYLIGHT
BEGIN:STANDARD
TZOFFSETFROM:+0100
TZOFFSETTO:+0000
TZNAME:GMT
DTSTART:20201025T010000
END:STANDARD
BEGIN:DAYLIGHT
TZOFFSETFROM:+0000
TZOFFSETTO:+0100
TZNAME:BST
DTSTART:20210328T010000
END:DAYLIGHT
BEGIN:STANDARD
TZOFFSETFROM:+0100
TZOFFSETTO:+0000
TZNAME:GMT
DTSTART:20211031T010000
END:STANDARD
BEGIN:DAYLIGHT
TZOFFSETFROM:+0000
TZOFFSETTO:+0100
TZNAME:BST
DTSTART:20220327T010000
END:DAYLIGHT
BEGIN:STANDARD
TZOFFSETFROM:+0100
TZOFFSETTO:+0000
TZNAME:GMT
DTSTART:20221030T010000
END:STANDARD
BEGIN:DAYLIGHT
TZOFFSETFROM:+0000
TZOFFSETTO:+0100
TZNAME:BST
DTSTART:20230326T010000
END:DAYLIGHT
BEGIN:STANDARD
TZOFFSETFROM:+0100
TZOFFSETTO:+0000
TZNAME:GMT
DTSTART:20231029T010000
END:STANDARD
BEGIN:DAYLIGHT
TZOFFSETFROM:+0000
TZOFFSETTO:+0100
TZNAME:BST
DTSTART:20240331T010000
END:DAYLIGHT
BEGIN:STANDARD
TZOFFSETFROM:+0100
TZOFFSETTO:+0000
TZNAME:GMT
DTSTART:20241027T010000
END:STANDARD
BEGIN:DAYLIGHT
TZOFFSETFROM:+0000
TZOFFSETTO:+0100
TZNAME:BST
DTSTART:20250330T010000
END:DAYLIGHT
BEGIN:STANDARD
TZOFFSETFROM:+0100
TZOFFSETTO:+0000
TZNAME:GMT
DTSTART:20251026T010000
END:STANDARD
END:VTIMEZONE
BEGIN:VEVENT
DTSTART;TZID=Europe/London:20240227T080000
DTEND;TZID=Europe/London:20240227T170000
DTSTAMP:20260422T150349
CREATED:20240227T105722Z
LAST-MODIFIED:20240227T105725Z
UID:10006819-1709020800-1709053200@raceconnections.com
SUMMARY:XTERRA WESTON PARK TRIATHLON 2024
DESCRIPTION:Making a spectacular return to the UK\, XTERRA Weston Park is a must for all cross-triathletes’ calendars! \n\n\n\nSet in 1\,000 acres of beautifully landscaped parkland\, XTERRA Weston Park is an exciting and scenic event perfect for those new to the sport and seasoned triathletes. \n\n\n\nWeston Park has a central UK location with excellent road links from Birmingham\, Wales\, and the North West. The venue itself is steeped in history and grandeur\, with many excellent facilities for spectators and participants to enjoy on the day\, from long walks around the Parkland to relaxing in the formal gardens to running wild in the Woodland Adventure Playground. \n\n\n\nBring the family along and make it a full day out to enjoy. Entries and family ticket information are available at xterraplanet.com \n\n\n\nWHAT’S INCLUDED\n\n\n\nLIVELY EVENT VILLAGE\n\n\n\nMusic\, commentary\, shopping and food with a fun and supportive atmosphere \n\n\n\nFAMILY-FRIENDLY VIBES\n\n\n\nFamily finishes and plenty to see and do \n\n\n\nON COURSE SUPPORT\n\n\n\nBrilliant marshals\, signage and pick-up vehicles \n\n\n\nUNIQUE FINISHER MEMENTOS!\n\n\n\nBeautifully designed to reflect our event locations and local history. \n\n\n\nSPECTACULAR LOCATION\n\n\n\nA beautiful stately home\, estate & gardens. \n\n\n\nPROFESSIONAL TIMING\n\n\n\nChip timing\, live tracker and online results
URL:https://raceconnections.com/event/xterra-weston-park-triathlon-2024/
LOCATION:Weston Park\, Weston-under-Lizard\, Shifnal\, Shifnal\, England\, TF11 8LE\, United Kingdom
CATEGORIES:Triathlon
ATTACH;FMTTYPE=image/jpeg:https://raceconnections.com/wp-content/uploads/2024/02/XTERRA-WESTON-PARK-TRIATHLON-2024-e1709031422463.jpeg
ORGANIZER;CN="Always Aim High Events":MAILTO:info@alwaysaimhighevents.com
GEO:52.6931972;-2.2879532
X-APPLE-STRUCTURED-LOCATION;VALUE=URI;X-ADDRESS=Weston Park Weston-under-Lizard Shifnal Shifnal England TF11 8LE United Kingdom;X-APPLE-RADIUS=500;X-TITLE=Weston-under-Lizard\, Shifnal:geo:-2.2879532,52.6931972
END:VEVENT
BEGIN:VEVENT
DTSTART;VALUE=DATE:20200524
DTEND;VALUE=DATE:20200525
DTSTAMP:20260422T150349
CREATED:20191023T070013Z
LAST-MODIFIED:20191024T104527Z
UID:10005078-1590278400-1590364799@raceconnections.com
SUMMARY:Grafman Middle Distance Triathlon 2020
DESCRIPTION:“Simply Stunning” were the words used to describe the venue at which the Grafman Middle Distance Triathlon 2020 is hosted. Located in the heart of Cambridgeshire\, near the ancient Village of Buckden & St.Neots in UK. The start\, the swim\, much of the run and the finish are all conveniently located together\, making excellent spectator viewing at Grafham Water Reservoir. \nThis Triathlon is a multiple award winning event such as  being voted National Event of The year 2014 and being selected for the Triathlon England Middle Distance Championships 2015 and British Championships 2016. \nDistances\n\n\nMiddle Distance Triathlon: 1.2m Swim / 54.9m Bike / 13.1m Run\nAquabike  1.2m Swim / 54.9m Bike\n\nCut Off Times\n\n\nSwim:   1 hr 10 mins\nBike:     5 hrs 30 mins (Max 4hrs 20 mins cycle time)\nRun:     8 hrs 30 mins (Max 3hrs running time)\n\n\nCheck out the Rules & Regulation and Register Today by Clicking HERE \n\n 
URL:https://raceconnections.com/event/grafman-middle-distance-triathlon-2020/
LOCATION:Grafham Water Visitor Centre\, Marlow Car Park\, Grafham\,\, Huntingdon\, PE28 0BH\,\, United Kingdom
CATEGORIES:Aquabike,Triathlon
ATTACH;FMTTYPE=image/jpeg:https://raceconnections.com/wp-content/uploads/2019/10/Grafman-Water-Middle-Dis.Tri_.jpg
ORGANIZER;CN="Nicetri Events":MAILTO:keith@nicetri.co.uk
GEO:52.297797;-0.290466
X-APPLE-STRUCTURED-LOCATION;VALUE=URI;X-ADDRESS=Grafham Water Visitor Centre Marlow Car Park Grafham Huntingdon PE28 0BH United Kingdom;X-APPLE-RADIUS=500;X-TITLE=Marlow Car Park\, Grafham\,:geo:-0.290466,52.297797
END:VEVENT
END:VCALENDAR