BEGIN:VCALENDAR
VERSION:2.0
PRODID:-//Race CONNECTIONS - ECPv6.15.20//NONSGML v1.0//EN
CALSCALE:GREGORIAN
METHOD:PUBLISH
X-WR-CALNAME:Race CONNECTIONS
X-ORIGINAL-URL:https://raceconnections.com
X-WR-CALDESC:Events for Race CONNECTIONS
REFRESH-INTERVAL;VALUE=DURATION:PT1H
X-Robots-Tag:noindex
X-PUBLISHED-TTL:PT1H
BEGIN:VTIMEZONE
TZID:Europe/London
BEGIN:DAYLIGHT
TZOFFSETFROM:+0000
TZOFFSETTO:+0100
TZNAME:BST
DTSTART:20180325T010000
END:DAYLIGHT
BEGIN:STANDARD
TZOFFSETFROM:+0100
TZOFFSETTO:+0000
TZNAME:GMT
DTSTART:20181028T010000
END:STANDARD
BEGIN:DAYLIGHT
TZOFFSETFROM:+0000
TZOFFSETTO:+0100
TZNAME:BST
DTSTART:20190331T010000
END:DAYLIGHT
BEGIN:STANDARD
TZOFFSETFROM:+0100
TZOFFSETTO:+0000
TZNAME:GMT
DTSTART:20191027T010000
END:STANDARD
BEGIN:DAYLIGHT
TZOFFSETFROM:+0000
TZOFFSETTO:+0100
TZNAME:BST
DTSTART:20200329T010000
END:DAYLIGHT
BEGIN:STANDARD
TZOFFSETFROM:+0100
TZOFFSETTO:+0000
TZNAME:GMT
DTSTART:20201025T010000
END:STANDARD
BEGIN:DAYLIGHT
TZOFFSETFROM:+0000
TZOFFSETTO:+0100
TZNAME:BST
DTSTART:20210328T010000
END:DAYLIGHT
BEGIN:STANDARD
TZOFFSETFROM:+0100
TZOFFSETTO:+0000
TZNAME:GMT
DTSTART:20211031T010000
END:STANDARD
BEGIN:DAYLIGHT
TZOFFSETFROM:+0000
TZOFFSETTO:+0100
TZNAME:BST
DTSTART:20220327T010000
END:DAYLIGHT
BEGIN:STANDARD
TZOFFSETFROM:+0100
TZOFFSETTO:+0000
TZNAME:GMT
DTSTART:20221030T010000
END:STANDARD
BEGIN:DAYLIGHT
TZOFFSETFROM:+0000
TZOFFSETTO:+0100
TZNAME:BST
DTSTART:20230326T010000
END:DAYLIGHT
BEGIN:STANDARD
TZOFFSETFROM:+0100
TZOFFSETTO:+0000
TZNAME:GMT
DTSTART:20231029T010000
END:STANDARD
BEGIN:DAYLIGHT
TZOFFSETFROM:+0000
TZOFFSETTO:+0100
TZNAME:BST
DTSTART:20240331T010000
END:DAYLIGHT
BEGIN:STANDARD
TZOFFSETFROM:+0100
TZOFFSETTO:+0000
TZNAME:GMT
DTSTART:20241027T010000
END:STANDARD
END:VTIMEZONE
BEGIN:VEVENT
DTSTART;TZID=Europe/London:20230709T000000
DTEND;TZID=Europe/London:20230709T235959
DTSTAMP:20260424T103841
CREATED:20230308T135501Z
LAST-MODIFIED:20230308T135504Z
UID:10006740-1688860800-1688947199@raceconnections.com
SUMMARY:Hever Castle Festival Of Endurance 2023
DESCRIPTION:TRIATHLON EVENTS\n\n\n\nDATE:\n\n\n\n\n9 July 2023\n\n\n\n\nVENUE\n\n\n\n\nHever Rd\, Hever\, Edenbridge TN8 7NG\, United Kingdom\n\n\n\n\nJoin us for this Festival Of Endurance Event at the historical Hever Castle Kent. \n\n\n\nThe childhood home of Anne Boleyn\, Hever Castle\, is a stunning location for a race. Swim from The Loggia with its Nymph’s Fountain inspired by the Trevi Fountain in Rome. \n\n\n\nRun through stunning castle grounds and surrounding villages\, and cycle through the Ashdown Forest and South Downs. \n\n\n\nThroughout the weekend\, athletes and spectators will be able to enjoy a fun-packed festival village featuring live music\, shopping\, food and drink\, children’s entertainment\, yoga and more. \n\n\n\nOur 2022 Festival Of Endurance event was a huge success; we expect 2023 to be even better! \n\n\n\nRACES\n\n\n\nFestival Of Endurance returns in 2023 for a day full of sporting excitement – highlights include our full iron distance\, The Bastion and half iron distance\, The Gauntlet and our 50 Miler ultra run. \n\n\n\nWe also have long-distance duathlons\, aquathlons\, aqua bikes\, and running and swimming races. \n\n\n\nThis year\, we have added new distances to the Festival Of Endurance program: 34 Miler Ultra Run\, 50 Miler Ultra Run Relay\, Marathon Run Relay\, 10K Swim Relay and the 5K Swim! \n\n\n\nWe hope you will be one of the first to participate in these exciting events! \n\n\n\nGOVERNING BODY\n\n\n\nWe are delighted to announce that British Triathlon governs this event. If you compete in a triathlon or multisport event\, you will need a valid membership of day licence. \n\n\n\nCHARITY\n\n\n\nWe are delighted to have partnered with Macmillan Cancer Support for another year after the success of 2022. They do whatever it takes to give people affected by cancer the support they need. Macmillan is going all out to support people with cancer. But they can’t do it without you. \n\n\n\nYou can support Macmillan by signing up for a charity place and committing to fundraising or making a donation via the registration form.
URL:https://raceconnections.com/event/hever-castle-festival-of-endurance-2023/
LOCATION:Hever Rd\, Hever\, Edenbridge TN8 7NG\, United Kingdom\, United Kingdom
CATEGORIES:Cycling,Running,Swimming,Triathlon
ATTACH;FMTTYPE=image/jpeg:https://raceconnections.com/wp-content/uploads/2023/03/Hever-Castle-Festival-Of-Endurance-July-2023-e1683433985841.jpg
ORGANIZER;CN="The Castle Triathlon Series":MAILTO:support@castletriathlonseries.co.uk
END:VEVENT
BEGIN:VEVENT
DTSTART;VALUE=DATE:20200711
DTEND;VALUE=DATE:20200713
DTSTAMP:20260424T103841
CREATED:20200220T030405Z
LAST-MODIFIED:20200220T031340Z
UID:10005294-1594425600-1594598399@raceconnections.com
SUMMARY:TRI-Factor Triathlon & Duathlon Festival Belitung
DESCRIPTION:TRI-Factor Asian Championships Series – Indonesia \nOne of the fastest growing multisport markets in South-East Asia\, Indonesia is simply an amazing country with wonderful islands of pristine waters and white sand beaches! \nThe TRI-Factor Asian Championship Series returns to Indonesia with the TRIFACTOR Triathlon / Duathlon National Championships in Belitung Island on the 11th – 12th of July 2020! \n﻿ \nJust an hour flight from both Jakarta and Kuala Lumpur\, this beautiful island is the next sports tourist destination to be! \n[fusion_button link=”https://trifactor.asia/tri-factor-beltung-indonesia-2020/&#8221; text_transform=”” title=”” target=”_blank” link_attributes=”” alignment=”” modal=”” hide_on_mobile=”small-visibility\,medium-visibility\,large-visibility” class=”” id=”” s2id_autogen16=”” s2id_autogen16_search=”” color=”default” button_gradient_top_color=”” button_gradient_bottom_color=”” button_gradient_top_color_hover=”” button_gradient_bottom_color_hover=”” accent_color=”” accent_hover_color=”” type=”” bevel_color=”” border_width=”” border_radius=”” border_color=”” border_hover_color=”” size=”” stretch=”default” icon=”” icon_position=”left” icon_divider=”no” s2id_autogen17=”” s2id_autogen17_search=”” animation_type=”” animation_direction=”left” animation_speed=”0.3″ s2id_autogen18=”” s2id_autogen18_search=”” animation_offset=””]Register Here[/fusion_button]
URL:https://raceconnections.com/event/tri-factor-triathlon-duathlon-festival-belitung/
LOCATION:Belitung\, Indonesia
CATEGORIES:Triathlon
ATTACH;FMTTYPE=image/jpeg:https://raceconnections.com/wp-content/uploads/2020/02/20819438_1644451402246250_8904129272449153821_o.jpg
ORGANIZER;CN="Tri-Factor":MAILTO:ENQUIRY@TRIFACTOR.ASIA
GEO:-0.789275;113.921327
END:VEVENT
BEGIN:VEVENT
DTSTART;TZID=Europe/London:20200313T063000
DTEND;TZID=Europe/London:20200315T143000
DTSTAMP:20260424T103841
CREATED:20190528T074603Z
LAST-MODIFIED:20190528T074944Z
UID:10004896-1584081000-1584282600@raceconnections.com
SUMMARY:Mooloolaba Triathlon Festival
DESCRIPTION:Come back and join us for the Mooloolaba Triathlon Festival from 13-15 March 2020! Entries opening soon… \nMooloolaba Triathlon Festival has been a feature event on the Australian Triathlon Calendar for over 20 years. \nCatering for competitors of all abilities and age groups\, the Mooloolaba Triathlon has grown into one of the largest Olympic distance (1.5km swim / 40km cycle / 10km run) triathlon events in Australia.The Mooloolaba Triathlon is the centrepiece of a three-day multi-sport festival. There are also a number of family-friendly events run during this event. \n \nMooloolaba Triathlon stages a course that is famous for its ocean swim along with the electric buzz in the atmosphere as thousands of triathletes descend on this popular beach town. The event also features the Mooloolaba ITU Triathlon World Cup\, where participants will see some of the biggest names in triathlon swimming the same waters\, cycling the same roads\, and pounding the same pavement as their own course. It’s perfect for first timer and seasoned triathletes. \n  \n \n \n  \nVideo: 2018 Event Highlights – how awesome was that!\nOriginally from: http://asia.ironman.com/triathlon/events/asiapac/multisports/mooloolaba.aspx#ixzz5pCZvd7st \n\n  \nMore info and upcoming ticking details at :\nhttp://asia.ironman.com/triathlon/events/asiapac/multisports/mooloolaba.aspx#axzz5pCZlIVdy \n 
URL:https://raceconnections.com/event/mooloolaba-triathlon-festival/
LOCATION:Mooloolaba beach town\, Mooloolaba Esplanade\, Mooloolaba\,\, Queensland\, 4557\, Australia
CATEGORIES:Children (up to 12),Junior (13-19),Swimming,Triathlon
ATTACH;FMTTYPE=image/jpeg:https://raceconnections.com/wp-content/uploads/2019/05/Mooloolaba-Festival.jpg
ORGANIZER;CN="Mooloolaba Triathlon Festival":MAILTO:mooloolabatri@ironman.com
GEO:-26.678435;153.1183825
X-APPLE-STRUCTURED-LOCATION;VALUE=URI;X-ADDRESS=Mooloolaba beach town Mooloolaba Esplanade Mooloolaba Queensland 4557 Australia;X-APPLE-RADIUS=500;X-TITLE=Mooloolaba Esplanade\, Mooloolaba\,:geo:153.1183825,-26.678435
END:VEVENT
BEGIN:VEVENT
DTSTART;VALUE=DATE:20191027
DTEND;VALUE=DATE:20191028
DTSTAMP:20260424T103841
CREATED:20190910T124844Z
LAST-MODIFIED:20190911T095329Z
UID:10005021-1572134400-1572220799@raceconnections.com
SUMMARY:Pattana Triathlon Festival 2019
DESCRIPTION:It isn’t just about being a triathlete\, more about proving something to yourself and having a focus. \nSave the Date to PROVE YOU CAN!\nRace Day: 27 October 2019 \nRace Category : (Race distances – TBA)\n– Individual Standard Triathlon (Age Groups)\n– Individual Sprint Triathlon (Age Groups)\n– Team Relay Standard Triathlon (Open)\n– Individual Duathlon (Age Groups) \nHow to get to the venue:\n• From Bangkok\, Suvarnabhumi Airport: http://bit.ly/BANGKOK-PATTANA\n• From Rayong: http://bit.ly/RAYONG-PATTANA\n• From Pattaya: http://bit.ly/PATTAYA-PATTANA\n• GPS Coordinate: 13°05’05.28″ N 101°08’38.99″ E \nEntry fee includes :\n\nSwim cap for triathlete\, and for a swimmer of Team Relay Triathlon.\nA set of race number for bike & run with belt.\nTiming Chip.\nSouvenir T-shirt and bike bottle.\nFood and beverage after the race.\n\nLet’s power your potential!\nRegistration : CLICK HERE \n\nContact\nEvent Facebook www.facebook.com/c55events \nE-mail info@c55events.com \nTelephone 02 2521764 6 \nProblem Registering 081 818 6155 (10:00-17:00 Mon-Fri) – Thailand time
URL:https://raceconnections.com/event/pattana-triathlon-festival-2019/
LOCATION:Pattana Golf Club & Resort\, 99/89 Moo.9\, Khoakansong\, Amphoe Si Racha\, 20100\, Thailand
CATEGORIES:Triathlon
ATTACH;FMTTYPE=image/jpeg:https://raceconnections.com/wp-content/uploads/2019/09/67176429_2393825630862506_7145705027871440896_n.jpg
GEO:13.1892515;100.9418359
X-APPLE-STRUCTURED-LOCATION;VALUE=URI;X-ADDRESS=Pattana Golf Club & Resort 99/89 Moo.9 Khoakansong Amphoe Si Racha 20100 Thailand;X-APPLE-RADIUS=500;X-TITLE=99/89 Moo.9\, Khoakansong\, Amphoe Si Racha:geo:100.9418359,13.1892515
END:VEVENT
BEGIN:VEVENT
DTSTART;VALUE=DATE:20190824
DTEND;VALUE=DATE:20190826
DTSTAMP:20260424T103841
CREATED:20190625T050154Z
LAST-MODIFIED:20190626T035624Z
UID:10004933-1566604800-1566777599@raceconnections.com
SUMMARY:Townsville Triathlon & Multisport Festival - Off Road Weekend
DESCRIPTION:The off-road multisport event. An extreme competition\, combines swimming with mountain biking and trail running with a little bit of everything else in between\, Set on Palleranda\,a picturesque and challenging course\, There are 11 events across 2 action packed days. \nJoin us and discover nature’s paradise in Townsville \n  \n \n  \nAustralia’s LARGEST triathlon event. \n22 Events over 2 weekends \nThe Intersport Townsville Triathlon and Multisport Festival\, has arrived in 2019 \nThe new format festival will see 22 events over two weekends. \nThe first weekend will feature the existing on-road racing and the second will see the new off-road events\, the culmination of these events will make the Intersport Townsville Triathlon and Multisport Festival the largest triathlon event in Australia. \n \nTickets:    http://www.townsvilletrifestival.org.au/register-now/
URL:https://raceconnections.com/event/townsville-triathlon-multisport-festival-off-road-weekend/
LOCATION:Intersport Townsville Triathlon Festival\, The Strand\, Townsville\,\, Queensland\, 4810\, Australia
CATEGORIES:Trail Triathlon,Triathlon
ATTACH;FMTTYPE=image/jpeg:https://raceconnections.com/wp-content/uploads/2019/06/54799213_2391661937519105_3918195443191775232_n.jpg
GEO:-19.2533781;146.8192659
X-APPLE-STRUCTURED-LOCATION;VALUE=URI;X-ADDRESS=Intersport Townsville Triathlon Festival The Strand Townsville Queensland 4810 Australia;X-APPLE-RADIUS=500;X-TITLE=The Strand\, Townsville\,:geo:146.8192659,-19.2533781
END:VEVENT
END:VCALENDAR