BEGIN:VCALENDAR
VERSION:2.0
PRODID:-//Race CONNECTIONS - ECPv6.15.20//NONSGML v1.0//EN
CALSCALE:GREGORIAN
METHOD:PUBLISH
X-ORIGINAL-URL:https://raceconnections.com
X-WR-CALDESC:Events for Race CONNECTIONS
REFRESH-INTERVAL;VALUE=DURATION:PT1H
X-Robots-Tag:noindex
X-PUBLISHED-TTL:PT1H
BEGIN:VTIMEZONE
TZID:Europe/Madrid
BEGIN:DAYLIGHT
TZOFFSETFROM:+0100
TZOFFSETTO:+0200
TZNAME:CEST
DTSTART:20180325T010000
END:DAYLIGHT
BEGIN:STANDARD
TZOFFSETFROM:+0200
TZOFFSETTO:+0100
TZNAME:CET
DTSTART:20181028T010000
END:STANDARD
BEGIN:DAYLIGHT
TZOFFSETFROM:+0100
TZOFFSETTO:+0200
TZNAME:CEST
DTSTART:20190331T010000
END:DAYLIGHT
BEGIN:STANDARD
TZOFFSETFROM:+0200
TZOFFSETTO:+0100
TZNAME:CET
DTSTART:20191027T010000
END:STANDARD
BEGIN:DAYLIGHT
TZOFFSETFROM:+0100
TZOFFSETTO:+0200
TZNAME:CEST
DTSTART:20200329T010000
END:DAYLIGHT
BEGIN:STANDARD
TZOFFSETFROM:+0200
TZOFFSETTO:+0100
TZNAME:CET
DTSTART:20201025T010000
END:STANDARD
END:VTIMEZONE
BEGIN:VTIMEZONE
TZID:Europe/London
BEGIN:DAYLIGHT
TZOFFSETFROM:+0000
TZOFFSETTO:+0100
TZNAME:BST
DTSTART:20180325T010000
END:DAYLIGHT
BEGIN:STANDARD
TZOFFSETFROM:+0100
TZOFFSETTO:+0000
TZNAME:GMT
DTSTART:20181028T010000
END:STANDARD
BEGIN:DAYLIGHT
TZOFFSETFROM:+0000
TZOFFSETTO:+0100
TZNAME:BST
DTSTART:20190331T010000
END:DAYLIGHT
BEGIN:STANDARD
TZOFFSETFROM:+0100
TZOFFSETTO:+0000
TZNAME:GMT
DTSTART:20191027T010000
END:STANDARD
BEGIN:DAYLIGHT
TZOFFSETFROM:+0000
TZOFFSETTO:+0100
TZNAME:BST
DTSTART:20200329T010000
END:DAYLIGHT
BEGIN:STANDARD
TZOFFSETFROM:+0100
TZOFFSETTO:+0000
TZNAME:GMT
DTSTART:20201025T010000
END:STANDARD
END:VTIMEZONE
BEGIN:VTIMEZONE
TZID:Asia/Kuala_Lumpur
BEGIN:STANDARD
TZOFFSETFROM:+0800
TZOFFSETTO:+0800
TZNAME:+08
DTSTART:20180101T000000
END:STANDARD
END:VTIMEZONE
BEGIN:VTIMEZONE
TZID:America/New_York
BEGIN:DAYLIGHT
TZOFFSETFROM:-0500
TZOFFSETTO:-0400
TZNAME:EDT
DTSTART:20180311T070000
END:DAYLIGHT
BEGIN:STANDARD
TZOFFSETFROM:-0400
TZOFFSETTO:-0500
TZNAME:EST
DTSTART:20181104T060000
END:STANDARD
BEGIN:DAYLIGHT
TZOFFSETFROM:-0500
TZOFFSETTO:-0400
TZNAME:EDT
DTSTART:20190310T070000
END:DAYLIGHT
BEGIN:STANDARD
TZOFFSETFROM:-0400
TZOFFSETTO:-0500
TZNAME:EST
DTSTART:20191103T060000
END:STANDARD
BEGIN:DAYLIGHT
TZOFFSETFROM:-0500
TZOFFSETTO:-0400
TZNAME:EDT
DTSTART:20200308T070000
END:DAYLIGHT
BEGIN:STANDARD
TZOFFSETFROM:-0400
TZOFFSETTO:-0500
TZNAME:EST
DTSTART:20201101T060000
END:STANDARD
END:VTIMEZONE
BEGIN:VEVENT
DTSTART;VALUE=DATE:20190525
DTEND;VALUE=DATE:20190715
DTSTAMP:20260424T145900
CREATED:20190226T034616Z
LAST-MODIFIED:20190715T194011Z
UID:10004828-1558742400-1563148799@raceconnections.com
SUMMARY:The Family Swim Holiday Mallorca 2019
DESCRIPTION:Family Swim Holiday Mallorca\nAfter 14 years of successful Family Swim Holidays\, we are proud to announce our 2019 Holiday Programme. The Family Swim Holidays 2019 will take place at the fabulous world renowned BEST Centre\, in the beautiful town of Colònia Sant Jordi\, on the southern tip of Mallorca where you will stay just minutes from some of Europe’s most stunning beaches. \nThe swim holiday is designed for swimmers aged 6-18 years old\, who are used to training regularly with a swim team\, (please email us if you have any questions). The holiday will cater for all levels of swimmer from club swimmer to international standard. \nFACILITIES \nThe Pool\nThe centrepiece of The BEST Centre is our outdoor Olympic-sized training pool. The 10 lane\, 50m pool (50m x 25m x 2m) is a free-standing pool from Astra\, who supply the competition pools for the FINA world championships. \nThe Gym\nWe know that a well equipped gym is essential for a successful training camp\, so we have an on-site gym fully equipped and dedicated to swimming. We also have two large areas suitable for land work\, and plenty of space around the pool for stretching. Our state of the art facilities at The BEST Centre attract individuals and teams from across the world. More specifically\, we have welcomed 1000s of different swimming\, water polo\, triathlon and synchronised swimming teams from 38 countries worldwide. The combination of our facilities and the peacefulness of Colònia make for the perfect training camp – good enough for the very BEST! \nWHAT TO EXPECT\n“Our goal for each athlete is to have fun\, learn\, meet new friends\, and take a great attitude about their sport back to his or her home club.” \nWHAT’S INCLUDED\nThe swim holiday will be run by British Olympic swimmers and former British record holders as well as ASA qualified coaches. The holiday will comprise of 9 x 2 hour swimming sessions for 7 day holidays and 13 x 2 hour swim sessions for the 10 day holiday\, accompanied by dry land and stretching exercises. \nThe focus will be on:\n» Technique work.\n» Kicking.\n» Starts and turns.\n» Breakouts.\n» And having the most fun you can possibly have in a week of swimming. \nWhen the children are training\, parents are free to do their own thing and explore some of the beautiful sights of the island\, or sit in the sun and watch your children train. Parents will also have the opportunity to use the pool and the gym\, free of charge whilst the kids train! \nAlthough this is a swim holiday\, we offer so much more! As you can see on the itineraries\, outside of training we have a fun-filled schedule with lots of fun activities\, along with plenty of free time to relax as a family. \nWHAT TO BRING\nAll swimmers will need to bring fins and snorkel. Either bring your own if you have it\, or please order your kit from us and it will be waiting for you on your arrival. We recommend and sell Finis Zoomers or Z2\, and Finis snorkels. We have plenty of kick boards and pull buoys so there is no need to bring them. Bring your goggles (we have a range of mirrored and tinted goggles for sale at the pool)\, swimsuits\, caps and plenty of waterproof\, high protection sunscreen at FACTOR 50. \nDATES\n» May 25th – June 1st .. 7 days.\n» July 2nd – 9th .. 7 days.\n» July 9th – 19th .. 10 days.\n» July 19th – 26th .. 7 days.\n» July 26th – August 2nd .. 7 days.\n» August 3rd – 10th .. 7 days.\n» August 10th – 20th .. 10 days.\n» August 20th – 30th .. 10 days. \nADDITIONAL INFORMATION \nDISCOUNTS: If you are a family of 5 or more people\, the first four people pay the usual price\, and each person after that receives a 5% discount off the lowest priced person in the family\, i.e. a family of 5 will receive a 5 percent discount off a non swimming child or an adult. (Note: A non swimming child is aged 16 or under). \n1-2-1s: During the holiday we can organise 1-2-1 sessions of 30 or 60 minutes with individual swimmers. As time is very limited during the week\, it is best to book these in advance to avoid disappointment. Please note we do not offer 1:2:1 sessions on the arrival or departure days of our holiday dates. Cost for 30 minute session is 35 euros and 60 minutes is 50 euros. Exact times of 1-2-1s will be confirmed upon arrival. Please email Lauren (lauren@bestswimcentre.eu) to book a 1-2-1. \nCANCELLATIONS: Any cancellations up to March 6th 2019 will incur a 30 percent loss of deposit. Cancellations after April 6th 2019 will incur a 100 percent loss of deposit. \nADDITIONAL HOLIDAYS: If you book two or more holidays you will receive a 5 percent discount on the cost of your second holiday. \nINSURANCE: All participants will need to book their own insurance and show proof of insurance prior to the holiday start date. \nFor more info\, kindly view/download the PDF here
URL:https://raceconnections.com/event/family-swim-holiday-mallorca-2019/
LOCATION:BEST Centre\, Carrer Roada\, 35 -\, Colònia de Sant Jordi.\, Mallorca\, 07638\, Spain
CATEGORIES:Children (up to 12),Swimming
ATTACH;FMTTYPE=image/jpeg:https://raceconnections.com/wp-content/uploads/2019/02/The-Family-Swim-Holiday-Mallorca-2019-Race-Connections.jpg
ORGANIZER;CN="Best Swim":MAILTO:info@bestswimsentre.com
GEO:39.3217833;2.9925551
X-APPLE-STRUCTURED-LOCATION;VALUE=URI;X-ADDRESS=BEST Centre Carrer Roada 35 - Colònia de Sant Jordi. Mallorca 07638 Spain;X-APPLE-RADIUS=500;X-TITLE=Carrer Roada\, 35 -:geo:2.9925551,39.3217833
END:VEVENT
BEGIN:VEVENT
DTSTART;TZID=Europe/London:20190621T080000
DTEND;TZID=Europe/London:20190714T170000
DTSTAMP:20260424T145900
CREATED:20190621T075438Z
LAST-MODIFIED:20190715T193927Z
UID:10004929-1561104000-1563123600@raceconnections.com
SUMMARY:Milo Learn To Swim Program 2019
DESCRIPTION:Milo known for its delicious goodness have known to support young athletes in building their fitness and active nature. \n \nMilo has now come up with Milo Learn to Swim Program\, catered for kids to learn swimming at a young age. \nCOURSES OFFERED: \nTadpole\nBasic\nIntermediate\nAdvanced\nCompetitive \nTIME \n8:00 to 9:00 a.m.\n9:00 to 10:00 a.m.10:00 to 11:00 a.m. \n2:00 to 3:00 p.m.\n3:00 to 4:00 p.m.\n4:00 to 5:00 p.m. \nCOURSE FEE \nPhp 6\,000.00 \n10% OFF for the first 50 students/enrollees with FREE MILO STRING BAG & SWIMMING CAP \nLIMITED Slot only on a First come first serve basis. \nENROLL NOW!!! \nMilo Learn To Swim Program 2019 @ World Trade Exchange Binondo Manila. \nFor more inquiry pls call\nSMART: 0908-977-5023\nGLOBE: 0915-590-0580 \n 
URL:https://raceconnections.com/event/milo-learn-to-swim-program-2019/
LOCATION:Chateau Elysee\, Doña Soledad St\, Bicutan Parañaque\, Manila\, Philippines
CATEGORIES:Children (up to 12),Swimming
ATTACH;FMTTYPE=image/jpeg:https://raceconnections.com/wp-content/uploads/2019/06/53761267_2084301861657477_1797704397631782912_n.jpg
GEO:14.486973;121.043361
X-APPLE-STRUCTURED-LOCATION;VALUE=URI;X-ADDRESS=Chateau Elysee Doña Soledad St Bicutan Parañaque Manila Philippines;X-APPLE-RADIUS=500;X-TITLE=Doña Soledad St\, Bicutan Parañaque:geo:121.043361,14.486973
END:VEVENT
BEGIN:VEVENT
DTSTART;TZID=Asia/Kuala_Lumpur:20190709T074500
DTEND;TZID=Asia/Kuala_Lumpur:20190709T100000
DTSTAMP:20260424T145900
CREATED:20190708T042625Z
LAST-MODIFIED:20190708T042625Z
UID:10004948-1562658300-1562666400@raceconnections.com
SUMMARY:Indoor Triathlon Swim Session - Ipoh Malaysia
DESCRIPTION:This session will be conducted by Coach Dean Radcliffe and Assistant Coach Sandeep Kumar. The cost to attend this Triathlon Swim Session is RM15.00 . Whats App Sundeep Kumar 019 559 2620 for more Details.
URL:https://raceconnections.com/event/indoor-triathlon-swim-session-ipoh-malaysia/
LOCATION:Swimming Pool Complex Ipoh City Council\, 14\, Jalan Ghazali Jawi\, Taman Ipoh\, Ipoh\, Perak\, 31400\, Malaysia
CATEGORIES:Swimming
ATTACH;FMTTYPE=image/jpeg:https://raceconnections.com/wp-content/uploads/2019/07/Perak-Triathlon-Members-Swimming-Pool.jpg
ORGANIZER;CN="Perak Triathlon Association":MAILTO:PERAKTRIATHLON@GMAIL.COM
GEO:4.609635;101.0997692
X-APPLE-STRUCTURED-LOCATION;VALUE=URI;X-ADDRESS=Swimming Pool Complex Ipoh City Council 14 Jalan Ghazali Jawi Taman Ipoh Ipoh Perak 31400 Malaysia;X-APPLE-RADIUS=500;X-TITLE=14\, Jalan Ghazali Jawi\, Taman Ipoh:geo:101.0997692,4.609635
END:VEVENT
BEGIN:VEVENT
DTSTART;TZID=Europe/London:20190710T173000
DTEND;TZID=Europe/London:20190710T193000
DTSTAMP:20260424T145900
CREATED:20190624T070741Z
LAST-MODIFIED:20190624T070741Z
UID:10004931-1562779800-1562787000@raceconnections.com
SUMMARY:Lost Lake Mountain Bike Race (Adults Only)
DESCRIPTION:Join us for one of the most scenic and forested races in the East West Destination Mountain Bike Race Series presented by Bloch & Chapleau Attorneys at Law and Anthem Blue Cross and Blue Shield. \nThis adults-only race will start at 5:30 p.m. on Red Sandstone Road in Vail and end at the Lost Lake trailhead (west side). \nThe series will continue through August\, with over 1\,750 riders of all ages and ability levels competing for a total of $5\,200 in cash and $30\,000 in prizes. \nIndividual race costs are $26 for preregistration or $37 on race day. Registration for the whole series costs $170 for adults. Registration is available online and preregistration for individual races ends at 5 p.m. the Tuesday before each race. Day-of registration will end at 6 p.m. on race day for the Lost Lake race. To register\, visit www.vailrec.com/register. \nFor details and a full race day schedule\, visit www.vailrec.com. For questions or more information\, call 970-479-2280 or email sports@vailrec.com.s
URL:https://raceconnections.com/event/lost-lake-mountain-bike-race-adults-only/
LOCATION:Vail\, Colorado\, Colorado\, United States
CATEGORIES:Cycling
ATTACH;FMTTYPE=image/jpeg:https://raceconnections.com/wp-content/uploads/2019/06/Vail-Lost-Lake.jpg
GEO:39.5500507;-105.7820674
END:VEVENT
BEGIN:VEVENT
DTSTART;VALUE=DATE:20190713
DTEND;VALUE=DATE:20190714
DTSTAMP:20260424T145900
CREATED:20190327T044641Z
LAST-MODIFIED:20190327T044855Z
UID:10004865-1562976000-1563062399@raceconnections.com
SUMMARY:Cohasset Junior Triathlon
DESCRIPTION:Welcome to the Cohasset Junior Triathlon presented by Goldfish Swim School of the South Shore! \nWe are thrilled to stage a fun and safe triathlon event for kids ages 6 – 14 years of age. With the coordination of the Cohasset Swim Center\, the South Shore Music Circus\, the Cohasset Public Schools\, and the Cohasset Board of Selectman this will be a sensational opportunity for your kids to get involved in a healthy and active sport. All of the participants in this event will be a winner! \n  \nCourse\nWe believe we have designed a perfect course to introduce our young athletes into the sport of triathlon. \nNothing is more important than the safety of every participant. We will work very hard to ensure all of our young participants are safe and having a great time. Unless there is an emergency\, there will be no cars on the course while the athletes are racing. Race volunteers and safety personnel will be positioned throughout the course. Athletes understand to take special precaution on the bike course and run course in particular when cross the railroad track on Sohier Street. \nTriathlon Distances: \n8 & Unders – 50 yards swim (2 lengths)\, 1 mile bike\, .75 mile run \n9 – 11 Age category – 75 yards swim (3 lengths)\, 1 mile bike\, .75 mile run \n12 – 14 Age category – 150 yards swim (6 lengths)\, 1 mile bike\, .75 mile run \nSplash and Dash Distances: \n8 & Unders – 75 yards swim (3 lengths)\, .75 mile run \n9 – 11 Age category – 100 yards swim (4 lengths)\, .75 mile run \n12 – 14 Age category – 150 yards swim (6 lengths)\, .75 mile run \n \n  \n 
URL:https://raceconnections.com/event/cohasset-junior-triathlon/
LOCATION:Cohasset\, Cohasset Swim Center\, Boston\, MA\, United States
CATEGORIES:Children (up to 12),Junior (13-19),Triathlon
ATTACH;FMTTYPE=image/jpeg:https://raceconnections.com/wp-content/uploads/2019/03/Junior-Triathlethes-USA.jpg
GEO:42.2432813;-70.8118167
X-APPLE-STRUCTURED-LOCATION;VALUE=URI;X-ADDRESS=Cohasset Cohasset Swim Center Boston MA United States;X-APPLE-RADIUS=500;X-TITLE=Cohasset Swim Center:geo:-70.8118167,42.2432813
END:VEVENT
BEGIN:VEVENT
DTSTART;VALUE=DATE:20190713
DTEND;VALUE=DATE:20190715
DTSTAMP:20260424T145900
CREATED:20190513T103812Z
LAST-MODIFIED:20190513T103812Z
UID:10004883-1562976000-1563148799@raceconnections.com
SUMMARY:Putrajaya Aquathlon 2019
DESCRIPTION:The Everly Putrajaya TRIFACTOR International Triathlon 2019 and The Fast & Furious Triathlon !\nPrice: RM20.00 – RM390.00 \n  \n \n  \n \n  \nFast & Furious Teams\nGather your forces\, form your alliances. The Fast & Furious will be your fastest Triathlon #RaceLikeNoOther ever. No illegal street racing\, heists and espionage\, just pure rush of legal adrenaline\, hell-bent pace & will power. May the best team win! \nHurry! Register here: https://race.my/events/the-everly-putrajaya-trifactor-international-triathlon-2019 \nLimited to only 30 teams!
URL:https://raceconnections.com/event/putrajaya-aquathlon-2019/
LOCATION:Kompleks Sukan Air\, Presint 6\, Putrajaya\, Presint 6\, Putrajaya\, Malaysia
CATEGORIES:Aquathlon,Marathon,Running
ATTACH;FMTTYPE=image/jpeg:https://raceconnections.com/wp-content/uploads/2019/05/59814429_2314354575479095_6710629479351320576_o.jpg
ORGANIZER;CN="Team M3X":MAILTO:m3xtriathlon@gmail.com
GEO:2.90028;101.6663281
X-APPLE-STRUCTURED-LOCATION;VALUE=URI;X-ADDRESS=Kompleks Sukan Air Presint 6 Putrajaya Presint 6 Putrajaya Malaysia;X-APPLE-RADIUS=500;X-TITLE=Presint 6:geo:101.6663281,2.90028
END:VEVENT
BEGIN:VEVENT
DTSTART;VALUE=DATE:20190714
DTEND;VALUE=DATE:20190715
DTSTAMP:20260424T145900
CREATED:20190711T040714Z
LAST-MODIFIED:20190711T040714Z
UID:10004952-1563062400-1563148799@raceconnections.com
SUMMARY:RunWild at Chamang Falls
DESCRIPTION:Time:\n06:00 am\n\n\nLocation:\nPahang\, Malaysia\n\n\nCategories:\n13 km\n\n\n\n10km Multi Terrain run passing through amazing scenery including 3 magnificent waterfalls.\nRunWild in Chamang is a key event held in conjunction with the Bentong Goes Wild Festival over the weekend of 12-14 July 2019. \nThis is Event 2 of 4 in the TrailMaster Series which also hosts the 888 and AaGA championships with the winners decided based on their performance over the 4 TrailMaster Events\nThe run is suitable for elite trail runners and runners transitioning from road to trail. \nRunWild is a boutique organiser of authentic trail runs that has a great record of creating high levels of runner enjoyment and safety. \nRegister at https://wejust.run/RunWildChamang
URL:https://raceconnections.com/event/runwild-at-chamang-falls/
LOCATION:Air Terjun Chamang (Chamang Waterfall)\, Bukit bentong\,\, Bentong\, Pahang\, Malaysia
CATEGORIES:Running,Trail Running
ATTACH;FMTTYPE=image/jpeg:https://raceconnections.com/wp-content/uploads/2019/07/59542958_2276636625760701_3664025905749032960_o.jpg
GEO:3.5106613;101.920538
X-APPLE-STRUCTURED-LOCATION;VALUE=URI;X-ADDRESS=Air Terjun Chamang (Chamang Waterfall) Bukit bentong Bentong Pahang Malaysia;X-APPLE-RADIUS=500;X-TITLE=Bukit bentong\,:geo:101.920538,3.5106613
END:VEVENT
BEGIN:VEVENT
DTSTART;TZID=Europe/London:20190714T100000
DTEND;TZID=Europe/London:20190714T150000
DTSTAMP:20260424T145900
CREATED:20190614T102442Z
LAST-MODIFIED:20190614T121333Z
UID:10004921-1563098400-1563116400@raceconnections.com
SUMMARY:Summer of Cycling Festival
DESCRIPTION:Free festival with live entertainment\, a pedal powered cinema and smoothie maker\, kids’ activities\, face painting\, BMX and balance bikes\, a giant inflatable obstacle course\, Rollapaluza and a picnic area. Plus\, fun\, family-friendly led rides departing every hour. All abilities welcome. \n 
URL:https://raceconnections.com/event/summer-of-cycling-festival-2/
LOCATION:Pitshanger Park\, Ealing\, W5 1NS\, United Kingdom
CATEGORIES:Children (up to 12),Cycling,Junior (13-19)
ATTACH;FMTTYPE=image/jpeg:https://raceconnections.com/wp-content/uploads/2019/06/Summer-of-cycling-original-pic-landscape.jpg
GEO:55.378051;-3.435973
END:VEVENT
END:VCALENDAR