BEGIN:VCALENDAR
VERSION:2.0
PRODID:-//Race CONNECTIONS - ECPv6.15.20//NONSGML v1.0//EN
CALSCALE:GREGORIAN
METHOD:PUBLISH
X-ORIGINAL-URL:https://raceconnections.com
X-WR-CALDESC:Events for Race CONNECTIONS
REFRESH-INTERVAL;VALUE=DURATION:PT1H
X-Robots-Tag:noindex
X-PUBLISHED-TTL:PT1H
BEGIN:VTIMEZONE
TZID:Europe/London
BEGIN:DAYLIGHT
TZOFFSETFROM:+0000
TZOFFSETTO:+0100
TZNAME:BST
DTSTART:20190331T010000
END:DAYLIGHT
BEGIN:STANDARD
TZOFFSETFROM:+0100
TZOFFSETTO:+0000
TZNAME:GMT
DTSTART:20191027T010000
END:STANDARD
BEGIN:DAYLIGHT
TZOFFSETFROM:+0000
TZOFFSETTO:+0100
TZNAME:BST
DTSTART:20200329T010000
END:DAYLIGHT
BEGIN:STANDARD
TZOFFSETFROM:+0100
TZOFFSETTO:+0000
TZNAME:GMT
DTSTART:20201025T010000
END:STANDARD
BEGIN:DAYLIGHT
TZOFFSETFROM:+0000
TZOFFSETTO:+0100
TZNAME:BST
DTSTART:20210328T010000
END:DAYLIGHT
BEGIN:STANDARD
TZOFFSETFROM:+0100
TZOFFSETTO:+0000
TZNAME:GMT
DTSTART:20211031T010000
END:STANDARD
END:VTIMEZONE
BEGIN:VTIMEZONE
TZID:America/Los_Angeles
BEGIN:DAYLIGHT
TZOFFSETFROM:-0800
TZOFFSETTO:-0700
TZNAME:PDT
DTSTART:20190310T100000
END:DAYLIGHT
BEGIN:STANDARD
TZOFFSETFROM:-0700
TZOFFSETTO:-0800
TZNAME:PST
DTSTART:20191103T090000
END:STANDARD
BEGIN:DAYLIGHT
TZOFFSETFROM:-0800
TZOFFSETTO:-0700
TZNAME:PDT
DTSTART:20200308T100000
END:DAYLIGHT
BEGIN:STANDARD
TZOFFSETFROM:-0700
TZOFFSETTO:-0800
TZNAME:PST
DTSTART:20201101T090000
END:STANDARD
BEGIN:DAYLIGHT
TZOFFSETFROM:-0800
TZOFFSETTO:-0700
TZNAME:PDT
DTSTART:20210314T100000
END:DAYLIGHT
BEGIN:STANDARD
TZOFFSETFROM:-0700
TZOFFSETTO:-0800
TZNAME:PST
DTSTART:20211107T090000
END:STANDARD
END:VTIMEZONE
BEGIN:VTIMEZONE
TZID:Europe/Madrid
BEGIN:DAYLIGHT
TZOFFSETFROM:+0100
TZOFFSETTO:+0200
TZNAME:CEST
DTSTART:20190331T010000
END:DAYLIGHT
BEGIN:STANDARD
TZOFFSETFROM:+0200
TZOFFSETTO:+0100
TZNAME:CET
DTSTART:20191027T010000
END:STANDARD
BEGIN:DAYLIGHT
TZOFFSETFROM:+0100
TZOFFSETTO:+0200
TZNAME:CEST
DTSTART:20200329T010000
END:DAYLIGHT
BEGIN:STANDARD
TZOFFSETFROM:+0200
TZOFFSETTO:+0100
TZNAME:CET
DTSTART:20201025T010000
END:STANDARD
BEGIN:DAYLIGHT
TZOFFSETFROM:+0100
TZOFFSETTO:+0200
TZNAME:CEST
DTSTART:20210328T010000
END:DAYLIGHT
BEGIN:STANDARD
TZOFFSETFROM:+0200
TZOFFSETTO:+0100
TZNAME:CET
DTSTART:20211031T010000
END:STANDARD
END:VTIMEZONE
BEGIN:VEVENT
DTSTART;TZID=Europe/London:20201001T080000
DTEND;TZID=Europe/London:20201101T000000
DTSTAMP:20260421T214438
CREATED:20201008T075020Z
LAST-MODIFIED:20201008T075020Z
UID:10005386-1601539200-1604188800@raceconnections.com
SUMMARY:Through the Seasons October Virtual Run Challenge
DESCRIPTION:Join our October Through the Seasons Run Challenge! This month is about staying focused and trying to achieve at least two runs a week. Add as many distance options as you like when entering and every time you complete one of those distances add your time within your profile and see how far you can run. \nPart of the inspiration and motivation is the option to buy each month’s medal and these can be connected together like a jigsaw as you can see in the visual. \nThrough the Seasons Runners Receive\n\nOnline profile where you upload your run time along with regular updates\nView your challenge stats\, view our leaderboard and our overall country running stats\nPartner offers and benefits\nMotivational training advice\, videos and more\nOffers and discounts to future Fix Events\n\nMake sure to order the October part of this medal when registering to our October challenge. If you haven’t ordered the other months medals you can do so as well\, just add to your order!
URL:https://raceconnections.com/event/through-the-seasons-october-virtual-run-challenge/
LOCATION:Virtual Run
CATEGORIES:10K Run,5K Run,Children (up to 12),Half Marathon,Junior (13-19),Running
ATTACH;FMTTYPE=image/png:https://raceconnections.com/wp-content/uploads/2020/10/Seasons-2020.png
ORGANIZER;CN="The Fix Events":MAILTO:info@thefixevents.com
END:VEVENT
BEGIN:VEVENT
DTSTART;TZID=Europe/London:20201003T080000
DTEND;TZID=Europe/London:20201010T170000
DTSTAMP:20260421T214438
CREATED:20200611T122038Z
LAST-MODIFIED:20200612T040932Z
UID:10005354-1601712000-1602349200@raceconnections.com
SUMMARY:Ultra X Jordan
DESCRIPTION:Ultra X Jordan (previously the Wadi Rum Ultra) takes place in the land of Lawrence of Arabia. The mystical desert course takes competitors past historic sites\, into dramatic wadis and over magnificent sand dunes. \nWadi Rum’s nickname is “The Valley of the Moon” and participants will quickly see why. Its landscape\, characterised by unique towering rock formations\, is truly mind-blowing\, as is the challenge. As locations go\, this place is unrivalled in its beauty.
URL:https://raceconnections.com/event/ultra-x-jordan/
CATEGORIES:Running,Trail Running,Ultra Marathon
ATTACH;FMTTYPE=image/jpeg:https://raceconnections.com/wp-content/uploads/2020/06/Jordan-10.jpg
ORGANIZER;CN="Ultra X":MAILTO:contact@ultra-x.co
END:VEVENT
BEGIN:VEVENT
DTSTART;VALUE=DATE:20201010
DTEND;VALUE=DATE:20201012
DTSTAMP:20260421T214438
CREATED:20200412T125105Z
LAST-MODIFIED:20200412T131711Z
UID:10005339-1602288000-1602460799@raceconnections.com
SUMMARY:Monterey Bay Triathlon
DESCRIPTION:Rated as one of the most attractive backdrops on the triathlon calendar\, the Monterey Bay Triathlon is a must for anyone looking for their next challenge. The event offers relay\, aqua bike\, duathlon and traditional triathlon disciplines so there is something here for everyone.
URL:https://raceconnections.com/event/monterey-bay-triathlon/
LOCATION:631 Ocean View Blvd\, 631 Ocean View Blvd.\, Pacific Grove\, San Jose\, CA\, CA 93950\, United States
CATEGORIES:Aquabike,Aquathlon,Children (up to 12),Duathlon,Junior (13-19),Triathlon
GEO:36.6261633;-121.9172137
X-APPLE-STRUCTURED-LOCATION;VALUE=URI;X-ADDRESS=631 Ocean View Blvd 631 Ocean View Blvd. Pacific Grove San Jose CA CA 93950 United States;X-APPLE-RADIUS=500;X-TITLE=631 Ocean View Blvd.\, Pacific Grove:geo:-121.9172137,36.6261633
END:VEVENT
BEGIN:VEVENT
DTSTART;VALUE=DATE:20201010
DTEND;VALUE=DATE:20201012
DTSTAMP:20260421T214438
CREATED:20200822T124527Z
LAST-MODIFIED:20200822T124527Z
UID:10005373-1602288000-1602460799@raceconnections.com
SUMMARY:Spartan Race – Windsor
DESCRIPTION:Take on the final event of the Spartan Season. Great for competitors of all stripes\, this course will feature the most popular obstacles from this year’s events. Come for the obstacle fuelled fun or for the party atmosphere.
URL:https://raceconnections.com/event/spartan-race-windsor/
LOCATION:Rapley Farm Cottages\, Rapley Farm Cottages\, Bracknell Rd\, Winkfield Row\, Bagshot GU19 5PN\, UK\, Windsor\, ‎South East England\, GU19 5PN\, United Kingdom
CATEGORIES:5K Run,Half Marathon,Obstacle Run,Trail Running
ATTACH;FMTTYPE=image/jpeg:https://raceconnections.com/wp-content/uploads/2020/08/Spartan-Race-Windosr.jpg
ORGANIZER;CN="Spartan Race UK & Ireland":MAILTO:cs@uk.spartan.com
GEO:51.3769819;-0.7146386
X-APPLE-STRUCTURED-LOCATION;VALUE=URI;X-ADDRESS=Rapley Farm Cottages Rapley Farm Cottages Bracknell Rd Winkfield Row Bagshot GU19 5PN UK Windsor ‎South East England GU19 5PN United Kingdom;X-APPLE-RADIUS=500;X-TITLE=Rapley Farm Cottages\, Bracknell Rd\, Winkfield Row\, Bagshot GU19 5PN\, UK:geo:-0.7146386,51.3769819
END:VEVENT
BEGIN:VEVENT
DTSTART;TZID=Europe/Madrid:20201010T090000
DTEND;TZID=Europe/Madrid:20201010T103000
DTSTAMP:20260421T214438
CREATED:20191219T034608Z
LAST-MODIFIED:20191219T034608Z
UID:10005204-1602320400-1602325800@raceconnections.com
SUMMARY:Barcelona Must See Run
DESCRIPTION:Discover Barcelona\, running down along Las Ramblas\, the sea\, through the old town\, see the ancient “agora” with the city hall and autonomic government\, run next to the Gaudí’s and other modernist buildings… and all this running with high probabilities to enjoy the sunrise on the Mediterranean sea.
URL:https://raceconnections.com/event/barcelona-must-see-run/2020-10-10/
LOCATION:cafe zurich\, placa de catalunya\, Placa de Catalunya 1\, Barcelona\, Spain
CATEGORIES:Running
ATTACH;FMTTYPE=image/jpeg:https://raceconnections.com/wp-content/uploads/2019/12/MUST_SEE_11KM_960x640-2.jpg
ORGANIZER;CN="Go! Running Tours":MAILTO:michael@gorunningtours.com
GEO:41.3860606;2.169149
X-APPLE-STRUCTURED-LOCATION;VALUE=URI;X-ADDRESS=cafe zurich placa de catalunya Placa de Catalunya 1 Barcelona Spain;X-APPLE-RADIUS=500;X-TITLE=Placa de Catalunya 1:geo:2.169149,41.3860606
END:VEVENT
BEGIN:VEVENT
DTSTART;TZID=Europe/London:20201010T090000
DTEND;TZID=Europe/London:20201010T150000
DTSTAMP:20260421T214438
CREATED:20200331T101614Z
LAST-MODIFIED:20200331T101738Z
UID:10005333-1602320400-1602342000@raceconnections.com
SUMMARY:RBC Race for the Kids 2020
DESCRIPTION:Looking for a fun family day out\, where children go free\, at an iconic London location? A day out where thousands of people\, like you\, fundraise to help build a better future for seriously ill children at Great Ormond Street Hospital (GOSH)? \nRBC Race for the Kids is a 5K family fun run and the biggest mass participation event fundraising for Great Ormond Street Hospital Children’s Charity (GOSH Charity)\, now in its 11th year. Last year\, a record 10\,000 amazing people ran for GOSH Charity\, raising an incredible £1million and we want to achieve this all again in 2020\, with your help! \nAll the money you raise allows GOSH Charity to help build a better future for the more than 600 seriously ill children who arrive at GOSH from across the UK every day. With your help\, we can fund pioneering research\, vital rebuilding and refurbishment of hospital wards and buildings\, support services for patients\, families and staff\, and advanced medical equipment. Join other superstar fundraisers for one of the biggest 5K fun runs in London this October.
URL:https://raceconnections.com/event/rbc-race-for-the-kids-2020/
LOCATION:Hyde Park\, London\, United Kingdom
CATEGORIES:5K Run,Running
ATTACH;FMTTYPE=image/jpeg:https://raceconnections.com/wp-content/uploads/2020/03/race-event-listing.jpg
GEO:51.5073509;-0.1277583
END:VEVENT
BEGIN:VEVENT
DTSTART;VALUE=DATE:20201011
DTEND;VALUE=DATE:20201012
DTSTAMP:20260421T214438
CREATED:20200810T102548Z
LAST-MODIFIED:20200810T102643Z
UID:10005369-1602374400-1602460799@raceconnections.com
SUMMARY:Osprey Sprint Triathlon
DESCRIPTION:The Osprey Sprint “Spring Race” is set to put good use to those winter months of training before the first open water swim events. \nThis is a perfect event for newcomers to the sport of triathlon and a fantastic start to the season for the more experienced athlete. The facilities at the Osprey Centre are perfect for a pool based triathlon with secure racking for the bikes\, chip timing by FullOnSport\, a beautiful and scenic bike ride and a fantastic flat off-road coastal run. \nThe Legacy cafe will be open during the event for spectators and competitors alike. \nPlease make sure you input your estimated swim time as accurately as possible when going through the online entry system as this will decide your swim group start time. This race will be chip timed so there will be NO wave starts. Each competitor will start 10 seconds after each other in one continual wave in the pool. \nAll information will be emailed out to you\, everything you need will be given to you at registration. \nWhether this is your first triathlon or you are a seasoned athlete this will definitely be a fantastic start of season race. \nEach competitor will receive a custom race medal and one of our customs made buffs too.
URL:https://raceconnections.com/event/osprey-sprint-triathlon/
LOCATION:25 Castletown\, 25 Castletown\, Portland DT5 1BD\, Uk\, Portland\, Weymouth\, DT5 1BD\, United Kingdom
CATEGORIES:Triathlon
ATTACH;FMTTYPE=image/jpeg:https://raceconnections.com/wp-content/uploads/2020/08/Osprey-Sprint-Triathlon.jpeg
ORGANIZER;CN="BustinSkin Events":MAILTO:info@bustinskin.com
GEO:50.5678662;-2.4446445
X-APPLE-STRUCTURED-LOCATION;VALUE=URI;X-ADDRESS=25 Castletown 25 Castletown Portland DT5 1BD Uk Portland Weymouth DT5 1BD United Kingdom;X-APPLE-RADIUS=500;X-TITLE=25 Castletown\, Portland DT5 1BD\, Uk:geo:-2.4446445,50.5678662
END:VEVENT
END:VCALENDAR