BEGIN:VCALENDAR
VERSION:2.0
PRODID:-//Race CONNECTIONS - ECPv6.15.20//NONSGML v1.0//EN
CALSCALE:GREGORIAN
METHOD:PUBLISH
X-ORIGINAL-URL:https://raceconnections.com
X-WR-CALDESC:Events for Race CONNECTIONS
REFRESH-INTERVAL;VALUE=DURATION:PT1H
X-Robots-Tag:noindex
X-PUBLISHED-TTL:PT1H
BEGIN:VTIMEZONE
TZID:Europe/London
BEGIN:DAYLIGHT
TZOFFSETFROM:+0000
TZOFFSETTO:+0100
TZNAME:BST
DTSTART:20190331T010000
END:DAYLIGHT
BEGIN:STANDARD
TZOFFSETFROM:+0100
TZOFFSETTO:+0000
TZNAME:GMT
DTSTART:20191027T010000
END:STANDARD
BEGIN:DAYLIGHT
TZOFFSETFROM:+0000
TZOFFSETTO:+0100
TZNAME:BST
DTSTART:20200329T010000
END:DAYLIGHT
BEGIN:STANDARD
TZOFFSETFROM:+0100
TZOFFSETTO:+0000
TZNAME:GMT
DTSTART:20201025T010000
END:STANDARD
BEGIN:DAYLIGHT
TZOFFSETFROM:+0000
TZOFFSETTO:+0100
TZNAME:BST
DTSTART:20210328T010000
END:DAYLIGHT
BEGIN:STANDARD
TZOFFSETFROM:+0100
TZOFFSETTO:+0000
TZNAME:GMT
DTSTART:20211031T010000
END:STANDARD
END:VTIMEZONE
BEGIN:VTIMEZONE
TZID:Europe/Madrid
BEGIN:DAYLIGHT
TZOFFSETFROM:+0100
TZOFFSETTO:+0200
TZNAME:CEST
DTSTART:20190331T010000
END:DAYLIGHT
BEGIN:STANDARD
TZOFFSETFROM:+0200
TZOFFSETTO:+0100
TZNAME:CET
DTSTART:20191027T010000
END:STANDARD
BEGIN:DAYLIGHT
TZOFFSETFROM:+0100
TZOFFSETTO:+0200
TZNAME:CEST
DTSTART:20200329T010000
END:DAYLIGHT
BEGIN:STANDARD
TZOFFSETFROM:+0200
TZOFFSETTO:+0100
TZNAME:CET
DTSTART:20201025T010000
END:STANDARD
BEGIN:DAYLIGHT
TZOFFSETFROM:+0100
TZOFFSETTO:+0200
TZNAME:CEST
DTSTART:20210328T010000
END:DAYLIGHT
BEGIN:STANDARD
TZOFFSETFROM:+0200
TZOFFSETTO:+0100
TZNAME:CET
DTSTART:20211031T010000
END:STANDARD
END:VTIMEZONE
BEGIN:VEVENT
DTSTART;TZID=Europe/London:20201001T080000
DTEND;TZID=Europe/London:20201101T000000
DTSTAMP:20260424T010422
CREATED:20201008T075020Z
LAST-MODIFIED:20201008T075020Z
UID:10005386-1601539200-1604188800@raceconnections.com
SUMMARY:Through the Seasons October Virtual Run Challenge
DESCRIPTION:Join our October Through the Seasons Run Challenge! This month is about staying focused and trying to achieve at least two runs a week. Add as many distance options as you like when entering and every time you complete one of those distances add your time within your profile and see how far you can run. \nPart of the inspiration and motivation is the option to buy each month’s medal and these can be connected together like a jigsaw as you can see in the visual. \nThrough the Seasons Runners Receive\n\nOnline profile where you upload your run time along with regular updates\nView your challenge stats\, view our leaderboard and our overall country running stats\nPartner offers and benefits\nMotivational training advice\, videos and more\nOffers and discounts to future Fix Events\n\nMake sure to order the October part of this medal when registering to our October challenge. If you haven’t ordered the other months medals you can do so as well\, just add to your order!
URL:https://raceconnections.com/event/through-the-seasons-october-virtual-run-challenge/
LOCATION:Virtual Run
CATEGORIES:10K Run,5K Run,Children (up to 12),Half Marathon,Junior (13-19),Running
ATTACH;FMTTYPE=image/png:https://raceconnections.com/wp-content/uploads/2020/10/Seasons-2020.png
ORGANIZER;CN="The Fix Events":MAILTO:info@thefixevents.com
END:VEVENT
BEGIN:VEVENT
DTSTART;VALUE=DATE:20201017
DTEND;VALUE=DATE:20201018
DTSTAMP:20260424T010422
CREATED:20200106T082713Z
LAST-MODIFIED:20200106T082713Z
UID:10005233-1602892800-1602979199@raceconnections.com
SUMMARY:Tough Mudder - Melbourne\, Victoria
DESCRIPTION:Get ready for the muddiest challenge ever! \nIt’s almost like it was shaped ready for a Tough Mudder\, Lardner Park provides the perfect mix of muddy flats\, lush rolling hills and thick shrub for Tough Mudder Melbourne. Guaranteed to have more Melbourne Mud then ever before\, your legs will be crying for some hard ground. \nTough Mudder’s full lineup of team-oriented obstacles guarantees that you’ll cross the finish line with more friends than you started with. Whether it’s through a helping hand or an extra vote of confidence\, your fellow Mudders will be there for you every step of the way. Whether you arrive solo or with a team\, all you need to come with is the strength to leave your fears in the parking lot and the willingness to push the boundaries your comfort zone. \n\n\n\n\n\n\n\n\n\n\n\n\n5KM DISTANCE\n13 OBSTACLES\nA HEAP OF MUDDY FUN\n\n\n\n\n\n\n\n\n\n\n\n\n\n\n\n\n\n\n\n\n\n\n16KM DISTANCE\n25 OBSTACLES\nEPIC IS AN UNDERSTATEMENT\n\n\n\n\n\n\n\n\n\n\n\n\n\n\n\n\n\n\n\n\n\n\nFIRST START WAVE\nTIMED + COMPETITIVE\nACCEPT THE CHALLENGE\n  \n \n\nTough Mudder Legion. Bigger. Better. Badder.\n\nFinishing a Tough Mudder takes your epicness to a whole new level. After completing your first Tough Mudder you’ll automatically be inducted into Tough Mudder Legion\, a community of people who Get.Shit.Done. As a Legionnaire you’re considered a leader\, and will do whatever it takes to get yourself\, and others\, to the finish line. \n[fusion_button link=”https://toughmudder.com.au/tough-mudder-whatis/&#8221; text_transform=”” title=”” target=”_self” link_attributes=”” alignment=”” modal=”” hide_on_mobile=”small-visibility\,medium-visibility\,large-visibility” class=”” id=”” s2id_autogen16=”” s2id_autogen16_search=”” color=”default” button_gradient_top_color=”” button_gradient_bottom_color=”” button_gradient_top_color_hover=”” button_gradient_bottom_color_hover=”” accent_color=”” accent_hover_color=”” type=”” bevel_color=”” border_width=”” border_radius=”” border_color=”” border_hover_color=”” size=”” stretch=”default” icon=”” icon_position=”left” icon_divider=”no” s2id_autogen17=”” s2id_autogen17_search=”” animation_type=”” animation_direction=”left” animation_speed=”0.3″ s2id_autogen18=”” s2id_autogen18_search=”” animation_offset=””]The Challenge Awaits You[/fusion_button]
URL:https://raceconnections.com/event/tough-mudder-melbourne-victoria/
LOCATION:Lardner Park\, 155 Burnt Store Road\, Lardner\,\, Victoria\, Melbourne\, 3820\, Australia
CATEGORIES:Obstacle Run,Special
ATTACH;FMTTYPE=image/jpeg:https://raceconnections.com/wp-content/uploads/2020/01/TOUGH-MUDDER.jpg
GEO:-38.2025614;145.8658152
X-APPLE-STRUCTURED-LOCATION;VALUE=URI;X-ADDRESS=Lardner Park 155 Burnt Store Road Lardner Victoria Melbourne 3820 Australia;X-APPLE-RADIUS=500;X-TITLE=155 Burnt Store Road\, Lardner\,:geo:145.8658152,-38.2025614
END:VEVENT
BEGIN:VEVENT
DTSTART;TZID=Europe/London:20201017T080000
DTEND;TZID=Europe/London:20201020T000000
DTSTAMP:20260424T010422
CREATED:20201008T074505Z
LAST-MODIFIED:20201008T074505Z
UID:10005383-1602921600-1603152000@raceconnections.com
SUMMARY:Virtual Get Back on Your Bike Cycle Challenge
DESCRIPTION:Another chance to get out on your bike! This time we have a set weekend for you to take on this challenge. Choose your distance\, start your training and on challenge day get out and smash your ride.\n \nWhen logging in to your Fix Profile you will see your challenge stats and total distance achieved as well as the leaderboard placings. \nKeep up to date with us and other cyclists and get inspired\, share your journey\, and enjoy wherever you are. Here’s to staying motivated and fit! \nYou can also use Strava to link to your Fix Profile! \nGet on Your Bike Cyclists Receive\n\nOnline profile where you upload your cycle time along with regular updates\nView your challenge stats\, view our leaderboard and our overall country stats\nPartner offers and benefits\nMotivational training advice\, videos and more\nOffers and discounts to future Fix Events\n\nIf you want to receive a Get on Your Bike medal you can add this and pay for one during the registration.
URL:https://raceconnections.com/event/virtual-get-back-on-your-bike-cycle-challenge/
LOCATION:Virtual Run
CATEGORIES:Cycling
ATTACH;FMTTYPE=image/png:https://raceconnections.com/wp-content/uploads/2020/10/Virtual_Get_Back_on_Your_Bike_Cycle_Challenge.png
ORGANIZER;CN="The Fix Events":MAILTO:info@thefixevents.com
END:VEVENT
BEGIN:VEVENT
DTSTART;TZID=Europe/Madrid:20201017T090000
DTEND;TZID=Europe/Madrid:20201017T103000
DTSTAMP:20260424T010422
CREATED:20191219T034608Z
LAST-MODIFIED:20191219T034608Z
UID:10005205-1602925200-1602930600@raceconnections.com
SUMMARY:Barcelona Must See Run
DESCRIPTION:Discover Barcelona\, running down along Las Ramblas\, the sea\, through the old town\, see the ancient “agora” with the city hall and autonomic government\, run next to the Gaudí’s and other modernist buildings… and all this running with high probabilities to enjoy the sunrise on the Mediterranean sea.
URL:https://raceconnections.com/event/barcelona-must-see-run/2020-10-17/
LOCATION:cafe zurich\, placa de catalunya\, Placa de Catalunya 1\, Barcelona\, Spain
CATEGORIES:Running
ATTACH;FMTTYPE=image/jpeg:https://raceconnections.com/wp-content/uploads/2019/12/MUST_SEE_11KM_960x640-2.jpg
ORGANIZER;CN="Go! Running Tours":MAILTO:michael@gorunningtours.com
GEO:41.3860606;2.169149
X-APPLE-STRUCTURED-LOCATION;VALUE=URI;X-ADDRESS=cafe zurich placa de catalunya Placa de Catalunya 1 Barcelona Spain;X-APPLE-RADIUS=500;X-TITLE=Placa de Catalunya 1:geo:2.169149,41.3860606
END:VEVENT
BEGIN:VEVENT
DTSTART;VALUE=DATE:20201018
DTEND;VALUE=DATE:20201019
DTSTAMP:20260424T010422
CREATED:20200401T065507Z
LAST-MODIFIED:20200401T065507Z
UID:10005334-1602979200-1603065599@raceconnections.com
SUMMARY:Great South Run
DESCRIPTION:GREAT SOUTH RUN\n\nEntries for the Great South Run on Sunday 18 October 2020 are now open at the standard entry price of £43. If  you’re ready to take on the 10 mile route\, sign up today. We’ll see you on the start line! \n\nCOVID-19 (CORONAVIRUS) UPDATE\nWe are closely monitoring the developments with COVID-19 and will continue to take the advice of the UK government around the staging of large public events. \nAt present the Great South Run is scheduled to go ahead as planned\, but we will assess over the coming weeks and update participants as a priority if anything changes. \nWe understand the commitment and dedication you make when you enter one of our events and we would not take any decision to cancel or postpone lightly. We love delivering our events and we work hard to make sure our participants can enjoy them in a safe and happy environment. \nIn the meantime we want to reassure you all that we are keeping in close contact with Public Health England. If circumstances dictate that we must cancel any of our events everyone who had entered would be entitled to a refund. \n  \n\n 
URL:https://raceconnections.com/event/great-south-run/
LOCATION:Clarence Esplanade\, Clarence Esplanade\, Southsea\, Southsea\, Portsmouth\, PO5 3PB\, United Kingdom
CATEGORIES:5K Run,Children (up to 12),Junior (13-19),Running
ATTACH;FMTTYPE=image/jpeg:https://raceconnections.com/wp-content/uploads/2020/04/Great-south-run.jpg
GEO:50.7808616;-1.093299
X-APPLE-STRUCTURED-LOCATION;VALUE=URI;X-ADDRESS=Clarence Esplanade Clarence Esplanade Southsea Southsea Portsmouth PO5 3PB United Kingdom;X-APPLE-RADIUS=500;X-TITLE=Clarence Esplanade\, Southsea:geo:-1.093299,50.7808616
END:VEVENT
END:VCALENDAR