BEGIN:VCALENDAR
VERSION:2.0
PRODID:-//Race CONNECTIONS - ECPv6.15.20//NONSGML v1.0//EN
CALSCALE:GREGORIAN
METHOD:PUBLISH
X-ORIGINAL-URL:https://raceconnections.com
X-WR-CALDESC:Events for Race CONNECTIONS
REFRESH-INTERVAL;VALUE=DURATION:PT1H
X-Robots-Tag:noindex
X-PUBLISHED-TTL:PT1H
BEGIN:VTIMEZONE
TZID:Europe/London
BEGIN:DAYLIGHT
TZOFFSETFROM:+0000
TZOFFSETTO:+0100
TZNAME:BST
DTSTART:20170326T010000
END:DAYLIGHT
BEGIN:STANDARD
TZOFFSETFROM:+0100
TZOFFSETTO:+0000
TZNAME:GMT
DTSTART:20171029T010000
END:STANDARD
BEGIN:DAYLIGHT
TZOFFSETFROM:+0000
TZOFFSETTO:+0100
TZNAME:BST
DTSTART:20180325T010000
END:DAYLIGHT
BEGIN:STANDARD
TZOFFSETFROM:+0100
TZOFFSETTO:+0000
TZNAME:GMT
DTSTART:20181028T010000
END:STANDARD
BEGIN:DAYLIGHT
TZOFFSETFROM:+0000
TZOFFSETTO:+0100
TZNAME:BST
DTSTART:20190331T010000
END:DAYLIGHT
BEGIN:STANDARD
TZOFFSETFROM:+0100
TZOFFSETTO:+0000
TZNAME:GMT
DTSTART:20191027T010000
END:STANDARD
END:VTIMEZONE
BEGIN:VEVENT
DTSTART;TZID=Europe/London:20180814T080000
DTEND;TZID=Europe/London:20180814T170000
DTSTAMP:20260419T191225
CREATED:20180814T045618Z
LAST-MODIFIED:20180814T045618Z
UID:10004742-1534233600-1534266000@raceconnections.com
SUMMARY:Mallorca 312 Cycling Event 2019
DESCRIPTION:Cycling Event 2019\n2019 sees the 10th edition of this fast growing early-season sportive. Three distances allow you to chose your early season goal and its all held on closed roads! Experience for yourself the stunning coastal views and rolling countryside of this cycling mecca. \nCome just for the sportive or enter the event as part of a longer trip with us. Our hotels are right at the starting line in Playa de Muro staying at the bike friendly 3* Hotel Ses Fotges. We include airport transfers from Palma (PMI) and secure bike storage. You also get a rider picnic for any pre-event training rides you fancy on Thusday or Friday. \nOne of last year’s clients told us: “This is what bikes are made for. This weather\, these roads\, these landscapes” The Mallorca 312 challenges you because of its profile and length. However this epic sportive is characterized by a relaxed and friendly atmosphere. \nWe encourage clients to discover one of the most spectacular islands of the Mediterranean\, which has become the epicentre of European cycle tourism in recent years. Its landscapes\, its climate and its smooth roads are without doubt\,  three of the main reasons for this. \nThe Mallorca 312 is international but also a bit Mediterranean. Professionally organized and open to everyone. Enjoy pure cycling from the sunrise till the sunset! \nWelcome to the Mallorca 312! \nTaking your bike abroad ? We are delighted to announce that we have partnered with http://www.sherpr.com to ensure that when you take your bike on one of our trips\, or any trip for that matter\, it arrives safely and is ready to race.  \nGet 10% off your first order using the discount code ATR10. \nPACKAGE INCLUDES\n-Arrive Wed 24th or Thur 25th April (LONGER STAY PACKAGES AVAILABLE)\n-Three or Four nights\, dinner\, bed & breakfast staying in Playa de Muro\n-Return airport transfer (Palma)\n-Guaranteed Mallorca 312 entry (We pick up for you)\n-Bike storage & daily guided ride & picnic available \nBOOKING INFORMATION\n– 20% booking deposit required in order to reserve your space.\n– Please be aware that we are limited in numbers for this event.\n– Non-cycling partners are welcome – please enquire and we can provide a bespoke package for them. \nLOCAL INFORMATION\nThe 10th Edition of the will take place on April 28 2019 with three routes of 167\, 225 and 312 kilometres. Completely closed to traffic\, the event is limited to 8\,000 participants. \nKeeping things flexible\, cyclists can choose the distance they wish to ride upon the day of the event. \nStaying in Playa de Muro is ideal for the event itself and the beach is on your doorstep. It is also a short ride out to the hills for your warm up rides before the big day. Mallorca has stunning cycling routes. You will enjoy the Tramuntana mountain range to the west\, sleepy villages and smooth and silky roads across the island. \nThe route doesn’t have ridiculous climbs that would need special gearing. \nWith a 7 am start\, arm warmers / gilets might be needed. It is advisable to bring a rain jacket just in case the forecast on race day indicates some showers. \nTRAVEL ADVICE\nPalma (PMI) is the nearest airport and airport transfers are included to & from the hotel. Travel time is around 1 hour to Playa de Muro which is where the Mallorca 312 startline is located.  \nPlease ensure you have travel insurance since it is a requirement of booking with us. \nBIKE HIRE\nLocal bike hire is available however please let us know at the time of booking!
URL:https://raceconnections.com/event/mallorca-312-cycling-event-2019/
LOCATION:Mallorca\, Spain
CATEGORIES:Cycling
ATTACH;FMTTYPE=image/jpeg:https://raceconnections.com/wp-content/uploads/2018/08/Mallorca-312-Cycling-Event-2019-Race-Connections.jpg
ORGANIZER;CN="All Things Ride":MAILTO:enquiries@allthingsride.com
GEO:40.463667;-3.74922
END:VEVENT
END:VCALENDAR