BEGIN:VCALENDAR
VERSION:2.0
PRODID:-//Race CONNECTIONS - ECPv6.15.20//NONSGML v1.0//EN
CALSCALE:GREGORIAN
METHOD:PUBLISH
X-ORIGINAL-URL:https://raceconnections.com
X-WR-CALDESC:Events for Race CONNECTIONS
REFRESH-INTERVAL;VALUE=DURATION:PT1H
X-Robots-Tag:noindex
X-PUBLISHED-TTL:PT1H
BEGIN:VTIMEZONE
TZID:Europe/London
BEGIN:DAYLIGHT
TZOFFSETFROM:+0000
TZOFFSETTO:+0100
TZNAME:BST
DTSTART:20180325T010000
END:DAYLIGHT
BEGIN:STANDARD
TZOFFSETFROM:+0100
TZOFFSETTO:+0000
TZNAME:GMT
DTSTART:20181028T010000
END:STANDARD
BEGIN:DAYLIGHT
TZOFFSETFROM:+0000
TZOFFSETTO:+0100
TZNAME:BST
DTSTART:20190331T010000
END:DAYLIGHT
BEGIN:STANDARD
TZOFFSETFROM:+0100
TZOFFSETTO:+0000
TZNAME:GMT
DTSTART:20191027T010000
END:STANDARD
BEGIN:DAYLIGHT
TZOFFSETFROM:+0000
TZOFFSETTO:+0100
TZNAME:BST
DTSTART:20200329T010000
END:DAYLIGHT
BEGIN:STANDARD
TZOFFSETFROM:+0100
TZOFFSETTO:+0000
TZNAME:GMT
DTSTART:20201025T010000
END:STANDARD
END:VTIMEZONE
BEGIN:VEVENT
DTSTART;VALUE=DATE:20190901
DTEND;VALUE=DATE:20190902
DTSTAMP:20260420T045128
CREATED:20190807T193659Z
LAST-MODIFIED:20190807T193913Z
UID:10004976-1567296000-1567382399@raceconnections.com
SUMMARY:No Hassholes Left Behind
DESCRIPTION:No Hassholes Left Behind Trail Race takes place on Peat Mountain (Rabbit Blanket camp site) Lake Superior Provincial Park. The trail is a 10K  loop that will put the best trail runners to the test. Rated as difficult with over 1600 feet of elevation\, 100% single track with tricky roots\, rocks and hands on knees climbs that will require all your focus and skills. It’s a true test of mind and body. Racers can register for the 10K\, 20K\, 30K or the ominous 50K. \nFee(s) \n$80 (50K); $70 (30K); $60 (20K); $50 (10K) \nTo Register : https://www.nohassholes.com/
URL:https://raceconnections.com/event/no-hassholes-left-behind/
LOCATION:No Hassholes Left Behind\, Lake Superior Provincial Park Ontario Canada\, Canada
CATEGORIES:Running,Trail Running
ATTACH;FMTTYPE=image/jpeg:https://raceconnections.com/wp-content/uploads/2019/08/hassholes.jpeg
ORGANIZER;CN="Nohassholes":MAILTO:Nohassholes@outlook.com
GEO:47.7510684;-84.8359108
X-APPLE-STRUCTURED-LOCATION;VALUE=URI;X-ADDRESS=No Hassholes Left Behind Lake Superior Provincial Park Ontario Canada Canada;X-APPLE-RADIUS=500;X-TITLE=Lake Superior Provincial Park Ontario Canada:geo:-84.8359108,47.7510684
END:VEVENT
END:VCALENDAR