BEGIN:VCALENDAR
VERSION:2.0
PRODID:-//Race CONNECTIONS - ECPv6.15.20//NONSGML v1.0//EN
CALSCALE:GREGORIAN
METHOD:PUBLISH
X-ORIGINAL-URL:https://raceconnections.com
X-WR-CALDESC:Events for Race CONNECTIONS
REFRESH-INTERVAL;VALUE=DURATION:PT1H
X-Robots-Tag:noindex
X-PUBLISHED-TTL:PT1H
BEGIN:VTIMEZONE
TZID:Asia/Kuala_Lumpur
BEGIN:STANDARD
TZOFFSETFROM:+0800
TZOFFSETTO:+0800
TZNAME:+08
DTSTART:20170101T000000
END:STANDARD
END:VTIMEZONE
BEGIN:VEVENT
DTSTART;TZID=Asia/Kuala_Lumpur:20180204T070000
DTEND;TZID=Asia/Kuala_Lumpur:20180204T110000
DTSTAMP:20260425T160534
CREATED:20171213T044255Z
LAST-MODIFIED:20171213T044255Z
UID:10004615-1517727600-1517742000@raceconnections.com
SUMMARY:Kellies Castle Run 2018
DESCRIPTION:Kellies Castle Run 2018\nThe Kellies Castle Run 2018 will be held on 4th February 2018. \nDetails \nDate\n04 February 2018 (Sunday) – 04 February 2018 (Sunday) \nTime\n6:00 AM – 12:00 PM \nEvent Venue\nKELLIES CASTLE\, BATU GAJAH\, Perak. \nEvent Type\nCOMPETITIVE RUN \nRegistration Closing Date\n31 December 2017
URL:https://raceconnections.com/event/kellies-castle-run-2018/
LOCATION:Kellies Castle\, Batu Gajah\, Perak\, 31000\, Malaysia
CATEGORIES:Running
ATTACH;FMTTYPE=image/jpeg:https://raceconnections.com/wp-content/uploads/2017/12/Kellies-Castle-Run-2018-Race-Connections.jpg
GEO:4.4277831;101.0372376
END:VEVENT
END:VCALENDAR