BEGIN:VCALENDAR
VERSION:2.0
PRODID:-//Race CONNECTIONS - ECPv6.15.20//NONSGML v1.0//EN
CALSCALE:GREGORIAN
METHOD:PUBLISH
X-WR-CALNAME:Race CONNECTIONS
X-ORIGINAL-URL:https://raceconnections.com
X-WR-CALDESC:Events for Race CONNECTIONS
REFRESH-INTERVAL;VALUE=DURATION:PT1H
X-Robots-Tag:noindex
X-PUBLISHED-TTL:PT1H
BEGIN:VTIMEZONE
TZID:Asia/Ho_Chi_Minh
BEGIN:STANDARD
TZOFFSETFROM:+0700
TZOFFSETTO:+0700
TZNAME:+07
DTSTART:20180101T000000
END:STANDARD
END:VTIMEZONE
BEGIN:VEVENT
DTSTART;VALUE=DATE:20190119
DTEND;VALUE=DATE:20190120
DTSTAMP:20260422T005623
CREATED:20181128T030452Z
LAST-MODIFIED:20181128T030452Z
UID:10004791-1547856000-1547942399@raceconnections.com
SUMMARY:The Vietnam Trail Marathon 2019
DESCRIPTION:Vietnam Trail Marathon 2019\nWelcome to VTM\, the third race in the Vietnam Trail Series by Topas\, organisers of Vietnam Mountain Marathon and Vietnam Jungle Marathon. \nThis race takes place in Moc Chau\, an area famed for tea plantations and peach blossom orchards. The event will take place at the very height of beach blossom season\, creating a running spectacle like no other. \nTHE NEW ADVENTURE FROM TOPAS\nThe route is the result of our research deep into the hills. We have created a course which is almost entirely very runnable trail covering a huge variety of landscapes. \nYou will discover ethnic minority villages that no car can access hidden deep in rugged terrain. You will run through flower fields\, tea plantations and orchards. You will share the trails with local farmers\, horses\, donkeys\, buffalo\, wild pigs and more. \nRun Vietnam Trail Marathon and discover hidden trails\, venturing way beyond the trodden path. \nPractical Info \nRace pack collection\nTo pick up your own race kit\, you must present: \nYour Bib Number (informed by email and also available at participant list 1 week prior to the race date)\nYour ID/Passport\nYour signed indemnity. Download HERE.\nFor runners under 16 years old of 10km: Parents/guardians must sign the consent form on race pack collection. Download HERE. \nRun-Only runners\nPick up your race bib and the important information letter at: \n17 January 2019: 8:00AM – 7PM\, Topas Travel office in Hanoi – 1B\, Alley 12/2/5\, Dang Thai Mai\, Hanoi\n18 January 2019: 6PM – 9PM\, Muong Thanh Luxury Moc Chau Hotel (Hoang Quoc Viet Str.\, Moc Chau Farm Town\, Son La Province)\n*Authorized collection: For run-only runners only\, you may authorise a representative to collect it on your behalf. Your representative must present following documents during the collection: \n1) A copy of your AND your friend’s ID/Passport;\n2) A copy of your bib number email;\n3) Your signed indemnity. Download HERE;\n4) Letter of authorisation. Download HERE. \n3-day Package Runners\n3-day Package Runners will collect their race pack on January 18\, 8:30 – 11:30AM at the meeting point – Turtle Lake Brewing Company (Add: 105 Quang Khanh Str.\, Tay Ho Dist.\, Hanoi) – Google maps. \nSee more details to the 3-day package HERE. \n*All package runners must pick up the race kit yourselves. \nTerms and Conditions \nCancellation/withdrawal policy\nEntries cannot be transferred to subsequent years in any cases. \nFull refund – within 19 October 2018\nYou can get a full refund less $50 administration fee if you advise us by email anytime before 11:59PM (CET) 19 October 2018. \n50% refund – between 20 October 2018 and 19 December 2018\n50% refund of the total payment if you advise us by email between 20 October 2018 and 11:59PM (CET) 19 December 2018.\n*Note: for total payment less than $100\, you can get a full refund less $50 administration fee. \nNo refund – after 19 December 2018\nNo monetary refund if you advise us after 11:59PM (CET) 19 December 2018. \nIn the case that the event course is – in the opinion of the event organisers – unsafe (for example due to heavy rain\, high winds\, landslides\, “acts of god”)\, organisers may\, at their sole discretion\, attempt to re-route the course\, find an alternative shortened course or cancel the event. \nOrganisers also reserve the right to cancel the event for any other reason which may include but is not limited to terrorism and war. If the event is cancelled\, re-routed or shortened\, no refund or transfer to another event will be made. Due to the scale of the event and travel and commitment involved for competitors\, it is not practical to re-schedule the event to any other weekend. \nChanging distance\nTo change distance\, a $20 administration fee must be paid.\nParticipants who wish to change to a longer distance must also pay the extra amount for the new distance.\nNo refunds are available if changing to a shorter distance.\nNo changes to race distances after 19 December 2018 or sold out.\nChanging 21km-70km distances to 10km policy: $20 admin fee must be paid. Full refund of the price difference for changes before 19 October 2018. Refund 50% of the price difference for changes between 20 October to 19 December 2018. \nTransferring entry\nEntries may be transferred to another runner until 19 December 2018. An administration charge of $20 is payable.\nIf the new runner wishes to change distances\, the relevant fees will also be applicable.\n*To transfer your slot\, please advise new runner’s registration profile in this form and send it to info@vietnamtrailmarathon.com for assistance in payment of admin fee. \nAge restrictions\nEntrants to 42km and 70km must be at least 18 years old on race day.\n21km entrants must be at least 16 years old on race day.\n10km entrants must be at least 6 years old on race day.\nRace entrants up to 14 must run along with the guardian.\nFor runners up to 16 years old\, parents/guardians must sign the consent form on race pack collection.\nLittering policy\nIntentional littering will result in disqualification from the event. \nMandatory Equipment \nRecommended packing list\nSunblock\nSunglasses\nPoncho (no technical specifications\, but should be sufficient to keep you dry in case of a heavy downpour)\nWarm layer (light fleece/thermal) – it is often cool in Moc Chau in Jan.\nWarm hat\nCap\, visor or buff\nTrekking poles\nBlister kit \nRequired equipment for 10km\nWaterproof jacket\nWater min. 0.5 L (we do not provide plastic bottles at CP\, you must refill your own – Race Green!)\nThere are no other mandatory equipment for our 10km\, however we do recommend that you bring a water bottle/energy and that you take a look at the gear listed above. Running 10km on trails is harder than you think! \nRequired equipment for 21km – Half Marathon\nMandatory\nWater min. 1.0 L\nWaterproof jacket\nWhistle\nPersonal food/energy bars/gels etc. for the duration of the run! Expect to double the time compared with a flat race. \nOptional\nElectrolytes\nSmall money for buying energy (soft drinks/candy)  in local villages (20.000-100.000VND round 1-5USD)\nMobile phone – in a waterproof carrier/casing and be on roaming or on the local network Viettel\nBasic first aid \nRequired equipment for 42km – Marathon \nMandatory\nWater min. 1.5 L\nWaterproof jacket\nElectrolytes – you must ensure that you bring your own source of electrolytes /rehydration salts that will be sufficient for your personal needs during the duration of their run.\nPersonal food/energy bars/gels etc. for the duration of the run. Expect to double the time compared with a flat race.\nSmall money for buying energy (soft drinks/candy)  in local villages (20.000-100.000VND round 1-5USD)\nWhistle\nMobile phone – in a waterproof carrier/casing and be on roaming or on the local network Viettel\nBasic first aid: Small roll of compression bandage (elastic crepe bandage)\, alcohol wipes\, antiseptic cream and plasters.\nIf you are still racing 5.30PM and do not have a headlamp\, you will be cut off. It is thereby not mandatory for all\, but if you are not 100% sure\, you should bring one headlamp. Based on our last races\, 50% of all runners were still racing after 5:30PM. Do not count your normal time for a flat Marathon! \nRequired equipment for 70km – Ultra Marathon: \nMandatory\nWater min. 1.5 L\nWaterproof jacket\nStrong head lamp as it is very dark (at least 2 hours)\nElectrolytes – you must ensure that you bring your own source of electrolytes /rehydration salts that will be sufficient for your personal needs during the duration of their run.\nPersonal food/energy bars/gels etc. for the duration of the run.\nSmall money for buying energy (soft drinks/candy)  in local villages (20.000-100.000VND round 1-5USD)\nWhistle\nMobile phone – in a waterproof carrier/casing and be on roaming or on the local network Viettel\nBasic first aid: Small roll of compression bandage (elastic crepe bandage)\, alcohol wipes\, antiseptic cream and plasters.\nWe HIGHLY recommend to wear and to know how to use GPS\, the final route will be online at least 1 week prior the race.\nEveryone participating in Vietnam Trail Marathon must fill out and bring a copy of our indemnity form. \nAccommodations
URL:https://raceconnections.com/event/vietnam-trail-marathon-2019/
LOCATION:Moc Chau\, Viet Nam
CATEGORIES:Running
ATTACH;FMTTYPE=image/jpeg:https://raceconnections.com/wp-content/uploads/2018/11/The-Vietnam-Trail-Marathon-2019-Race-Connections.jpg
ORGANIZER;CN="Topas":MAILTO:info@vietnamtrailmarathon.com
GEO:14.058324;108.277199
END:VEVENT
END:VCALENDAR