BEGIN:VCALENDAR
VERSION:2.0
PRODID:-//Race CONNECTIONS - ECPv6.15.20//NONSGML v1.0//EN
CALSCALE:GREGORIAN
METHOD:PUBLISH
X-WR-CALNAME:Race CONNECTIONS
X-ORIGINAL-URL:https://raceconnections.com
X-WR-CALDESC:Events for Race CONNECTIONS
REFRESH-INTERVAL;VALUE=DURATION:PT1H
X-Robots-Tag:noindex
X-PUBLISHED-TTL:PT1H
BEGIN:VTIMEZONE
TZID:Asia/Kuala_Lumpur
BEGIN:STANDARD
TZOFFSETFROM:+0800
TZOFFSETTO:+0800
TZNAME:+08
DTSTART:20160101T000000
END:STANDARD
END:VTIMEZONE
BEGIN:VEVENT
DTSTART;VALUE=DATE:20171001
DTEND;VALUE=DATE:20171002
DTSTAMP:20260421T110847
CREATED:20170810T052154Z
LAST-MODIFIED:20171011T085754Z
UID:10002851-1506816000-1506902399@raceconnections.com
SUMMARY:Malaysia Marathon 2017
DESCRIPTION:Malaysia Marathon\nMalaysia is the first country outside China to hold the first international marathon event under the Belt and Road Marathon Series due to the strong ties between Malaysia and China.  \nMalaysia Marathon will be held at Dataran Merdeka\, Kuala Lumpur on October 1st this year.  \nWisdom Sports Malaysia\, Ministry of Tourism & Culture (MOTAC)\, Dewan Bandaraya Kuala Lumpur (DBKL) and Kementerian Belia dan Sukan (KBS) are the organisers of this marathon event\, with the support from Tourism Malaysia. \nCategories \nFull Marathon – 42km\nMen Open: 18 years and above\nWomen Open: 18 years and above\nMen Veteran: 40 years and above\nWomen Veteran: 40 years and above  \nEntry Fee\n120 MYR\n60 USD \nHalf Marathon – 21km\nMen Open: 18 years and above\nWomen Open: 18 years and above\nMen Veteran: 40 years and above\nWomen Veteran: 40 years and above \nEntry Fee\n110 MYR\n55 USD \n10km Run\nMen: 16 years and above\nWomen: 16 years and above \nEntry Fee\n95 MYR\n50 USD \nBelt & Road Unity Run – 8km\nMen\, Women\, Children 7 years and above \nHave a fun\, relaxing and meaningful run that brings together people from all walks of life and cultures. Come celebrate the spirit of TOGETHERNESS\, to meet\, share and make friends. Now is your time to be creative in your attire to celebrate TOGETHERNESS\, UNITY\, TEAMWORK\, PARTNERSHIP\, FRIENDSHIP\, COLLABORATION\, COOPERATION \n– Non-competitive\n– Scenic route overlooking Kuala Lumpur’s iconic attractions \nContest\nBest dressed/costume (3 winners) \nEntry requirement\nMinimum 5 participants per team (Corporate) \nAttire\n– All runners are encouraged to wear their own attire based on creativity\n– Attire must meet the theme of the run which signifies teamwork\, partnership\, friendship\, couple\, family\, company\, NGOs\, collaboration\, cooperation\n– Banners are allowed but subject to no conflict with title & main sponsors\, no racial\, political\, sexual or religious content \nEntry Fee\n120 MYR \nRace Details \nTiming System (Full Marathon\, Half Marathon\, and 10 KM Runners only)\nPlease ensure you receive a timing device attached to your number bib with your race kit and verify the details at the timing system booth. \nEntry Fees & Entitlement\nLocal rates are applicable to Malaysian residents including Malaysian citizens residing in Malaysia\, Malaysia permanent residents and expatriates & foreigners who hold a legal pass/permit residing in Malaysia. \nRegistration Closing Date\nFriday\, 1 September 2017 at 5.00pm or upon reaching participants registration limit. \nEnd of Competition\nThe Marathon will be officially over 6 hours 30 minutes from start time. \nLOCAL Rates\nLocal rate are applicable to Malaysian Residents including :\n– Malaysian citizens residing in Malaysia\n– Malaysia permanent residents\n– Expatriates & Foreigners who hold a legal pass/permit residing in Malaysia.
URL:https://raceconnections.com/event/malaysia-marathon-2017/
LOCATION:Dataran Merdeka\, Kuala Lumpur\, Jalan Raja\, City Centre\, Kuala Lumpur\,\, Wilayah Persekutuan\, 50050\, Malaysia
CATEGORIES:Running
ATTACH;FMTTYPE=image/jpeg:https://raceconnections.com/wp-content/uploads/2017/08/Malaysia-Marathon-2017.jpg
GEO:3.1494846;101.6943684
X-APPLE-STRUCTURED-LOCATION;VALUE=URI;X-ADDRESS=Dataran Merdeka Kuala Lumpur Jalan Raja City Centre Kuala Lumpur Wilayah Persekutuan 50050 Malaysia;X-APPLE-RADIUS=500;X-TITLE=Jalan Raja\, City Centre:geo:101.6943684,3.1494846
END:VEVENT
END:VCALENDAR