BEGIN:VCALENDAR
VERSION:2.0
PRODID:-//Race CONNECTIONS - ECPv6.15.20//NONSGML v1.0//EN
CALSCALE:GREGORIAN
METHOD:PUBLISH
X-ORIGINAL-URL:https://raceconnections.com
X-WR-CALDESC:Events for Race CONNECTIONS
REFRESH-INTERVAL;VALUE=DURATION:PT1H
X-Robots-Tag:noindex
X-PUBLISHED-TTL:PT1H
BEGIN:VTIMEZONE
TZID:America/Los_Angeles
BEGIN:DAYLIGHT
TZOFFSETFROM:-0800
TZOFFSETTO:-0700
TZNAME:PDT
DTSTART:20190310T100000
END:DAYLIGHT
BEGIN:STANDARD
TZOFFSETFROM:-0700
TZOFFSETTO:-0800
TZNAME:PST
DTSTART:20191103T090000
END:STANDARD
BEGIN:DAYLIGHT
TZOFFSETFROM:-0800
TZOFFSETTO:-0700
TZNAME:PDT
DTSTART:20200308T100000
END:DAYLIGHT
BEGIN:STANDARD
TZOFFSETFROM:-0700
TZOFFSETTO:-0800
TZNAME:PST
DTSTART:20201101T090000
END:STANDARD
BEGIN:DAYLIGHT
TZOFFSETFROM:-0800
TZOFFSETTO:-0700
TZNAME:PDT
DTSTART:20210314T100000
END:DAYLIGHT
BEGIN:STANDARD
TZOFFSETFROM:-0700
TZOFFSETTO:-0800
TZNAME:PST
DTSTART:20211107T090000
END:STANDARD
END:VTIMEZONE
BEGIN:VEVENT
DTSTART;VALUE=DATE:20201010
DTEND;VALUE=DATE:20201012
DTSTAMP:20260422T151311
CREATED:20200412T125105Z
LAST-MODIFIED:20200412T131711Z
UID:10005339-1602288000-1602460799@raceconnections.com
SUMMARY:Monterey Bay Triathlon
DESCRIPTION:Rated as one of the most attractive backdrops on the triathlon calendar\, the Monterey Bay Triathlon is a must for anyone looking for their next challenge. The event offers relay\, aqua bike\, duathlon and traditional triathlon disciplines so there is something here for everyone.
URL:https://raceconnections.com/event/monterey-bay-triathlon/
LOCATION:631 Ocean View Blvd\, 631 Ocean View Blvd.\, Pacific Grove\, San Jose\, CA\, CA 93950\, United States
CATEGORIES:Aquabike,Aquathlon,Children (up to 12),Duathlon,Junior (13-19),Triathlon
GEO:36.6261633;-121.9172137
X-APPLE-STRUCTURED-LOCATION;VALUE=URI;X-ADDRESS=631 Ocean View Blvd 631 Ocean View Blvd. Pacific Grove San Jose CA CA 93950 United States;X-APPLE-RADIUS=500;X-TITLE=631 Ocean View Blvd.\, Pacific Grove:geo:-121.9172137,36.6261633
END:VEVENT
END:VCALENDAR