BEGIN:VCALENDAR
VERSION:2.0
PRODID:-//Race CONNECTIONS - ECPv6.15.20//NONSGML v1.0//EN
CALSCALE:GREGORIAN
METHOD:PUBLISH
X-ORIGINAL-URL:https://raceconnections.com
X-WR-CALDESC:Events for Race CONNECTIONS
REFRESH-INTERVAL;VALUE=DURATION:PT1H
X-Robots-Tag:noindex
X-PUBLISHED-TTL:PT1H
BEGIN:VTIMEZONE
TZID:Europe/London
BEGIN:DAYLIGHT
TZOFFSETFROM:+0000
TZOFFSETTO:+0100
TZNAME:BST
DTSTART:20180325T010000
END:DAYLIGHT
BEGIN:STANDARD
TZOFFSETFROM:+0100
TZOFFSETTO:+0000
TZNAME:GMT
DTSTART:20181028T010000
END:STANDARD
BEGIN:DAYLIGHT
TZOFFSETFROM:+0000
TZOFFSETTO:+0100
TZNAME:BST
DTSTART:20190331T010000
END:DAYLIGHT
BEGIN:STANDARD
TZOFFSETFROM:+0100
TZOFFSETTO:+0000
TZNAME:GMT
DTSTART:20191027T010000
END:STANDARD
BEGIN:DAYLIGHT
TZOFFSETFROM:+0000
TZOFFSETTO:+0100
TZNAME:BST
DTSTART:20200329T010000
END:DAYLIGHT
BEGIN:STANDARD
TZOFFSETFROM:+0100
TZOFFSETTO:+0000
TZNAME:GMT
DTSTART:20201025T010000
END:STANDARD
END:VTIMEZONE
BEGIN:VEVENT
DTSTART;VALUE=DATE:20191019
DTEND;VALUE=DATE:20191020
DTSTAMP:20260422T220856
CREATED:20190806T175340Z
LAST-MODIFIED:20190806T175340Z
UID:10004975-1571443200-1571529599@raceconnections.com
SUMMARY:Ignite Swimrun
DESCRIPTION:What is SwimRun?\n\n\nParticipants traverse through a pre-marked course in nature alternating between running and swimming. Swim legs may consist of long open ocean swims\, rocky rivers or crystal-clear lakes while runs are on anything from roads\, fire trails\, technical rock scrambles or whatever nature puts in front of you. Athletes typically participate as a two-person team of men\, women or mixed but individual options are also available. \n​ \nAs a team\, you must remain within 10-meters of each other\, this is not a relay. You share the experience\, the fun\, the beauty and the suffering. \n​ \nRules permit swim aids such as hand paddles\, pull buoys\, even fins if you are so inclined but there are no transition areas and all gear must stay with you for the entire course so choose wisely. Some small safety gear is also required such as a water proof compression bandage and whistle. \n​ \nIn the end\, SwimRun is about taking on a challenge different from anything you’ve experienced before\, sharing that journey and crossing the finish line exhausted and excited about what you just accomplished. \n\n \n  \nMore info: https://www.igniteswimrun.com/virginia\nLong Course – Team  \nSwim – 6 legs: 3.20 mi \nRun – 9 legs: 14.80 mi \nTotal distance: 17.90 mi \n\nShort Course – Team  \nSwim – 3 legs: 1.2 mi \nRun – 4 legs: 5 mi \nTotal distance: 6.2 mi \n​ \nShort Course – Solo: “Spark” \nSwim – 3 legs: 1.2 mi \nRun – 4 legs: 5 mi \nTotal distance: 6.2 mi
URL:https://raceconnections.com/event/ignite-swimrun/
LOCATION:American Civil War Museum\, 500 Tredegar Street\, Richmond\, VA\, 23219\, United States
CATEGORIES:Running,Swimming
ATTACH;FMTTYPE=image/jpeg:https://raceconnections.com/wp-content/uploads/2019/08/60189158_615538255580010_5497073065273589760_o.jpg
GEO:37.5351069;-77.4449634
X-APPLE-STRUCTURED-LOCATION;VALUE=URI;X-ADDRESS=American Civil War Museum 500 Tredegar Street Richmond VA 23219 United States;X-APPLE-RADIUS=500;X-TITLE=500 Tredegar Street:geo:-77.4449634,37.5351069
END:VEVENT
END:VCALENDAR