BEGIN:VCALENDAR
VERSION:2.0
PRODID:-//Race CONNECTIONS - ECPv6.15.15//NONSGML v1.0//EN
CALSCALE:GREGORIAN
METHOD:PUBLISH
X-WR-CALNAME:Race CONNECTIONS
X-ORIGINAL-URL:https://raceconnections.com
X-WR-CALDESC:Events for Race CONNECTIONS
REFRESH-INTERVAL;VALUE=DURATION:PT1H
X-Robots-Tag:noindex
X-PUBLISHED-TTL:PT1H
BEGIN:VTIMEZONE
TZID:Europe/London
BEGIN:DAYLIGHT
TZOFFSETFROM:+0000
TZOFFSETTO:+0100
TZNAME:BST
DTSTART:20180325T010000
END:DAYLIGHT
BEGIN:STANDARD
TZOFFSETFROM:+0100
TZOFFSETTO:+0000
TZNAME:GMT
DTSTART:20181028T010000
END:STANDARD
BEGIN:DAYLIGHT
TZOFFSETFROM:+0000
TZOFFSETTO:+0100
TZNAME:BST
DTSTART:20190331T010000
END:DAYLIGHT
BEGIN:STANDARD
TZOFFSETFROM:+0100
TZOFFSETTO:+0000
TZNAME:GMT
DTSTART:20191027T010000
END:STANDARD
BEGIN:DAYLIGHT
TZOFFSETFROM:+0000
TZOFFSETTO:+0100
TZNAME:BST
DTSTART:20200329T010000
END:DAYLIGHT
BEGIN:STANDARD
TZOFFSETFROM:+0100
TZOFFSETTO:+0000
TZNAME:GMT
DTSTART:20201025T010000
END:STANDARD
END:VTIMEZONE
BEGIN:VEVENT
DTSTART;VALUE=DATE:20190721
DTEND;VALUE=DATE:20190722
DTSTAMP:20260211T130213
CREATED:20190509T104009Z
LAST-MODIFIED:20190509T104009Z
UID:10004878-1563667200-1563753599@raceconnections.com
SUMMARY:Tri Pakistan
DESCRIPTION:An Epic Triathlon in Pakistan. Experience the thrill of an adventure at the heart of the Karakoram. \n\n\n\n\nDISTANCES\n\n\n\n\n\n\n\n\n\n\n\nPro-distance Triathlon\n1500m swim \n30km off-road bike \n10km run \n£350 \n\n\n\n\nBOOK SPOT\n\n\n\n\n\n\nStandard distance Triathlon\n500m swim \n15km off-road bike \n5km run \n£300 \n\n\n\n\nBOOK SPOT\n\n\n\n\n\n\nBike / Run\nDuathlon\n5km run \n15km off-road bike \n5km run \n£300 \n\n\n\n\nBOOK SPOT\n\n\n\n\n\n\n10k run\n10km run \n£150 \n\n\n\n\nBOOK SPOT\n\n\nWhat’s included*\n\n3 nights accommodation at Borith Lake Hotel\n\n\nBreakfast\, Lunch and Dinner\nPickup and drop-off from Gilgit Airport to Borith Lake on arrival\nBicycle pickup and drop-off from Gilgit Airport to Borith Lake\nBicycle mechanic at Borith Lake\nActivities at the athletes Village\nPost-race massage\nRace T-shirt\nFinisher’s Medal\nRace day medical aid\n\n*please click here separately for the 10k run \n\n 
URL:https://raceconnections.com/event/tri-pakistan/
LOCATION:Borith Lake Hotel & Resort\, Borith Lake\, Hunza\, Northern Areas\, Pakistan-15750\, Karakoram\, Pakistan
ATTACH;FMTTYPE=image/jpeg:https://raceconnections.com/wp-content/uploads/2019/05/tripakistan.jpg
GEO:36.316666;74.6499863
X-APPLE-STRUCTURED-LOCATION;VALUE=URI;X-ADDRESS=Borith Lake Hotel & Resort Borith Lake Hunza Northern Areas Pakistan-15750 Karakoram Pakistan;X-APPLE-RADIUS=500;X-TITLE=Borith Lake\, Hunza\, Northern Areas\, Pakistan-15750:geo:74.6499863,36.316666
END:VEVENT
BEGIN:VEVENT
DTSTART;VALUE=DATE:20190719
DTEND;VALUE=DATE:20190723
DTSTAMP:20260211T130213
CREATED:20190514T112038Z
LAST-MODIFIED:20190514T144030Z
UID:10004884-1563494400-1563839999@raceconnections.com
SUMMARY:Tri-Pakistan
DESCRIPTION:An epic triathlon in the heart of Karakoram\, Borith Lake Hunza\, on 21st July 2019. \nTickets and info: http://www.tripakistan.com
URL:https://raceconnections.com/event/tri-pakistan-2/
LOCATION:Borith Lake Hotel & Resort\, Borith Lake\, Hunza\, Northern Areas\, Pakistan-15750\, Karakoram\, Pakistan
CATEGORIES:Cycling,Open Water Swimming,Running,Swimming,Trail Triathlon,Triathlon
ATTACH;FMTTYPE=image/png:https://raceconnections.com/wp-content/uploads/2019/05/Poster-2-with-CORE-HORIZONTAL.png
GEO:36.316666;74.6499863
X-APPLE-STRUCTURED-LOCATION;VALUE=URI;X-ADDRESS=Borith Lake Hotel & Resort Borith Lake Hunza Northern Areas Pakistan-15750 Karakoram Pakistan;X-APPLE-RADIUS=500;X-TITLE=Borith Lake\, Hunza\, Northern Areas\, Pakistan-15750:geo:74.6499863,36.316666
END:VEVENT
END:VCALENDAR