BEGIN:VCALENDAR
VERSION:2.0
PRODID:-//Race CONNECTIONS - ECPv6.15.20//NONSGML v1.0//EN
CALSCALE:GREGORIAN
METHOD:PUBLISH
X-ORIGINAL-URL:https://raceconnections.com
X-WR-CALDESC:Events for Race CONNECTIONS
REFRESH-INTERVAL;VALUE=DURATION:PT1H
X-Robots-Tag:noindex
X-PUBLISHED-TTL:PT1H
BEGIN:VTIMEZONE
TZID:Europe/London
BEGIN:DAYLIGHT
TZOFFSETFROM:+0000
TZOFFSETTO:+0100
TZNAME:BST
DTSTART:20180325T010000
END:DAYLIGHT
BEGIN:STANDARD
TZOFFSETFROM:+0100
TZOFFSETTO:+0000
TZNAME:GMT
DTSTART:20181028T010000
END:STANDARD
BEGIN:DAYLIGHT
TZOFFSETFROM:+0000
TZOFFSETTO:+0100
TZNAME:BST
DTSTART:20190331T010000
END:DAYLIGHT
BEGIN:STANDARD
TZOFFSETFROM:+0100
TZOFFSETTO:+0000
TZNAME:GMT
DTSTART:20191027T010000
END:STANDARD
BEGIN:DAYLIGHT
TZOFFSETFROM:+0000
TZOFFSETTO:+0100
TZNAME:BST
DTSTART:20200329T010000
END:DAYLIGHT
BEGIN:STANDARD
TZOFFSETFROM:+0100
TZOFFSETTO:+0000
TZNAME:GMT
DTSTART:20201025T010000
END:STANDARD
END:VTIMEZONE
BEGIN:VEVENT
DTSTART;VALUE=DATE:20190831
DTEND;VALUE=DATE:20190901
DTSTAMP:20260421T184512
CREATED:20181112T165244Z
LAST-MODIFIED:20181112T165244Z
UID:10004785-1567209600-1567295999@raceconnections.com
SUMMARY:Gower Triathlon 2019
DESCRIPTION:This Olympic distance event takes place in the stunning location of Port Eynon\, on the far South tip of the Gower Peninsula within an Area of Outstanding Natural Beauty.  \nThe beautifully maintained waters and shore of the Blue Flag beach are host to the 1.5k swim and parts of the 10k run\, whilst the 37k bike course gives a relaxing feel to the route!  \nThis is a great training event for any big races you have during the Summer. But if you fancy something shorter\, there’s the Fancy Dress Tri on the same day
URL:https://raceconnections.com/event/gower-triathlon-2019/
LOCATION:Gower\, Swansea\, Wales\, United Kingdom
CATEGORIES:Triathlon
ATTACH;FMTTYPE=image/jpeg:https://raceconnections.com/wp-content/uploads/2018/11/2W2A3474.jpg
ORGANIZER;CN="Activity Wales Events":MAILTO:info@activitywalesevents.com
GEO:51.62144;-3.943646
X-APPLE-STRUCTURED-LOCATION;VALUE=URI;X-ADDRESS=Gower Swansea Wales United Kingdom;X-APPLE-RADIUS=500;X-TITLE=Swansea:geo:-3.943646,51.62144
END:VEVENT
END:VCALENDAR