BEGIN:VCALENDAR
VERSION:2.0
PRODID:-//Race CONNECTIONS - ECPv6.15.20//NONSGML v1.0//EN
CALSCALE:GREGORIAN
METHOD:PUBLISH
X-WR-CALNAME:Race CONNECTIONS
X-ORIGINAL-URL:https://raceconnections.com
X-WR-CALDESC:Events for Race CONNECTIONS
REFRESH-INTERVAL;VALUE=DURATION:PT1H
X-Robots-Tag:noindex
X-PUBLISHED-TTL:PT1H
BEGIN:VTIMEZONE
TZID:Europe/London
BEGIN:DAYLIGHT
TZOFFSETFROM:+0000
TZOFFSETTO:+0100
TZNAME:BST
DTSTART:20220327T010000
END:DAYLIGHT
BEGIN:STANDARD
TZOFFSETFROM:+0100
TZOFFSETTO:+0000
TZNAME:GMT
DTSTART:20221030T010000
END:STANDARD
BEGIN:DAYLIGHT
TZOFFSETFROM:+0000
TZOFFSETTO:+0100
TZNAME:BST
DTSTART:20230326T010000
END:DAYLIGHT
BEGIN:STANDARD
TZOFFSETFROM:+0100
TZOFFSETTO:+0000
TZNAME:GMT
DTSTART:20231029T010000
END:STANDARD
BEGIN:DAYLIGHT
TZOFFSETFROM:+0000
TZOFFSETTO:+0100
TZNAME:BST
DTSTART:20240331T010000
END:DAYLIGHT
BEGIN:STANDARD
TZOFFSETFROM:+0100
TZOFFSETTO:+0000
TZNAME:GMT
DTSTART:20241027T010000
END:STANDARD
END:VTIMEZONE
BEGIN:VEVENT
DTSTART;TZID=Europe/London:20231014T000000
DTEND;TZID=Europe/London:20231015T235959
DTSTAMP:20260422T083816
CREATED:20230722T133941Z
LAST-MODIFIED:20230721T134806Z
UID:10006785-1697241600-1697414399@raceconnections.com
SUMMARY:Commando Obstacle Festival
DESCRIPTION:Hever Castle Commando Race is the only event that can recreate the mud\, sweat and pain of modern-day Royal Marines Commando training. Have you got what it takes? Test yourself across a 3k\, 6k or 12k course\, taking on some of the toughest obstacles straight out of the Commando test book. \n\n\n\nVENUE\n\n\n\nHever Castle Commando Race. Be transported into the military world from the moment you step into our Commando base camp\, complete with Field Kitchen. \n\n\n\nFortified with crenellations\, a moat\, and portcullis\, this 400-year-old defensive structure and British icon creates the perfect backdrop for Commando. \n\n\n\nHever Castle represents challenges\, heritage\, success\, and military excellence. \n\n\n\nCheck out our other Hever Castle Race Series Events \n\n\n\n\nFestival Of Endurance At Hever Castle\n\n\n\nMultisport Event Kent – Hever Castle Multisport Weekend\n\n\n\n\nRACES\n\n\n\nHever Castle Commando Race is the only event that can recreate the mud\, sweat and pain of modern-day Royal Marines Commando training. Choose between our mini Commando\, 3K\, 6K or 12K for a day that tests your courage\, determination and unity. All finishers receive a medal to prove that they’ve conquered the course like a true Commando. Photographers will be positioned around the course\, at the finish line and in the event village to capture you in action. \n\n\n\nOBSTACLES\n\n\n\nThink mud runs\, epic cargo climbs\, tunnels and tubes\, stretcher manoeuvres and river crosses\, slippery slopes and dramatic drops\, planks and pools.
URL:https://raceconnections.com/event/commando-obstacle-festival/
LOCATION:Hever Rd\, Hever\, Edenbridge TN8 7NG\, United Kingdom\, United Kingdom
CATEGORIES:Special
ATTACH;FMTTYPE=image/jpeg:https://raceconnections.com/wp-content/uploads/2023/07/Hever-Castle-Obstacle.jpg
END:VEVENT
BEGIN:VEVENT
DTSTART;TZID=Europe/London:20230709T000000
DTEND;TZID=Europe/London:20230709T235959
DTSTAMP:20260422T083816
CREATED:20230308T135501Z
LAST-MODIFIED:20230308T135504Z
UID:10006740-1688860800-1688947199@raceconnections.com
SUMMARY:Hever Castle Festival Of Endurance 2023
DESCRIPTION:TRIATHLON EVENTS\n\n\n\nDATE:\n\n\n\n\n9 July 2023\n\n\n\n\nVENUE\n\n\n\n\nHever Rd\, Hever\, Edenbridge TN8 7NG\, United Kingdom\n\n\n\n\nJoin us for this Festival Of Endurance Event at the historical Hever Castle Kent. \n\n\n\nThe childhood home of Anne Boleyn\, Hever Castle\, is a stunning location for a race. Swim from The Loggia with its Nymph’s Fountain inspired by the Trevi Fountain in Rome. \n\n\n\nRun through stunning castle grounds and surrounding villages\, and cycle through the Ashdown Forest and South Downs. \n\n\n\nThroughout the weekend\, athletes and spectators will be able to enjoy a fun-packed festival village featuring live music\, shopping\, food and drink\, children’s entertainment\, yoga and more. \n\n\n\nOur 2022 Festival Of Endurance event was a huge success; we expect 2023 to be even better! \n\n\n\nRACES\n\n\n\nFestival Of Endurance returns in 2023 for a day full of sporting excitement – highlights include our full iron distance\, The Bastion and half iron distance\, The Gauntlet and our 50 Miler ultra run. \n\n\n\nWe also have long-distance duathlons\, aquathlons\, aqua bikes\, and running and swimming races. \n\n\n\nThis year\, we have added new distances to the Festival Of Endurance program: 34 Miler Ultra Run\, 50 Miler Ultra Run Relay\, Marathon Run Relay\, 10K Swim Relay and the 5K Swim! \n\n\n\nWe hope you will be one of the first to participate in these exciting events! \n\n\n\nGOVERNING BODY\n\n\n\nWe are delighted to announce that British Triathlon governs this event. If you compete in a triathlon or multisport event\, you will need a valid membership of day licence. \n\n\n\nCHARITY\n\n\n\nWe are delighted to have partnered with Macmillan Cancer Support for another year after the success of 2022. They do whatever it takes to give people affected by cancer the support they need. Macmillan is going all out to support people with cancer. But they can’t do it without you. \n\n\n\nYou can support Macmillan by signing up for a charity place and committing to fundraising or making a donation via the registration form.
URL:https://raceconnections.com/event/hever-castle-festival-of-endurance-2023/
LOCATION:Hever Rd\, Hever\, Edenbridge TN8 7NG\, United Kingdom\, United Kingdom
CATEGORIES:Cycling,Running,Swimming,Triathlon
ATTACH;FMTTYPE=image/jpeg:https://raceconnections.com/wp-content/uploads/2023/03/Hever-Castle-Festival-Of-Endurance-July-2023-e1683433985841.jpg
ORGANIZER;CN="The Castle Triathlon Series":MAILTO:support@castletriathlonseries.co.uk
END:VEVENT
END:VCALENDAR