BEGIN:VCALENDAR
VERSION:2.0
PRODID:-//Race CONNECTIONS - ECPv6.15.20//NONSGML v1.0//EN
CALSCALE:GREGORIAN
METHOD:PUBLISH
X-WR-CALNAME:Race CONNECTIONS
X-ORIGINAL-URL:https://raceconnections.com
X-WR-CALDESC:Events for Race CONNECTIONS
REFRESH-INTERVAL;VALUE=DURATION:PT1H
X-Robots-Tag:noindex
X-PUBLISHED-TTL:PT1H
BEGIN:VTIMEZONE
TZID:Europe/London
BEGIN:DAYLIGHT
TZOFFSETFROM:+0000
TZOFFSETTO:+0100
TZNAME:BST
DTSTART:20190331T010000
END:DAYLIGHT
BEGIN:STANDARD
TZOFFSETFROM:+0100
TZOFFSETTO:+0000
TZNAME:GMT
DTSTART:20191027T010000
END:STANDARD
BEGIN:DAYLIGHT
TZOFFSETFROM:+0000
TZOFFSETTO:+0100
TZNAME:BST
DTSTART:20200329T010000
END:DAYLIGHT
BEGIN:STANDARD
TZOFFSETFROM:+0100
TZOFFSETTO:+0000
TZNAME:GMT
DTSTART:20201025T010000
END:STANDARD
BEGIN:DAYLIGHT
TZOFFSETFROM:+0000
TZOFFSETTO:+0100
TZNAME:BST
DTSTART:20210328T010000
END:DAYLIGHT
BEGIN:STANDARD
TZOFFSETFROM:+0100
TZOFFSETTO:+0000
TZNAME:GMT
DTSTART:20211031T010000
END:STANDARD
END:VTIMEZONE
BEGIN:VEVENT
DTSTART;TZID=Europe/London:20200405T063000
DTEND;TZID=Europe/London:20200405T110000
DTSTAMP:20260420T105125
CREATED:20191011T050938Z
LAST-MODIFIED:20191011T050938Z
UID:10005062-1586068200-1586084400@raceconnections.com
SUMMARY:Malaysia Korea Unity Run 2020
DESCRIPTION:Run in the spirit of unity! Join Malaysia and Korea as they form more friendship bonds and in a friendly run. \nGrab your ticket now! \nEarly Bird: From 26th Sep 2019 – 30th Oct 2019\nNormal Price: From 31st Oct 2019 – 5th Mar 2020 \n**Kids age from 6years old to 12years old \nDate : 5th Apr 2020 (Sunday)\nTime 06:30 AM (GMT +08:00)\nVenue : IOI City Mall\, Putrajaya\nDistance: 5KM \nRegistration End : 5th Mar 2020 (GMT +08:00) \nhttps://www.jomrun.com/event/Malaysia-Korea-Unity-Run \nHurry up join now: \nThe JomRun App way – \n1. Download JomRun from Play Store / App Store\nAndroid app: http://bit.ly/jomrun\nIphone app: http://bit.ly/jomrunios\n2. Sign up a JomRun account\n3. Tab on ˜Event”\n4. Search for the event ” Unity ”\n5. Fill in participant detail and pay online\nYou will find your E-ticket in JomRun app!
URL:https://raceconnections.com/event/malaysia-korea-unity-run-2020/
LOCATION:IOI City Mall\, Putrajaya\, Putrajaya\, Malaysia
CATEGORIES:5K Run,Running,Walk
ATTACH;FMTTYPE=image/jpeg:https://raceconnections.com/wp-content/uploads/2019/10/Jom-Run-App.jpg
GEO:2.926361;101.696445
END:VEVENT
END:VCALENDAR