BEGIN:VCALENDAR
VERSION:2.0
PRODID:-//Race CONNECTIONS - ECPv6.15.20//NONSGML v1.0//EN
CALSCALE:GREGORIAN
METHOD:PUBLISH
X-ORIGINAL-URL:https://raceconnections.com
X-WR-CALDESC:Events for Race CONNECTIONS
REFRESH-INTERVAL;VALUE=DURATION:PT1H
X-Robots-Tag:noindex
X-PUBLISHED-TTL:PT1H
BEGIN:VTIMEZONE
TZID:Africa/Lusaka
BEGIN:STANDARD
TZOFFSETFROM:+0200
TZOFFSETTO:+0200
TZNAME:CAT
DTSTART:20160101T000000
END:STANDARD
END:VTIMEZONE
BEGIN:VEVENT
DTSTART;VALUE=DATE:20171001
DTEND;VALUE=DATE:20171002
DTSTAMP:20260423T115243
CREATED:20170814T032741Z
LAST-MODIFIED:20171011T042334Z
UID:10002853-1506816000-1506902399@raceconnections.com
SUMMARY:Kenya Wildlife Marathon - Half Marathon - 50K & Fun Run
DESCRIPTION:The Kenya Wildlife Marathon and Half-Marathon and 50K will take place at the 7th of October\, 2017. Kenya depicts an absolutely perfect location for this new marathon tradition.  \nThe race course is a variation of the Lukenya Trail Run course but with different distances i.e 10km trail run\, 21km trail run and 42km trail run. Join us and combine the majesty of the ancient race with the beauty of Kenya’s natural resources. Encompassing hundreds of acres of grasslands\, rocky hills and river-beds\, the Lukenya Sanctuary is just that\, a slice of natural paradise. Teeming with Zebras\,Wildebeests\, Giraffes and more\, humans remain the distinct minority at this veritably unspoiled reserve.  \nMatch this with the reliably beautiful weather Kenya enjoys in lying by the equator\, and it becomes quite clear why we chose Lukenya Hills as the setting for our Safari Marathon.  \nJoin us as we launch a thrilling new Marathon tradition\, combining the majesty of the ancient race with the beauty of Kenya’s natural treasures.
URL:https://raceconnections.com/event/kenya-wildlife-marathon-half-marathon-50k/
LOCATION:Kenya Maanzoni Lodge Lukenya\, Lukenya\,\, Kenya Maanzoni Lodge Lukenya\,\, 00204\, Kenya
CATEGORIES:Running
ATTACH;FMTTYPE=image/jpeg:https://raceconnections.com/wp-content/uploads/2017/08/Kenya-Wildlife-Marathon-Half-Marathon-50K-Fun-Run-Race-Connections.jpg
ORGANIZER;CN="The Kenya Wildlife Marathon":MAILTO:sue@amazingtravel.com
GEO:-1.5058612;37.0969301
X-APPLE-STRUCTURED-LOCATION;VALUE=URI;X-ADDRESS=Kenya Maanzoni Lodge Lukenya Lukenya Kenya Maanzoni Lodge Lukenya 00204 Kenya;X-APPLE-RADIUS=500;X-TITLE=Lukenya\,:geo:37.0969301,-1.5058612
END:VEVENT
END:VCALENDAR