BEGIN:VCALENDAR
VERSION:2.0
PRODID:-//Race CONNECTIONS - ECPv6.15.20//NONSGML v1.0//EN
CALSCALE:GREGORIAN
METHOD:PUBLISH
X-WR-CALNAME:Race CONNECTIONS
X-ORIGINAL-URL:https://raceconnections.com
X-WR-CALDESC:Events for Race CONNECTIONS
REFRESH-INTERVAL;VALUE=DURATION:PT1H
X-Robots-Tag:noindex
X-PUBLISHED-TTL:PT1H
BEGIN:VTIMEZONE
TZID:Europe/London
BEGIN:DAYLIGHT
TZOFFSETFROM:+0000
TZOFFSETTO:+0100
TZNAME:BST
DTSTART:20190331T010000
END:DAYLIGHT
BEGIN:STANDARD
TZOFFSETFROM:+0100
TZOFFSETTO:+0000
TZNAME:GMT
DTSTART:20191027T010000
END:STANDARD
BEGIN:DAYLIGHT
TZOFFSETFROM:+0000
TZOFFSETTO:+0100
TZNAME:BST
DTSTART:20200329T010000
END:DAYLIGHT
BEGIN:STANDARD
TZOFFSETFROM:+0100
TZOFFSETTO:+0000
TZNAME:GMT
DTSTART:20201025T010000
END:STANDARD
BEGIN:DAYLIGHT
TZOFFSETFROM:+0000
TZOFFSETTO:+0100
TZNAME:BST
DTSTART:20210328T010000
END:DAYLIGHT
BEGIN:STANDARD
TZOFFSETFROM:+0100
TZOFFSETTO:+0000
TZNAME:GMT
DTSTART:20211031T010000
END:STANDARD
BEGIN:DAYLIGHT
TZOFFSETFROM:+0000
TZOFFSETTO:+0100
TZNAME:BST
DTSTART:20220327T010000
END:DAYLIGHT
BEGIN:STANDARD
TZOFFSETFROM:+0100
TZOFFSETTO:+0000
TZNAME:GMT
DTSTART:20221030T010000
END:STANDARD
BEGIN:DAYLIGHT
TZOFFSETFROM:+0000
TZOFFSETTO:+0100
TZNAME:BST
DTSTART:20230326T010000
END:DAYLIGHT
BEGIN:STANDARD
TZOFFSETFROM:+0100
TZOFFSETTO:+0000
TZNAME:GMT
DTSTART:20231029T010000
END:STANDARD
BEGIN:DAYLIGHT
TZOFFSETFROM:+0000
TZOFFSETTO:+0100
TZNAME:BST
DTSTART:20240331T010000
END:DAYLIGHT
BEGIN:STANDARD
TZOFFSETFROM:+0100
TZOFFSETTO:+0000
TZNAME:GMT
DTSTART:20241027T010000
END:STANDARD
BEGIN:DAYLIGHT
TZOFFSETFROM:+0000
TZOFFSETTO:+0100
TZNAME:BST
DTSTART:20250330T010000
END:DAYLIGHT
BEGIN:STANDARD
TZOFFSETFROM:+0100
TZOFFSETTO:+0000
TZNAME:GMT
DTSTART:20251026T010000
END:STANDARD
BEGIN:DAYLIGHT
TZOFFSETFROM:+0000
TZOFFSETTO:+0100
TZNAME:BST
DTSTART:20260329T010000
END:DAYLIGHT
BEGIN:STANDARD
TZOFFSETFROM:+0100
TZOFFSETTO:+0000
TZNAME:GMT
DTSTART:20261025T010000
END:STANDARD
END:VTIMEZONE
BEGIN:VEVENT
DTSTART;TZID=Europe/London:20250706T110000
DTEND;TZID=Europe/London:20250706T170000
DTSTAMP:20260419T160941
CREATED:20250327T083015Z
LAST-MODIFIED:20250327T083019Z
UID:10006886-1751799600-1751821200@raceconnections.com
SUMMARY:Parallel Windsor
DESCRIPTION:Parallel Windsor is a Festival of Inclusivity with Challenge Events for all ages\, health conditions and abilities. Held in the grounds of the majestic Windsor Great Park. Choose from the: 100m\, 1km\, 5km\, 10km or our innovative SuperSensory. ‘Start together\, finish whenever!’ is our motto. Everyone who starts receives a medal\, t-shirt and goody bag. Assistance animals and mobility aids are welcome. Parallel Windsor is bursting with accessible family-friendly activities and entertainment. Expect to find: live music\, inclusive sport\, comedy\, dance\, accessible climbing wall\, cookery\, animal kingdom\, storytelling\, sensory sport\, food trucks and a picnic area. There is something for everyone. As a fully-accessible event\, we have: accessible toilets including RevoLoos\, onsite parking\, quiet and sensory areas\, medical support\, accessible shuttles to/from the stations\, plus a wonderful team of volunteers on-hand to help. \nFestival only tickets\, Challenge event tickets\, and Carer tickets are all available to purchase from our website: parallellifestyle.com 
URL:https://raceconnections.com/event/parallel-windsor-2/
LOCATION:Windsor Great Park\, Windsor\, SL4 2HT\, United Kingdom
CATEGORIES:10K Run,5K Run,Half Marathon,Marathon,Running
ATTACH;FMTTYPE=image/jpeg:https://raceconnections.com/wp-content/uploads/2025/03/559C6600-AngeH_HIGHRES.jpg
ORGANIZER;CN="Parallel Lifestyle":MAILTO:contact@parallellifestyle.com
GEO:51.4443604;-0.6308131
END:VEVENT
BEGIN:VEVENT
DTSTART;TZID=Europe/London:20200628T100000
DTEND;TZID=Europe/London:20200628T160000
DTSTAMP:20260419T160941
CREATED:20190812T055425Z
LAST-MODIFIED:20190812T062050Z
UID:10004983-1593338400-1593360000@raceconnections.com
SUMMARY:Parallel Windsor
DESCRIPTION:Our flagship award-winning multi-distance disability-led mass participation event with a festival of inclusivity. \nWelcoming all ages and abilities; distances include 10k\, 5k\, 1k\, 100m and our very own Super Sensory 1K. There are no cut off times and our slogan of ‘Start Together\, Finish Whenever’ epitomises the spirit of the event event..
URL:https://raceconnections.com/event/parallel-windsor/
LOCATION:Windsor Great Park\, Windsor\, SL4 2HT\, United Kingdom
CATEGORIES:Children (up to 12),Junior (13-19),Running,Special,Walk
ATTACH;FMTTYPE=image/jpeg:https://raceconnections.com/wp-content/uploads/2019/08/MG_2216.jpg
ORGANIZER;CN="Parallel Events":MAILTO:andrew@parallellifestyle.com
GEO:51.4443604;-0.6308131
END:VEVENT
END:VCALENDAR